BEGIN:VCALENDAR
VERSION:2.0
PRODID:-//The Turning Point of Lansing - ECPv6.15.20//NONSGML v1.0//EN
CALSCALE:GREGORIAN
METHOD:PUBLISH
X-WR-CALNAME:The Turning Point of Lansing
X-ORIGINAL-URL:https://theturningpointoflansing.org
X-WR-CALDESC:Events for The Turning Point of Lansing
REFRESH-INTERVAL;VALUE=DURATION:PT1H
X-Robots-Tag:noindex
X-PUBLISHED-TTL:PT1H
BEGIN:VTIMEZONE
TZID:America/Detroit
BEGIN:DAYLIGHT
TZOFFSETFROM:-0500
TZOFFSETTO:-0400
TZNAME:EDT
DTSTART:20160313T070000
END:DAYLIGHT
BEGIN:STANDARD
TZOFFSETFROM:-0400
TZOFFSETTO:-0500
TZNAME:EST
DTSTART:20161106T060000
END:STANDARD
BEGIN:DAYLIGHT
TZOFFSETFROM:-0500
TZOFFSETTO:-0400
TZNAME:EDT
DTSTART:20170312T070000
END:DAYLIGHT
BEGIN:STANDARD
TZOFFSETFROM:-0400
TZOFFSETTO:-0500
TZNAME:EST
DTSTART:20171105T060000
END:STANDARD
BEGIN:DAYLIGHT
TZOFFSETFROM:-0500
TZOFFSETTO:-0400
TZNAME:EDT
DTSTART:20180311T070000
END:DAYLIGHT
BEGIN:STANDARD
TZOFFSETFROM:-0400
TZOFFSETTO:-0500
TZNAME:EST
DTSTART:20181104T060000
END:STANDARD
END:VTIMEZONE
BEGIN:VEVENT
DTSTART;TZID=America/Detroit:20170325T070000
DTEND;TZID=America/Detroit:20170325T090000
DTSTAMP:20260423T010928
CREATED:20161228T043238Z
LAST-MODIFIED:20161228T043238Z
UID:10000187-1490425200-1490432400@theturningpointoflansing.org
SUMMARY:Food Distribution Community Service
DESCRIPTION:
URL:https://theturningpointoflansing.org/upcoming/food-distribution-community-service/
LOCATION:Greater Lansing Food Bank\, Mint Road 2116\, Lansing\, MI\, 48906\, United States
GEO:42.7666232;-84.5798127
X-APPLE-STRUCTURED-LOCATION;VALUE=URI;X-ADDRESS=Greater Lansing Food Bank Mint Road 2116 Lansing MI 48906 United States;X-APPLE-RADIUS=500;X-TITLE=Mint Road 2116:geo:-84.5798127,42.7666232
END:VEVENT
BEGIN:VEVENT
DTSTART;TZID=America/Detroit:20170325T070000
DTEND;TZID=America/Detroit:20170325T090000
DTSTAMP:20260423T010928
CREATED:20161228T043238Z
LAST-MODIFIED:20161228T043238Z
UID:10000385-1490425200-1490432400@theturningpointoflansing.org
SUMMARY:Food Distribution Community Service
DESCRIPTION:
URL:https://theturningpointoflansing.org/upcoming/food-distribution-community-service-2/
LOCATION:Greater Lansing Food Bank\, Mint Road 2116\, Lansing\, MI\, 48906\, United States
GEO:42.7666232;-84.5798127
X-APPLE-STRUCTURED-LOCATION;VALUE=URI;X-ADDRESS=Greater Lansing Food Bank Mint Road 2116 Lansing MI 48906 United States;X-APPLE-RADIUS=500;X-TITLE=Mint Road 2116:geo:-84.5798127,42.7666232
END:VEVENT
BEGIN:VEVENT
DTSTART;TZID=America/Detroit:20170325T070000
DTEND;TZID=America/Detroit:20170325T090000
DTSTAMP:20260423T010928
CREATED:20161228T043238Z
LAST-MODIFIED:20161228T043238Z
UID:10000589-1490425200-1490432400@theturningpointoflansing.org
SUMMARY:Food Distribution Community Service
DESCRIPTION:
URL:https://theturningpointoflansing.org/upcoming/food-distribution-community-service-3/
LOCATION:Greater Lansing Food Bank\, Mint Road 2116\, Lansing\, MI\, 48906\, United States
GEO:42.7666232;-84.5798127
X-APPLE-STRUCTURED-LOCATION;VALUE=URI;X-ADDRESS=Greater Lansing Food Bank Mint Road 2116 Lansing MI 48906 United States;X-APPLE-RADIUS=500;X-TITLE=Mint Road 2116:geo:-84.5798127,42.7666232
END:VEVENT
BEGIN:VEVENT
DTSTART;TZID=America/Detroit:20170326T120000
DTEND;TZID=America/Detroit:20170326T140000
DTSTAMP:20260423T010928
CREATED:20161103T200802Z
LAST-MODIFIED:20161103T200802Z
UID:10000178-1490529600-1490536800@theturningpointoflansing.org
SUMMARY:Recreational Session
DESCRIPTION:
URL:https://theturningpointoflansing.org/upcoming/recreational-session-2/
LOCATION:Alfreda Schmidt Southside Community Center\, Wise Road 5825\, Lansing\, MI\, 48911\, United States
CATEGORIES:Recreational Session
GEO:42.6726017;-84.5921649
X-APPLE-STRUCTURED-LOCATION;VALUE=URI;X-ADDRESS=Alfreda Schmidt Southside Community Center Wise Road 5825 Lansing MI 48911 United States;X-APPLE-RADIUS=500;X-TITLE=Wise Road 5825:geo:-84.5921649,42.6726017
END:VEVENT
BEGIN:VEVENT
DTSTART;TZID=America/Detroit:20170326T120000
DTEND;TZID=America/Detroit:20170326T140000
DTSTAMP:20260423T010928
CREATED:20161103T200802Z
LAST-MODIFIED:20161103T200802Z
UID:10000376-1490529600-1490536800@theturningpointoflansing.org
SUMMARY:Recreational Session
DESCRIPTION:
URL:https://theturningpointoflansing.org/upcoming/recreational-session-2-2/
LOCATION:Alfreda Schmidt Southside Community Center\, Wise Road 5825\, Lansing\, MI\, 48911\, United States
CATEGORIES:Recreational Session
GEO:42.6726017;-84.5921649
X-APPLE-STRUCTURED-LOCATION;VALUE=URI;X-ADDRESS=Alfreda Schmidt Southside Community Center Wise Road 5825 Lansing MI 48911 United States;X-APPLE-RADIUS=500;X-TITLE=Wise Road 5825:geo:-84.5921649,42.6726017
END:VEVENT
BEGIN:VEVENT
DTSTART;TZID=America/Detroit:20170326T120000
DTEND;TZID=America/Detroit:20170326T140000
DTSTAMP:20260423T010928
CREATED:20161103T200802Z
LAST-MODIFIED:20161103T200802Z
UID:10000579-1490529600-1490536800@theturningpointoflansing.org
SUMMARY:Recreational Session
DESCRIPTION:
URL:https://theturningpointoflansing.org/upcoming/recreational-session-2-3/
LOCATION:Alfreda Schmidt Southside Community Center\, Wise Road 5825\, Lansing\, MI\, 48911\, United States
CATEGORIES:Recreational Session
GEO:42.6726017;-84.5921649
X-APPLE-STRUCTURED-LOCATION;VALUE=URI;X-ADDRESS=Alfreda Schmidt Southside Community Center Wise Road 5825 Lansing MI 48911 United States;X-APPLE-RADIUS=500;X-TITLE=Wise Road 5825:geo:-84.5921649,42.6726017
END:VEVENT
BEGIN:VEVENT
DTSTART;TZID=America/Detroit:20170401T083000
DTEND;TZID=America/Detroit:20170401T130000
DTSTAMP:20260423T010928
CREATED:20170216T014640Z
LAST-MODIFIED:20170216T014640Z
UID:10000188-1491035400-1491051600@theturningpointoflansing.org
SUMMARY:MSU Football Concession
DESCRIPTION:
URL:https://theturningpointoflansing.org/upcoming/msu-football-concession-2/
LOCATION:Spartan Stadium\, West Shaw Lane 325\, East Lansing\, MI\, 48824\, United States
CATEGORIES:MSU Football Concession
GEO:42.7279228;-84.4851791
X-APPLE-STRUCTURED-LOCATION;VALUE=URI;X-ADDRESS=Spartan Stadium West Shaw Lane 325 East Lansing MI 48824 United States;X-APPLE-RADIUS=500;X-TITLE=West Shaw Lane 325:geo:-84.4851791,42.7279228
END:VEVENT
BEGIN:VEVENT
DTSTART;TZID=America/Detroit:20170401T083000
DTEND;TZID=America/Detroit:20170401T130000
DTSTAMP:20260423T010928
CREATED:20170216T014640Z
LAST-MODIFIED:20170216T014640Z
UID:10000386-1491035400-1491051600@theturningpointoflansing.org
SUMMARY:MSU Football Concession
DESCRIPTION:
URL:https://theturningpointoflansing.org/upcoming/msu-football-concession-2-2/
LOCATION:Spartan Stadium\, West Shaw Lane 325\, East Lansing\, MI\, 48824\, United States
CATEGORIES:MSU Football Concession
GEO:42.7279228;-84.4851791
X-APPLE-STRUCTURED-LOCATION;VALUE=URI;X-ADDRESS=Spartan Stadium West Shaw Lane 325 East Lansing MI 48824 United States;X-APPLE-RADIUS=500;X-TITLE=West Shaw Lane 325:geo:-84.4851791,42.7279228
END:VEVENT
BEGIN:VEVENT
DTSTART;TZID=America/Detroit:20170401T083000
DTEND;TZID=America/Detroit:20170401T130000
DTSTAMP:20260423T010928
CREATED:20170216T014640Z
LAST-MODIFIED:20170216T014640Z
UID:10000590-1491035400-1491051600@theturningpointoflansing.org
SUMMARY:MSU Football Concession
DESCRIPTION:
URL:https://theturningpointoflansing.org/upcoming/msu-football-concession-2-3/
LOCATION:Spartan Stadium\, West Shaw Lane 325\, East Lansing\, MI\, 48824\, United States
CATEGORIES:MSU Football Concession
GEO:42.7279228;-84.4851791
X-APPLE-STRUCTURED-LOCATION;VALUE=URI;X-ADDRESS=Spartan Stadium West Shaw Lane 325 East Lansing MI 48824 United States;X-APPLE-RADIUS=500;X-TITLE=West Shaw Lane 325:geo:-84.4851791,42.7279228
END:VEVENT
BEGIN:VEVENT
DTSTART;TZID=America/Detroit:20170422T050000
DTEND;TZID=America/Detroit:20170422T130000
DTSTAMP:20260423T010928
CREATED:20161103T201020Z
LAST-MODIFIED:20170329T003717Z
UID:10000179-1492837200-1492866000@theturningpointoflansing.org
SUMMARY:Earth Day of Service
DESCRIPTION:
URL:https://theturningpointoflansing.org/upcoming/earth-day-of-service/
LOCATION:Fenner Nature Center\, East Mount Hope Avenue 2020\, Lansing\, MI\, 48910\, United States
CATEGORIES:Earth Day of Service
GEO:42.7117278;-84.5223702
X-APPLE-STRUCTURED-LOCATION;VALUE=URI;X-ADDRESS=Fenner Nature Center East Mount Hope Avenue 2020 Lansing MI 48910 United States;X-APPLE-RADIUS=500;X-TITLE=East Mount Hope Avenue 2020:geo:-84.5223702,42.7117278
END:VEVENT
BEGIN:VEVENT
DTSTART;TZID=America/Detroit:20170422T050000
DTEND;TZID=America/Detroit:20170422T130000
DTSTAMP:20260423T010928
CREATED:20161103T201020Z
LAST-MODIFIED:20161103T201020Z
UID:10000377-1492837200-1492866000@theturningpointoflansing.org
SUMMARY:Earth Day of Service
DESCRIPTION:
URL:https://theturningpointoflansing.org/upcoming/earth-day-of-service-4/
LOCATION:Fenner Nature Center\, East Mount Hope Avenue 2020\, Lansing\, MI\, 48910\, United States
CATEGORIES:Earth Day of Service
GEO:42.7117278;-84.5223702
X-APPLE-STRUCTURED-LOCATION;VALUE=URI;X-ADDRESS=Fenner Nature Center East Mount Hope Avenue 2020 Lansing MI 48910 United States;X-APPLE-RADIUS=500;X-TITLE=East Mount Hope Avenue 2020:geo:-84.5223702,42.7117278
END:VEVENT
BEGIN:VEVENT
DTSTART;TZID=America/Detroit:20170422T050000
DTEND;TZID=America/Detroit:20170422T130000
DTSTAMP:20260423T010928
CREATED:20161103T201020Z
LAST-MODIFIED:20161103T201020Z
UID:10000581-1492837200-1492866000@theturningpointoflansing.org
SUMMARY:Earth Day of Service
DESCRIPTION:
URL:https://theturningpointoflansing.org/upcoming/earth-day-of-service-5/
LOCATION:Fenner Nature Center\, East Mount Hope Avenue 2020\, Lansing\, MI\, 48910\, United States
CATEGORIES:Earth Day of Service
GEO:42.7117278;-84.5223702
X-APPLE-STRUCTURED-LOCATION;VALUE=URI;X-ADDRESS=Fenner Nature Center East Mount Hope Avenue 2020 Lansing MI 48910 United States;X-APPLE-RADIUS=500;X-TITLE=East Mount Hope Avenue 2020:geo:-84.5223702,42.7117278
END:VEVENT
BEGIN:VEVENT
DTSTART;TZID=America/Detroit:20170423T110000
DTEND;TZID=America/Detroit:20170423T133000
DTSTAMP:20260423T010928
CREATED:20161103T201253Z
LAST-MODIFIED:20170329T003810Z
UID:10000181-1492945200-1492954200@theturningpointoflansing.org
SUMMARY:Parent Session
DESCRIPTION:
URL:https://theturningpointoflansing.org/upcoming/parent-session-3/
LOCATION:LCC Main Campus Health & Human Services Bldg\, North Washington Square 515\, Lansing\, MI\, 48933\, United States
CATEGORIES:Parent Session
GEO:42.7391681;-84.5524907
X-APPLE-STRUCTURED-LOCATION;VALUE=URI;X-ADDRESS=LCC Main Campus Health & Human Services Bldg North Washington Square 515 Lansing MI 48933 United States;X-APPLE-RADIUS=500;X-TITLE=North Washington Square 515:geo:-84.5524907,42.7391681
END:VEVENT
BEGIN:VEVENT
DTSTART;TZID=America/Detroit:20170423T110000
DTEND;TZID=America/Detroit:20170423T133000
DTSTAMP:20260423T010928
CREATED:20161103T201253Z
LAST-MODIFIED:20161103T201253Z
UID:10000379-1492945200-1492954200@theturningpointoflansing.org
SUMMARY:Parent Session
DESCRIPTION:
URL:https://theturningpointoflansing.org/upcoming/parent-session-3-2/
LOCATION:LCC Main Campus Health & Human Services Bldg\, North Washington Square 515\, Lansing\, MI\, 48933\, United States
CATEGORIES:Parent Session
GEO:42.7391681;-84.5524907
X-APPLE-STRUCTURED-LOCATION;VALUE=URI;X-ADDRESS=LCC Main Campus Health & Human Services Bldg North Washington Square 515 Lansing MI 48933 United States;X-APPLE-RADIUS=500;X-TITLE=North Washington Square 515:geo:-84.5524907,42.7391681
END:VEVENT
BEGIN:VEVENT
DTSTART;TZID=America/Detroit:20170423T110000
DTEND;TZID=America/Detroit:20170423T133000
DTSTAMP:20260423T010928
CREATED:20161103T201253Z
LAST-MODIFIED:20161103T201253Z
UID:10000583-1492945200-1492954200@theturningpointoflansing.org
SUMMARY:Parent Session
DESCRIPTION:
URL:https://theturningpointoflansing.org/upcoming/parent-session-3-3/
LOCATION:LCC Main Campus Health & Human Services Bldg\, North Washington Square 515\, Lansing\, MI\, 48933\, United States
CATEGORIES:Parent Session
GEO:42.7391681;-84.5524907
X-APPLE-STRUCTURED-LOCATION;VALUE=URI;X-ADDRESS=LCC Main Campus Health & Human Services Bldg North Washington Square 515 Lansing MI 48933 United States;X-APPLE-RADIUS=500;X-TITLE=North Washington Square 515:geo:-84.5524907,42.7391681
END:VEVENT
BEGIN:VEVENT
DTSTART;TZID=America/Detroit:20170423T110000
DTEND;TZID=America/Detroit:20170423T133000
DTSTAMP:20260423T010928
CREATED:20161103T201157Z
LAST-MODIFIED:20170329T003905Z
UID:10000180-1492945200-1492954200@theturningpointoflansing.org
SUMMARY:Mentoring Session
DESCRIPTION:
URL:https://theturningpointoflansing.org/upcoming/mentoring-session-6/
LOCATION:LCC Main Campus Health & Human Services Bldg\, North Washington Square 515\, Lansing\, MI\, 48933\, United States
CATEGORIES:Mentoring Session
GEO:42.7391681;-84.5524907
X-APPLE-STRUCTURED-LOCATION;VALUE=URI;X-ADDRESS=LCC Main Campus Health & Human Services Bldg North Washington Square 515 Lansing MI 48933 United States;X-APPLE-RADIUS=500;X-TITLE=North Washington Square 515:geo:-84.5524907,42.7391681
END:VEVENT
BEGIN:VEVENT
DTSTART;TZID=America/Detroit:20170423T110000
DTEND;TZID=America/Detroit:20170423T133000
DTSTAMP:20260423T010928
CREATED:20161103T201157Z
LAST-MODIFIED:20161103T201157Z
UID:10000378-1492945200-1492954200@theturningpointoflansing.org
SUMMARY:Mentoring Session
DESCRIPTION:
URL:https://theturningpointoflansing.org/upcoming/mentoring-session-6-2/
LOCATION:LCC Main Campus Health & Human Services Bldg\, North Washington Square 515\, Lansing\, MI\, 48933\, United States
CATEGORIES:Mentoring Session
GEO:42.7391681;-84.5524907
X-APPLE-STRUCTURED-LOCATION;VALUE=URI;X-ADDRESS=LCC Main Campus Health & Human Services Bldg North Washington Square 515 Lansing MI 48933 United States;X-APPLE-RADIUS=500;X-TITLE=North Washington Square 515:geo:-84.5524907,42.7391681
END:VEVENT
BEGIN:VEVENT
DTSTART;TZID=America/Detroit:20170423T110000
DTEND;TZID=America/Detroit:20170423T133000
DTSTAMP:20260423T010928
CREATED:20161103T201157Z
LAST-MODIFIED:20161103T201157Z
UID:10000582-1492945200-1492954200@theturningpointoflansing.org
SUMMARY:Mentoring Session
DESCRIPTION:
URL:https://theturningpointoflansing.org/upcoming/mentoring-session-6-3/
LOCATION:LCC Main Campus Health & Human Services Bldg\, North Washington Square 515\, Lansing\, MI\, 48933\, United States
CATEGORIES:Mentoring Session
GEO:42.7391681;-84.5524907
X-APPLE-STRUCTURED-LOCATION;VALUE=URI;X-ADDRESS=LCC Main Campus Health & Human Services Bldg North Washington Square 515 Lansing MI 48933 United States;X-APPLE-RADIUS=500;X-TITLE=North Washington Square 515:geo:-84.5524907,42.7391681
END:VEVENT
BEGIN:VEVENT
DTSTART;TZID=America/Detroit:20170430T120000
DTEND;TZID=America/Detroit:20170430T140000
DTSTAMP:20260423T010928
CREATED:20161103T201659Z
LAST-MODIFIED:20161103T201659Z
UID:10000182-1493553600-1493560800@theturningpointoflansing.org
SUMMARY:Recreational Session
DESCRIPTION:
URL:https://theturningpointoflansing.org/upcoming/recreational-session-3/
LOCATION:Alfreda Schmidt Southside Community Center\, Wise Road 5825\, Lansing\, MI\, 48911\, United States
CATEGORIES:Recreational Session
GEO:42.6726017;-84.5921649
X-APPLE-STRUCTURED-LOCATION;VALUE=URI;X-ADDRESS=Alfreda Schmidt Southside Community Center Wise Road 5825 Lansing MI 48911 United States;X-APPLE-RADIUS=500;X-TITLE=Wise Road 5825:geo:-84.5921649,42.6726017
END:VEVENT
BEGIN:VEVENT
DTSTART;TZID=America/Detroit:20170430T120000
DTEND;TZID=America/Detroit:20170430T140000
DTSTAMP:20260423T010928
CREATED:20161103T201659Z
LAST-MODIFIED:20161103T201659Z
UID:10000380-1493553600-1493560800@theturningpointoflansing.org
SUMMARY:Recreational Session
DESCRIPTION:
URL:https://theturningpointoflansing.org/upcoming/recreational-session-3-2/
LOCATION:Alfreda Schmidt Southside Community Center\, Wise Road 5825\, Lansing\, MI\, 48911\, United States
CATEGORIES:Recreational Session
GEO:42.6726017;-84.5921649
X-APPLE-STRUCTURED-LOCATION;VALUE=URI;X-ADDRESS=Alfreda Schmidt Southside Community Center Wise Road 5825 Lansing MI 48911 United States;X-APPLE-RADIUS=500;X-TITLE=Wise Road 5825:geo:-84.5921649,42.6726017
END:VEVENT
BEGIN:VEVENT
DTSTART;TZID=America/Detroit:20170430T120000
DTEND;TZID=America/Detroit:20170430T140000
DTSTAMP:20260423T010928
CREATED:20161103T201659Z
LAST-MODIFIED:20161103T201659Z
UID:10000584-1493553600-1493560800@theturningpointoflansing.org
SUMMARY:Recreational Session
DESCRIPTION:
URL:https://theturningpointoflansing.org/upcoming/recreational-session-3-3/
LOCATION:Alfreda Schmidt Southside Community Center\, Wise Road 5825\, Lansing\, MI\, 48911\, United States
CATEGORIES:Recreational Session
GEO:42.6726017;-84.5921649
X-APPLE-STRUCTURED-LOCATION;VALUE=URI;X-ADDRESS=Alfreda Schmidt Southside Community Center Wise Road 5825 Lansing MI 48911 United States;X-APPLE-RADIUS=500;X-TITLE=Wise Road 5825:geo:-84.5921649,42.6726017
END:VEVENT
BEGIN:VEVENT
DTSTART;TZID=America/Detroit:20170518T140000
DTEND;TZID=America/Detroit:20170518T160000
DTSTAMP:20260423T010928
CREATED:20161103T201915Z
LAST-MODIFIED:20161103T202209Z
UID:10000183-1495116000-1495123200@theturningpointoflansing.org
SUMMARY:Rites of Passage Ceremony Practice
DESCRIPTION:
URL:https://theturningpointoflansing.org/upcoming/rites-of-passage-ceremony-practice/
LOCATION:Lansing Community College Dart Auditorium\, North Capitol Avenue 500\, Lansing\, MI\, 48933\, United States
CATEGORIES:Rites of Passage Ceremoney Practice
GEO:42.7387241;-84.5532679
X-APPLE-STRUCTURED-LOCATION;VALUE=URI;X-ADDRESS=Lansing Community College Dart Auditorium North Capitol Avenue 500 Lansing MI 48933 United States;X-APPLE-RADIUS=500;X-TITLE=North Capitol Avenue 500:geo:-84.5532679,42.7387241
END:VEVENT
BEGIN:VEVENT
DTSTART;TZID=America/Detroit:20170518T140000
DTEND;TZID=America/Detroit:20170518T160000
DTSTAMP:20260423T010928
CREATED:20161103T201915Z
LAST-MODIFIED:20161103T201915Z
UID:10000381-1495116000-1495123200@theturningpointoflansing.org
SUMMARY:Rites of Passage Ceremony Practice
DESCRIPTION:
URL:https://theturningpointoflansing.org/upcoming/rites-of-passage-ceremony-practice-3/
LOCATION:Lansing Community College Dart Auditorium\, North Capitol Avenue 500\, Lansing\, MI\, 48933\, United States
CATEGORIES:Rites of Passage Ceremoney Practice
GEO:42.7387241;-84.5532679
X-APPLE-STRUCTURED-LOCATION;VALUE=URI;X-ADDRESS=Lansing Community College Dart Auditorium North Capitol Avenue 500 Lansing MI 48933 United States;X-APPLE-RADIUS=500;X-TITLE=North Capitol Avenue 500:geo:-84.5532679,42.7387241
END:VEVENT
BEGIN:VEVENT
DTSTART;TZID=America/Detroit:20170518T140000
DTEND;TZID=America/Detroit:20170518T160000
DTSTAMP:20260423T010928
CREATED:20161103T201915Z
LAST-MODIFIED:20161103T201915Z
UID:10000585-1495116000-1495123200@theturningpointoflansing.org
SUMMARY:Rites of Passage Ceremony Practice
DESCRIPTION:
URL:https://theturningpointoflansing.org/upcoming/rites-of-passage-ceremony-practice-4/
LOCATION:Lansing Community College Dart Auditorium\, North Capitol Avenue 500\, Lansing\, MI\, 48933\, United States
CATEGORIES:Rites of Passage Ceremoney Practice
GEO:42.7387241;-84.5532679
X-APPLE-STRUCTURED-LOCATION;VALUE=URI;X-ADDRESS=Lansing Community College Dart Auditorium North Capitol Avenue 500 Lansing MI 48933 United States;X-APPLE-RADIUS=500;X-TITLE=North Capitol Avenue 500:geo:-84.5532679,42.7387241
END:VEVENT
BEGIN:VEVENT
DTSTART;TZID=America/Detroit:20170519T150000
DTEND;TZID=America/Detroit:20170519T170000
DTSTAMP:20260423T010928
CREATED:20161103T202024Z
LAST-MODIFIED:20161103T202024Z
UID:10000184-1495206000-1495213200@theturningpointoflansing.org
SUMMARY:Rites of Passage Ceremony
DESCRIPTION:
URL:https://theturningpointoflansing.org/upcoming/rites-of-passage-ceremony/
LOCATION:Lansing Community College Dart Auditorium\, North Capitol Avenue 500\, Lansing\, MI\, 48933\, United States
CATEGORIES:Rites of Passage Ceremony
GEO:42.7387241;-84.5532679
X-APPLE-STRUCTURED-LOCATION;VALUE=URI;X-ADDRESS=Lansing Community College Dart Auditorium North Capitol Avenue 500 Lansing MI 48933 United States;X-APPLE-RADIUS=500;X-TITLE=North Capitol Avenue 500:geo:-84.5532679,42.7387241
END:VEVENT
BEGIN:VEVENT
DTSTART;TZID=America/Detroit:20170519T150000
DTEND;TZID=America/Detroit:20170519T170000
DTSTAMP:20260423T010928
CREATED:20161103T202024Z
LAST-MODIFIED:20161103T202024Z
UID:10000382-1495206000-1495213200@theturningpointoflansing.org
SUMMARY:Rites of Passage Ceremony
DESCRIPTION:
URL:https://theturningpointoflansing.org/upcoming/rites-of-passage-ceremony-3/
LOCATION:Lansing Community College Dart Auditorium\, North Capitol Avenue 500\, Lansing\, MI\, 48933\, United States
CATEGORIES:Rites of Passage Ceremony
GEO:42.7387241;-84.5532679
X-APPLE-STRUCTURED-LOCATION;VALUE=URI;X-ADDRESS=Lansing Community College Dart Auditorium North Capitol Avenue 500 Lansing MI 48933 United States;X-APPLE-RADIUS=500;X-TITLE=North Capitol Avenue 500:geo:-84.5532679,42.7387241
END:VEVENT
BEGIN:VEVENT
DTSTART;TZID=America/Detroit:20170519T150000
DTEND;TZID=America/Detroit:20170519T170000
DTSTAMP:20260423T010928
CREATED:20161103T202024Z
LAST-MODIFIED:20161103T202024Z
UID:10000586-1495206000-1495213200@theturningpointoflansing.org
SUMMARY:Rites of Passage Ceremony
DESCRIPTION:
URL:https://theturningpointoflansing.org/upcoming/rites-of-passage-ceremony-4/
LOCATION:Lansing Community College Dart Auditorium\, North Capitol Avenue 500\, Lansing\, MI\, 48933\, United States
CATEGORIES:Rites of Passage Ceremony
GEO:42.7387241;-84.5532679
X-APPLE-STRUCTURED-LOCATION;VALUE=URI;X-ADDRESS=Lansing Community College Dart Auditorium North Capitol Avenue 500 Lansing MI 48933 United States;X-APPLE-RADIUS=500;X-TITLE=North Capitol Avenue 500:geo:-84.5532679,42.7387241
END:VEVENT
BEGIN:VEVENT
DTSTART;TZID=America/Detroit:20170521T120000
DTEND;TZID=America/Detroit:20170521T140000
DTSTAMP:20260423T010928
CREATED:20161103T202140Z
LAST-MODIFIED:20161103T202140Z
UID:10000185-1495368000-1495375200@theturningpointoflansing.org
SUMMARY:Recreational Session
DESCRIPTION:
URL:https://theturningpointoflansing.org/upcoming/recreational-session-4/
LOCATION:Alfreda Schmidt Southside Community Center\, Wise Road 5825\, Lansing\, MI\, 48911\, United States
CATEGORIES:Recreational Session
GEO:42.6726017;-84.5921649
X-APPLE-STRUCTURED-LOCATION;VALUE=URI;X-ADDRESS=Alfreda Schmidt Southside Community Center Wise Road 5825 Lansing MI 48911 United States;X-APPLE-RADIUS=500;X-TITLE=Wise Road 5825:geo:-84.5921649,42.6726017
END:VEVENT
BEGIN:VEVENT
DTSTART;TZID=America/Detroit:20170521T120000
DTEND;TZID=America/Detroit:20170521T140000
DTSTAMP:20260423T010928
CREATED:20161103T202140Z
LAST-MODIFIED:20161103T202140Z
UID:10000383-1495368000-1495375200@theturningpointoflansing.org
SUMMARY:Recreational Session
DESCRIPTION:
URL:https://theturningpointoflansing.org/upcoming/recreational-session-4-2/
LOCATION:Alfreda Schmidt Southside Community Center\, Wise Road 5825\, Lansing\, MI\, 48911\, United States
CATEGORIES:Recreational Session
GEO:42.6726017;-84.5921649
X-APPLE-STRUCTURED-LOCATION;VALUE=URI;X-ADDRESS=Alfreda Schmidt Southside Community Center Wise Road 5825 Lansing MI 48911 United States;X-APPLE-RADIUS=500;X-TITLE=Wise Road 5825:geo:-84.5921649,42.6726017
END:VEVENT
BEGIN:VEVENT
DTSTART;TZID=America/Detroit:20170521T120000
DTEND;TZID=America/Detroit:20170521T140000
DTSTAMP:20260423T010928
CREATED:20161103T202140Z
LAST-MODIFIED:20161103T202140Z
UID:10000587-1495368000-1495375200@theturningpointoflansing.org
SUMMARY:Recreational Session
DESCRIPTION:
URL:https://theturningpointoflansing.org/upcoming/recreational-session-4-3/
LOCATION:Alfreda Schmidt Southside Community Center\, Wise Road 5825\, Lansing\, MI\, 48911\, United States
CATEGORIES:Recreational Session
GEO:42.6726017;-84.5921649
X-APPLE-STRUCTURED-LOCATION;VALUE=URI;X-ADDRESS=Alfreda Schmidt Southside Community Center Wise Road 5825 Lansing MI 48911 United States;X-APPLE-RADIUS=500;X-TITLE=Wise Road 5825:geo:-84.5921649,42.6726017
END:VEVENT
END:VCALENDAR