BEGIN:VCALENDAR
VERSION:2.0
PRODID:-//The Turning Point of Lansing - ECPv6.15.20//NONSGML v1.0//EN
CALSCALE:GREGORIAN
METHOD:PUBLISH
X-WR-CALNAME:The Turning Point of Lansing
X-ORIGINAL-URL:https://theturningpointoflansing.org
X-WR-CALDESC:Events for The Turning Point of Lansing
REFRESH-INTERVAL;VALUE=DURATION:PT1H
X-Robots-Tag:noindex
X-PUBLISHED-TTL:PT1H
BEGIN:VTIMEZONE
TZID:America/Detroit
BEGIN:DAYLIGHT
TZOFFSETFROM:-0500
TZOFFSETTO:-0400
TZNAME:EDT
DTSTART:20160313T070000
END:DAYLIGHT
BEGIN:STANDARD
TZOFFSETFROM:-0400
TZOFFSETTO:-0500
TZNAME:EST
DTSTART:20161106T060000
END:STANDARD
BEGIN:DAYLIGHT
TZOFFSETFROM:-0500
TZOFFSETTO:-0400
TZNAME:EDT
DTSTART:20170312T070000
END:DAYLIGHT
BEGIN:STANDARD
TZOFFSETFROM:-0400
TZOFFSETTO:-0500
TZNAME:EST
DTSTART:20171105T060000
END:STANDARD
BEGIN:DAYLIGHT
TZOFFSETFROM:-0500
TZOFFSETTO:-0400
TZNAME:EDT
DTSTART:20180311T070000
END:DAYLIGHT
BEGIN:STANDARD
TZOFFSETFROM:-0400
TZOFFSETTO:-0500
TZNAME:EST
DTSTART:20181104T060000
END:STANDARD
END:VTIMEZONE
BEGIN:VEVENT
DTSTART;TZID=America/Detroit:20170116T040000
DTEND;TZID=America/Detroit:20170116T090000
DTSTAMP:20260422T182905
CREATED:20161103T194959Z
LAST-MODIFIED:20161103T194959Z
UID:10000170-1484539200-1484557200@theturningpointoflansing.org
SUMMARY:MLK Commission Luncheon Ushering
DESCRIPTION:
URL:https://theturningpointoflansing.org/upcoming/mlk-commission-luncheon-ushering/
LOCATION:Lansing Center\, East Michigan Avenue 333\, Lansing\, MI\, 48933\, United States
CATEGORIES:MLK Lunhcheon
GEO:42.7341382;-84.5482637
X-APPLE-STRUCTURED-LOCATION;VALUE=URI;X-ADDRESS=Lansing Center East Michigan Avenue 333 Lansing MI 48933 United States;X-APPLE-RADIUS=500;X-TITLE=East Michigan Avenue 333:geo:-84.5482637,42.7341382
END:VEVENT
BEGIN:VEVENT
DTSTART;TZID=America/Detroit:20170116T040000
DTEND;TZID=America/Detroit:20170116T090000
DTSTAMP:20260422T182905
CREATED:20161103T194959Z
LAST-MODIFIED:20161103T194959Z
UID:10000368-1484539200-1484557200@theturningpointoflansing.org
SUMMARY:MLK Commission Luncheon Ushering
DESCRIPTION:
URL:https://theturningpointoflansing.org/upcoming/mlk-commission-luncheon-ushering-2/
LOCATION:Lansing Center\, East Michigan Avenue 333\, Lansing\, MI\, 48933\, United States
CATEGORIES:MLK Lunhcheon
GEO:42.7341382;-84.5482637
X-APPLE-STRUCTURED-LOCATION;VALUE=URI;X-ADDRESS=Lansing Center East Michigan Avenue 333 Lansing MI 48933 United States;X-APPLE-RADIUS=500;X-TITLE=East Michigan Avenue 333:geo:-84.5482637,42.7341382
END:VEVENT
BEGIN:VEVENT
DTSTART;TZID=America/Detroit:20170116T040000
DTEND;TZID=America/Detroit:20170116T090000
DTSTAMP:20260422T182905
CREATED:20161103T194959Z
LAST-MODIFIED:20161103T194959Z
UID:10000571-1484539200-1484557200@theturningpointoflansing.org
SUMMARY:MLK Commission Luncheon Ushering
DESCRIPTION:
URL:https://theturningpointoflansing.org/upcoming/mlk-commission-luncheon-ushering-3/
LOCATION:Lansing Center\, East Michigan Avenue 333\, Lansing\, MI\, 48933\, United States
CATEGORIES:MLK Lunhcheon
GEO:42.7341382;-84.5482637
X-APPLE-STRUCTURED-LOCATION;VALUE=URI;X-ADDRESS=Lansing Center East Michigan Avenue 333 Lansing MI 48933 United States;X-APPLE-RADIUS=500;X-TITLE=East Michigan Avenue 333:geo:-84.5482637,42.7341382
END:VEVENT
BEGIN:VEVENT
DTSTART;TZID=America/Detroit:20170121T100000
DTEND;TZID=America/Detroit:20170121T123000
DTSTAMP:20260422T182905
CREATED:20171002T035125Z
LAST-MODIFIED:20171002T035314Z
UID:10000207-1484992800-1485001800@theturningpointoflansing.org
SUMMARY:Mentoring Session - "Counting My Steps"
DESCRIPTION:Rms.\,005-007
URL:https://theturningpointoflansing.org/upcoming/mentoring-session-counting-my-steps/
LOCATION:LCC Main Campus Health & Human Services Bldg\, North Washington Square 515\, Lansing\, MI\, 48933\, United States
CATEGORIES:Mentoring Session
GEO:42.7391681;-84.5524907
X-APPLE-STRUCTURED-LOCATION;VALUE=URI;X-ADDRESS=LCC Main Campus Health & Human Services Bldg North Washington Square 515 Lansing MI 48933 United States;X-APPLE-RADIUS=500;X-TITLE=North Washington Square 515:geo:-84.5524907,42.7391681
END:VEVENT
BEGIN:VEVENT
DTSTART;TZID=America/Detroit:20170121T100000
DTEND;TZID=America/Detroit:20170121T123000
DTSTAMP:20260422T182905
CREATED:20171002T035125Z
LAST-MODIFIED:20171002T035125Z
UID:10000405-1484992800-1485001800@theturningpointoflansing.org
SUMMARY:Mentoring Session - "Counting My Steps"
DESCRIPTION:Rms.\,005-007
URL:https://theturningpointoflansing.org/upcoming/mentoring-session-counting-my-steps-2/
LOCATION:LCC Main Campus Health & Human Services Bldg\, North Washington Square 515\, Lansing\, MI\, 48933\, United States
CATEGORIES:Mentoring Session
GEO:42.7391681;-84.5524907
X-APPLE-STRUCTURED-LOCATION;VALUE=URI;X-ADDRESS=LCC Main Campus Health & Human Services Bldg North Washington Square 515 Lansing MI 48933 United States;X-APPLE-RADIUS=500;X-TITLE=North Washington Square 515:geo:-84.5524907,42.7391681
END:VEVENT
BEGIN:VEVENT
DTSTART;TZID=America/Detroit:20170121T100000
DTEND;TZID=America/Detroit:20170121T123000
DTSTAMP:20260422T182905
CREATED:20171002T035125Z
LAST-MODIFIED:20171002T035125Z
UID:10000609-1484992800-1485001800@theturningpointoflansing.org
SUMMARY:Mentoring Session - "Counting My Steps"
DESCRIPTION:Rms.\,005-007
URL:https://theturningpointoflansing.org/upcoming/mentoring-session-counting-my-steps-3/
LOCATION:LCC Main Campus Health & Human Services Bldg\, North Washington Square 515\, Lansing\, MI\, 48933\, United States
CATEGORIES:Mentoring Session
GEO:42.7391681;-84.5524907
X-APPLE-STRUCTURED-LOCATION;VALUE=URI;X-ADDRESS=LCC Main Campus Health & Human Services Bldg North Washington Square 515 Lansing MI 48933 United States;X-APPLE-RADIUS=500;X-TITLE=North Washington Square 515:geo:-84.5524907,42.7391681
END:VEVENT
BEGIN:VEVENT
DTSTART;TZID=America/Detroit:20170122T100000
DTEND;TZID=America/Detroit:20170122T123000
DTSTAMP:20260422T182905
CREATED:20161103T195435Z
LAST-MODIFIED:20161103T195640Z
UID:10000171-1485079200-1485088200@theturningpointoflansing.org
SUMMARY:Mentoring Session
DESCRIPTION:
URL:https://theturningpointoflansing.org/upcoming/mentoring-session-3/
LOCATION:LCC Main Campus Health & Human Services Bldg\, North Washington Square 515\, Lansing\, MI\, 48933\, United States
CATEGORIES:Mentoring Session
GEO:42.7391681;-84.5524907
X-APPLE-STRUCTURED-LOCATION;VALUE=URI;X-ADDRESS=LCC Main Campus Health & Human Services Bldg North Washington Square 515 Lansing MI 48933 United States;X-APPLE-RADIUS=500;X-TITLE=North Washington Square 515:geo:-84.5524907,42.7391681
END:VEVENT
BEGIN:VEVENT
DTSTART;TZID=America/Detroit:20170122T100000
DTEND;TZID=America/Detroit:20170122T123000
DTSTAMP:20260422T182905
CREATED:20161103T195435Z
LAST-MODIFIED:20161103T195435Z
UID:10000369-1485079200-1485088200@theturningpointoflansing.org
SUMMARY:Mentoring Session
DESCRIPTION:
URL:https://theturningpointoflansing.org/upcoming/mentoring-session-3-2/
LOCATION:LCC Main Campus Health & Human Services Bldg\, North Washington Square 515\, Lansing\, MI\, 48933\, United States
CATEGORIES:Mentoring Session
GEO:42.7391681;-84.5524907
X-APPLE-STRUCTURED-LOCATION;VALUE=URI;X-ADDRESS=LCC Main Campus Health & Human Services Bldg North Washington Square 515 Lansing MI 48933 United States;X-APPLE-RADIUS=500;X-TITLE=North Washington Square 515:geo:-84.5524907,42.7391681
END:VEVENT
BEGIN:VEVENT
DTSTART;TZID=America/Detroit:20170122T100000
DTEND;TZID=America/Detroit:20170122T123000
DTSTAMP:20260422T182905
CREATED:20161103T195435Z
LAST-MODIFIED:20161103T195435Z
UID:10000572-1485079200-1485088200@theturningpointoflansing.org
SUMMARY:Mentoring Session
DESCRIPTION:
URL:https://theturningpointoflansing.org/upcoming/mentoring-session-3-3/
LOCATION:LCC Main Campus Health & Human Services Bldg\, North Washington Square 515\, Lansing\, MI\, 48933\, United States
CATEGORIES:Mentoring Session
GEO:42.7391681;-84.5524907
X-APPLE-STRUCTURED-LOCATION;VALUE=URI;X-ADDRESS=LCC Main Campus Health & Human Services Bldg North Washington Square 515 Lansing MI 48933 United States;X-APPLE-RADIUS=500;X-TITLE=North Washington Square 515:geo:-84.5524907,42.7391681
END:VEVENT
BEGIN:VEVENT
DTSTART;TZID=America/Detroit:20170129T110000
DTEND;TZID=America/Detroit:20170129T130000
DTSTAMP:20260422T182905
CREATED:20161103T195606Z
LAST-MODIFIED:20161103T195953Z
UID:10000172-1485687600-1485694800@theturningpointoflansing.org
SUMMARY:Recreational Session
DESCRIPTION:
URL:https://theturningpointoflansing.org/upcoming/recreational-session/
LOCATION:Alfreda Schmidt Southside Community Center\, Wise Road 5825\, Lansing\, MI\, 48911\, United States
CATEGORIES:Recreational Session
GEO:42.6726017;-84.5921649
X-APPLE-STRUCTURED-LOCATION;VALUE=URI;X-ADDRESS=Alfreda Schmidt Southside Community Center Wise Road 5825 Lansing MI 48911 United States;X-APPLE-RADIUS=500;X-TITLE=Wise Road 5825:geo:-84.5921649,42.6726017
END:VEVENT
BEGIN:VEVENT
DTSTART;TZID=America/Detroit:20170129T110000
DTEND;TZID=America/Detroit:20170129T130000
DTSTAMP:20260422T182905
CREATED:20161103T195606Z
LAST-MODIFIED:20161103T195606Z
UID:10000370-1485687600-1485694800@theturningpointoflansing.org
SUMMARY:Recreational Session
DESCRIPTION:
URL:https://theturningpointoflansing.org/upcoming/recreational-session-22/
LOCATION:Alfreda Schmidt Southside Community Center\, Wise Road 5825\, Lansing\, MI\, 48911\, United States
CATEGORIES:Recreational Session
GEO:42.6726017;-84.5921649
X-APPLE-STRUCTURED-LOCATION;VALUE=URI;X-ADDRESS=Alfreda Schmidt Southside Community Center Wise Road 5825 Lansing MI 48911 United States;X-APPLE-RADIUS=500;X-TITLE=Wise Road 5825:geo:-84.5921649,42.6726017
END:VEVENT
BEGIN:VEVENT
DTSTART;TZID=America/Detroit:20170129T110000
DTEND;TZID=America/Detroit:20170129T130000
DTSTAMP:20260422T182905
CREATED:20161103T195606Z
LAST-MODIFIED:20161103T195606Z
UID:10000573-1485687600-1485694800@theturningpointoflansing.org
SUMMARY:Recreational Session
DESCRIPTION:
URL:https://theturningpointoflansing.org/upcoming/recreational-session-24/
LOCATION:Alfreda Schmidt Southside Community Center\, Wise Road 5825\, Lansing\, MI\, 48911\, United States
CATEGORIES:Recreational Session
GEO:42.6726017;-84.5921649
X-APPLE-STRUCTURED-LOCATION;VALUE=URI;X-ADDRESS=Alfreda Schmidt Southside Community Center Wise Road 5825 Lansing MI 48911 United States;X-APPLE-RADIUS=500;X-TITLE=Wise Road 5825:geo:-84.5921649,42.6726017
END:VEVENT
BEGIN:VEVENT
DTSTART;TZID=America/Detroit:20170202T030000
DTEND;TZID=America/Detroit:20170202T090000
DTSTAMP:20260422T182905
CREATED:20161103T200111Z
LAST-MODIFIED:20161103T200111Z
UID:10000173-1486004400-1486026000@theturningpointoflansing.org
SUMMARY:Phi Beta Sigma Youth Workshop
DESCRIPTION:
URL:https://theturningpointoflansing.org/upcoming/phi-beta-sigma-youth-workshop/
LOCATION:East Lansing Hannah Community Center\, Abbot Road 819\, East Lansing\, MI\, 48823\, United States
CATEGORIES:Youth Workshop
GEO:42.7414298;-84.4853786
X-APPLE-STRUCTURED-LOCATION;VALUE=URI;X-ADDRESS=East Lansing Hannah Community Center Abbot Road 819 East Lansing MI 48823 United States;X-APPLE-RADIUS=500;X-TITLE=Abbot Road 819:geo:-84.4853786,42.7414298
END:VEVENT
BEGIN:VEVENT
DTSTART;TZID=America/Detroit:20170202T030000
DTEND;TZID=America/Detroit:20170202T090000
DTSTAMP:20260422T182905
CREATED:20161103T200111Z
LAST-MODIFIED:20161103T200111Z
UID:10000371-1486004400-1486026000@theturningpointoflansing.org
SUMMARY:Phi Beta Sigma Youth Workshop
DESCRIPTION:
URL:https://theturningpointoflansing.org/upcoming/phi-beta-sigma-youth-workshop-3/
LOCATION:East Lansing Hannah Community Center\, Abbot Road 819\, East Lansing\, MI\, 48823\, United States
CATEGORIES:Youth Workshop
GEO:42.7414298;-84.4853786
X-APPLE-STRUCTURED-LOCATION;VALUE=URI;X-ADDRESS=East Lansing Hannah Community Center Abbot Road 819 East Lansing MI 48823 United States;X-APPLE-RADIUS=500;X-TITLE=Abbot Road 819:geo:-84.4853786,42.7414298
END:VEVENT
BEGIN:VEVENT
DTSTART;TZID=America/Detroit:20170202T030000
DTEND;TZID=America/Detroit:20170202T090000
DTSTAMP:20260422T182905
CREATED:20161103T200111Z
LAST-MODIFIED:20161103T200111Z
UID:10000574-1486004400-1486026000@theturningpointoflansing.org
SUMMARY:Phi Beta Sigma Youth Workshop
DESCRIPTION:
URL:https://theturningpointoflansing.org/upcoming/phi-beta-sigma-youth-workshop-4/
LOCATION:East Lansing Hannah Community Center\, Abbot Road 819\, East Lansing\, MI\, 48823\, United States
CATEGORIES:Youth Workshop
GEO:42.7414298;-84.4853786
X-APPLE-STRUCTURED-LOCATION;VALUE=URI;X-ADDRESS=East Lansing Hannah Community Center Abbot Road 819 East Lansing MI 48823 United States;X-APPLE-RADIUS=500;X-TITLE=Abbot Road 819:geo:-84.4853786,42.7414298
END:VEVENT
BEGIN:VEVENT
DTSTART;TZID=America/Detroit:20170205T120000
DTEND;TZID=America/Detroit:20170205T160000
DTSTAMP:20260422T182905
CREATED:20161228T042426Z
LAST-MODIFIED:20161228T042426Z
UID:10000186-1486296000-1486310400@theturningpointoflansing.org
SUMMARY:Recreational Session
DESCRIPTION:
URL:https://theturningpointoflansing.org/upcoming/recreational-session-5/
LOCATION:Alfreda Schmidt Southside Community Center\, Wise Road 5825\, Lansing\, MI\, 48911\, United States
CATEGORIES:Recreational Session
GEO:42.6726017;-84.5921649
X-APPLE-STRUCTURED-LOCATION;VALUE=URI;X-ADDRESS=Alfreda Schmidt Southside Community Center Wise Road 5825 Lansing MI 48911 United States;X-APPLE-RADIUS=500;X-TITLE=Wise Road 5825:geo:-84.5921649,42.6726017
END:VEVENT
BEGIN:VEVENT
DTSTART;TZID=America/Detroit:20170205T120000
DTEND;TZID=America/Detroit:20170205T160000
DTSTAMP:20260422T182905
CREATED:20161228T042426Z
LAST-MODIFIED:20161228T042426Z
UID:10000384-1486296000-1486310400@theturningpointoflansing.org
SUMMARY:Recreational Session
DESCRIPTION:
URL:https://theturningpointoflansing.org/upcoming/recreational-session-5-2/
LOCATION:Alfreda Schmidt Southside Community Center\, Wise Road 5825\, Lansing\, MI\, 48911\, United States
CATEGORIES:Recreational Session
GEO:42.6726017;-84.5921649
X-APPLE-STRUCTURED-LOCATION;VALUE=URI;X-ADDRESS=Alfreda Schmidt Southside Community Center Wise Road 5825 Lansing MI 48911 United States;X-APPLE-RADIUS=500;X-TITLE=Wise Road 5825:geo:-84.5921649,42.6726017
END:VEVENT
BEGIN:VEVENT
DTSTART;TZID=America/Detroit:20170205T120000
DTEND;TZID=America/Detroit:20170205T160000
DTSTAMP:20260422T182905
CREATED:20161228T042426Z
LAST-MODIFIED:20161228T042426Z
UID:10000588-1486296000-1486310400@theturningpointoflansing.org
SUMMARY:Recreational Session
DESCRIPTION:
URL:https://theturningpointoflansing.org/upcoming/recreational-session-5-3/
LOCATION:Alfreda Schmidt Southside Community Center\, Wise Road 5825\, Lansing\, MI\, 48911\, United States
CATEGORIES:Recreational Session
GEO:42.6726017;-84.5921649
X-APPLE-STRUCTURED-LOCATION;VALUE=URI;X-ADDRESS=Alfreda Schmidt Southside Community Center Wise Road 5825 Lansing MI 48911 United States;X-APPLE-RADIUS=500;X-TITLE=Wise Road 5825:geo:-84.5921649,42.6726017
END:VEVENT
BEGIN:VEVENT
DTSTART;TZID=America/Detroit:20170219T100000
DTEND;TZID=America/Detroit:20170219T123000
DTSTAMP:20260422T182905
CREATED:20161103T200404Z
LAST-MODIFIED:20161103T200404Z
UID:10000175-1487498400-1487507400@theturningpointoflansing.org
SUMMARY:Parent Session
DESCRIPTION:
URL:https://theturningpointoflansing.org/upcoming/parent-session-2/
LOCATION:LCC Main Campus Health & Human Services Bldg\, North Washington Square 515\, Lansing\, MI\, 48933\, United States
CATEGORIES:Parent Session
GEO:42.7391681;-84.5524907
X-APPLE-STRUCTURED-LOCATION;VALUE=URI;X-ADDRESS=LCC Main Campus Health & Human Services Bldg North Washington Square 515 Lansing MI 48933 United States;X-APPLE-RADIUS=500;X-TITLE=North Washington Square 515:geo:-84.5524907,42.7391681
END:VEVENT
BEGIN:VEVENT
DTSTART;TZID=America/Detroit:20170219T100000
DTEND;TZID=America/Detroit:20170219T123000
DTSTAMP:20260422T182905
CREATED:20161103T200404Z
LAST-MODIFIED:20161103T200404Z
UID:10000373-1487498400-1487507400@theturningpointoflansing.org
SUMMARY:Parent Session
DESCRIPTION:
URL:https://theturningpointoflansing.org/upcoming/parent-session-2-2/
LOCATION:LCC Main Campus Health & Human Services Bldg\, North Washington Square 515\, Lansing\, MI\, 48933\, United States
CATEGORIES:Parent Session
GEO:42.7391681;-84.5524907
X-APPLE-STRUCTURED-LOCATION;VALUE=URI;X-ADDRESS=LCC Main Campus Health & Human Services Bldg North Washington Square 515 Lansing MI 48933 United States;X-APPLE-RADIUS=500;X-TITLE=North Washington Square 515:geo:-84.5524907,42.7391681
END:VEVENT
BEGIN:VEVENT
DTSTART;TZID=America/Detroit:20170219T100000
DTEND;TZID=America/Detroit:20170219T123000
DTSTAMP:20260422T182906
CREATED:20161103T200404Z
LAST-MODIFIED:20161103T200404Z
UID:10000576-1487498400-1487507400@theturningpointoflansing.org
SUMMARY:Parent Session
DESCRIPTION:
URL:https://theturningpointoflansing.org/upcoming/parent-session-2-3/
LOCATION:LCC Main Campus Health & Human Services Bldg\, North Washington Square 515\, Lansing\, MI\, 48933\, United States
CATEGORIES:Parent Session
GEO:42.7391681;-84.5524907
X-APPLE-STRUCTURED-LOCATION;VALUE=URI;X-ADDRESS=LCC Main Campus Health & Human Services Bldg North Washington Square 515 Lansing MI 48933 United States;X-APPLE-RADIUS=500;X-TITLE=North Washington Square 515:geo:-84.5524907,42.7391681
END:VEVENT
BEGIN:VEVENT
DTSTART;TZID=America/Detroit:20170219T100000
DTEND;TZID=America/Detroit:20170219T123000
DTSTAMP:20260422T182906
CREATED:20161103T200303Z
LAST-MODIFIED:20161103T200303Z
UID:10000174-1487498400-1487507400@theturningpointoflansing.org
SUMMARY:Mentoring Session
DESCRIPTION:
URL:https://theturningpointoflansing.org/upcoming/mentoring-session-4/
LOCATION:LCC Main Campus Health & Human Services Bldg\, North Washington Square 515\, Lansing\, MI\, 48933\, United States
CATEGORIES:Mentoring Session
GEO:42.7391681;-84.5524907
X-APPLE-STRUCTURED-LOCATION;VALUE=URI;X-ADDRESS=LCC Main Campus Health & Human Services Bldg North Washington Square 515 Lansing MI 48933 United States;X-APPLE-RADIUS=500;X-TITLE=North Washington Square 515:geo:-84.5524907,42.7391681
END:VEVENT
BEGIN:VEVENT
DTSTART;TZID=America/Detroit:20170219T100000
DTEND;TZID=America/Detroit:20170219T123000
DTSTAMP:20260422T182906
CREATED:20161103T200303Z
LAST-MODIFIED:20161103T200303Z
UID:10000372-1487498400-1487507400@theturningpointoflansing.org
SUMMARY:Mentoring Session
DESCRIPTION:
URL:https://theturningpointoflansing.org/upcoming/mentoring-session-4-2/
LOCATION:LCC Main Campus Health & Human Services Bldg\, North Washington Square 515\, Lansing\, MI\, 48933\, United States
CATEGORIES:Mentoring Session
GEO:42.7391681;-84.5524907
X-APPLE-STRUCTURED-LOCATION;VALUE=URI;X-ADDRESS=LCC Main Campus Health & Human Services Bldg North Washington Square 515 Lansing MI 48933 United States;X-APPLE-RADIUS=500;X-TITLE=North Washington Square 515:geo:-84.5524907,42.7391681
END:VEVENT
BEGIN:VEVENT
DTSTART;TZID=America/Detroit:20170219T100000
DTEND;TZID=America/Detroit:20170219T123000
DTSTAMP:20260422T182906
CREATED:20161103T200303Z
LAST-MODIFIED:20161103T200303Z
UID:10000575-1487498400-1487507400@theturningpointoflansing.org
SUMMARY:Mentoring Session
DESCRIPTION:
URL:https://theturningpointoflansing.org/upcoming/mentoring-session-4-3/
LOCATION:LCC Main Campus Health & Human Services Bldg\, North Washington Square 515\, Lansing\, MI\, 48933\, United States
CATEGORIES:Mentoring Session
GEO:42.7391681;-84.5524907
X-APPLE-STRUCTURED-LOCATION;VALUE=URI;X-ADDRESS=LCC Main Campus Health & Human Services Bldg North Washington Square 515 Lansing MI 48933 United States;X-APPLE-RADIUS=500;X-TITLE=North Washington Square 515:geo:-84.5524907,42.7391681
END:VEVENT
BEGIN:VEVENT
DTSTART;TZID=America/Detroit:20170226T110000
DTEND;TZID=America/Detroit:20170226T130000
DTSTAMP:20260422T182906
CREATED:20161103T200528Z
LAST-MODIFIED:20161103T200528Z
UID:10000176-1488106800-1488114000@theturningpointoflansing.org
SUMMARY:Recreation Session
DESCRIPTION:
URL:https://theturningpointoflansing.org/upcoming/recreation-session/
LOCATION:Alfreda Schmidt Southside Community Center\, Wise Road 5825\, Lansing\, MI\, 48911\, United States
CATEGORIES:Recreational Session
GEO:42.6726017;-84.5921649
X-APPLE-STRUCTURED-LOCATION;VALUE=URI;X-ADDRESS=Alfreda Schmidt Southside Community Center Wise Road 5825 Lansing MI 48911 United States;X-APPLE-RADIUS=500;X-TITLE=Wise Road 5825:geo:-84.5921649,42.6726017
END:VEVENT
BEGIN:VEVENT
DTSTART;TZID=America/Detroit:20170226T110000
DTEND;TZID=America/Detroit:20170226T130000
DTSTAMP:20260422T182906
CREATED:20161103T200528Z
LAST-MODIFIED:20161103T200528Z
UID:10000374-1488106800-1488114000@theturningpointoflansing.org
SUMMARY:Recreation Session
DESCRIPTION:
URL:https://theturningpointoflansing.org/upcoming/recreation-session-2/
LOCATION:Alfreda Schmidt Southside Community Center\, Wise Road 5825\, Lansing\, MI\, 48911\, United States
CATEGORIES:Recreational Session
GEO:42.6726017;-84.5921649
X-APPLE-STRUCTURED-LOCATION;VALUE=URI;X-ADDRESS=Alfreda Schmidt Southside Community Center Wise Road 5825 Lansing MI 48911 United States;X-APPLE-RADIUS=500;X-TITLE=Wise Road 5825:geo:-84.5921649,42.6726017
END:VEVENT
BEGIN:VEVENT
DTSTART;TZID=America/Detroit:20170226T110000
DTEND;TZID=America/Detroit:20170226T130000
DTSTAMP:20260422T182906
CREATED:20161103T200528Z
LAST-MODIFIED:20161103T200528Z
UID:10000577-1488106800-1488114000@theturningpointoflansing.org
SUMMARY:Recreation Session
DESCRIPTION:
URL:https://theturningpointoflansing.org/upcoming/recreation-session-3/
LOCATION:Alfreda Schmidt Southside Community Center\, Wise Road 5825\, Lansing\, MI\, 48911\, United States
CATEGORIES:Recreational Session
GEO:42.6726017;-84.5921649
X-APPLE-STRUCTURED-LOCATION;VALUE=URI;X-ADDRESS=Alfreda Schmidt Southside Community Center Wise Road 5825 Lansing MI 48911 United States;X-APPLE-RADIUS=500;X-TITLE=Wise Road 5825:geo:-84.5921649,42.6726017
END:VEVENT
BEGIN:VEVENT
DTSTART;TZID=America/Detroit:20170312T110000
DTEND;TZID=America/Detroit:20170312T133000
DTSTAMP:20260422T182906
CREATED:20161103T200644Z
LAST-MODIFIED:20161103T200644Z
UID:10000177-1489316400-1489325400@theturningpointoflansing.org
SUMMARY:Mentoring Session
DESCRIPTION:
URL:https://theturningpointoflansing.org/upcoming/mentoring-session-5/
LOCATION:LCC Main Campus Health & Human Services Bldg\, North Washington Square 515\, Lansing\, MI\, 48933\, United States
CATEGORIES:Mentoring Session
GEO:42.7391681;-84.5524907
X-APPLE-STRUCTURED-LOCATION;VALUE=URI;X-ADDRESS=LCC Main Campus Health & Human Services Bldg North Washington Square 515 Lansing MI 48933 United States;X-APPLE-RADIUS=500;X-TITLE=North Washington Square 515:geo:-84.5524907,42.7391681
END:VEVENT
BEGIN:VEVENT
DTSTART;TZID=America/Detroit:20170312T110000
DTEND;TZID=America/Detroit:20170312T133000
DTSTAMP:20260422T182906
CREATED:20161103T200644Z
LAST-MODIFIED:20161103T200644Z
UID:10000375-1489316400-1489325400@theturningpointoflansing.org
SUMMARY:Mentoring Session
DESCRIPTION:
URL:https://theturningpointoflansing.org/upcoming/mentoring-session-5-2/
LOCATION:LCC Main Campus Health & Human Services Bldg\, North Washington Square 515\, Lansing\, MI\, 48933\, United States
CATEGORIES:Mentoring Session
GEO:42.7391681;-84.5524907
X-APPLE-STRUCTURED-LOCATION;VALUE=URI;X-ADDRESS=LCC Main Campus Health & Human Services Bldg North Washington Square 515 Lansing MI 48933 United States;X-APPLE-RADIUS=500;X-TITLE=North Washington Square 515:geo:-84.5524907,42.7391681
END:VEVENT
BEGIN:VEVENT
DTSTART;TZID=America/Detroit:20170312T110000
DTEND;TZID=America/Detroit:20170312T133000
DTSTAMP:20260422T182906
CREATED:20161103T200644Z
LAST-MODIFIED:20161103T200644Z
UID:10000578-1489316400-1489325400@theturningpointoflansing.org
SUMMARY:Mentoring Session
DESCRIPTION:
URL:https://theturningpointoflansing.org/upcoming/mentoring-session-5-3/
LOCATION:LCC Main Campus Health & Human Services Bldg\, North Washington Square 515\, Lansing\, MI\, 48933\, United States
CATEGORIES:Mentoring Session
GEO:42.7391681;-84.5524907
X-APPLE-STRUCTURED-LOCATION;VALUE=URI;X-ADDRESS=LCC Main Campus Health & Human Services Bldg North Washington Square 515 Lansing MI 48933 United States;X-APPLE-RADIUS=500;X-TITLE=North Washington Square 515:geo:-84.5524907,42.7391681
END:VEVENT
END:VCALENDAR