BEGIN:VCALENDAR
VERSION:2.0
PRODID:-//The Turning Point of Lansing - ECPv6.15.20//NONSGML v1.0//EN
CALSCALE:GREGORIAN
METHOD:PUBLISH
X-ORIGINAL-URL:https://theturningpointoflansing.org
X-WR-CALDESC:Events for The Turning Point of Lansing
REFRESH-INTERVAL;VALUE=DURATION:PT1H
X-Robots-Tag:noindex
X-PUBLISHED-TTL:PT1H
BEGIN:VTIMEZONE
TZID:America/Detroit
BEGIN:DAYLIGHT
TZOFFSETFROM:-0500
TZOFFSETTO:-0400
TZNAME:EDT
DTSTART:20250309T070000
END:DAYLIGHT
BEGIN:STANDARD
TZOFFSETFROM:-0400
TZOFFSETTO:-0500
TZNAME:EST
DTSTART:20251102T060000
END:STANDARD
BEGIN:DAYLIGHT
TZOFFSETFROM:-0500
TZOFFSETTO:-0400
TZNAME:EDT
DTSTART:20260308T070000
END:DAYLIGHT
BEGIN:STANDARD
TZOFFSETFROM:-0400
TZOFFSETTO:-0500
TZNAME:EST
DTSTART:20261101T060000
END:STANDARD
BEGIN:DAYLIGHT
TZOFFSETFROM:-0500
TZOFFSETTO:-0400
TZNAME:EDT
DTSTART:20270314T070000
END:DAYLIGHT
BEGIN:STANDARD
TZOFFSETFROM:-0400
TZOFFSETTO:-0500
TZNAME:EST
DTSTART:20271107T060000
END:STANDARD
END:VTIMEZONE
BEGIN:VEVENT
DTSTART;TZID=America/Detroit:20260125T160000
DTEND;TZID=America/Detroit:20260125T183000
DTSTAMP:20260422T180202
CREATED:20251201T213301Z
LAST-MODIFIED:20251217T195345Z
UID:10000853-1769356800-1769365800@theturningpointoflansing.org
SUMMARY:Student Session
DESCRIPTION:Topic: Cash Flow Academy: Led by Archie Hudson \nRm. 123. Food will be provided.
URL:https://theturningpointoflansing.org/upcoming/student-session-19/
LOCATION:TTPOL Building\, 1221 Reo Rd\, Lansing\, MI\, 48910\, United States
CATEGORIES:Student Session
ATTACH;FMTTYPE=image/jpeg:https://theturningpointoflansing.org/wp-content/uploads/2025/10/nachristos-sK0g8v-UBR4-unsplash-scaled.jpg
GEO:42.6862331;-84.5706137
X-APPLE-STRUCTURED-LOCATION;VALUE=URI;X-ADDRESS=TTPOL Building 1221 Reo Rd Lansing MI 48910 United States;X-APPLE-RADIUS=500;X-TITLE=1221 Reo Rd:geo:-84.5706137,42.6862331
END:VEVENT
BEGIN:VEVENT
DTSTART;TZID=America/Detroit:20260125T160000
DTEND;TZID=America/Detroit:20260125T183000
DTSTAMP:20260422T180202
CREATED:20251217T184641Z
LAST-MODIFIED:20251217T194739Z
UID:10000858-1769356800-1769365800@theturningpointoflansing.org
SUMMARY:Parent Session
DESCRIPTION:Topic: Mental Health-Led by Erin King \nFood will be provided
URL:https://theturningpointoflansing.org/upcoming/parent-session-16/2026-01-25/
LOCATION:TTPOL Building\, 1221 Reo Rd\, Lansing\, MI\, 48910\, United States
CATEGORIES:Parent Session
ATTACH;FMTTYPE=image/jpeg:https://theturningpointoflansing.org/wp-content/uploads/2024/10/Parent-session.jpg
GEO:42.6862331;-84.5706137
X-APPLE-STRUCTURED-LOCATION;VALUE=URI;X-ADDRESS=TTPOL Building 1221 Reo Rd Lansing MI 48910 United States;X-APPLE-RADIUS=500;X-TITLE=1221 Reo Rd:geo:-84.5706137,42.6862331
END:VEVENT
BEGIN:VEVENT
DTSTART;TZID=America/Detroit:20260215T153000
DTEND;TZID=America/Detroit:20260215T183000
DTSTAMP:20260422T180202
CREATED:20251217T183904Z
LAST-MODIFIED:20260211T195947Z
UID:10000859-1771169400-1771180200@theturningpointoflansing.org
SUMMARY:Student Session
DESCRIPTION:Topic: First Aid/CPR Led by Dr. Cathy Scott Lynch \nFood will be provided
URL:https://theturningpointoflansing.org/upcoming/student-session-20/
LOCATION:TTPOL Building\, 1221 Reo Rd\, Lansing\, MI\, 48910\, United States
CATEGORIES:Student Session
ATTACH;FMTTYPE=image/jpeg:https://theturningpointoflansing.org/wp-content/uploads/2025/10/nachristos-sK0g8v-UBR4-unsplash-scaled.jpg
GEO:42.6862331;-84.5706137
X-APPLE-STRUCTURED-LOCATION;VALUE=URI;X-ADDRESS=TTPOL Building 1221 Reo Rd Lansing MI 48910 United States;X-APPLE-RADIUS=500;X-TITLE=1221 Reo Rd:geo:-84.5706137,42.6862331
END:VEVENT
BEGIN:VEVENT
DTSTART;TZID=America/Detroit:20260221T130000
DTEND;TZID=America/Detroit:20260221T153000
DTSTAMP:20260422T180202
CREATED:20251217T183600Z
LAST-MODIFIED:20260211T200810Z
UID:10000878-1771678800-1771687800@theturningpointoflansing.org
SUMMARY:Money Masters Scholarship Program
DESCRIPTION:Lake Trust Credit Union \nAll 12th Graders \nFood will be provided
URL:https://theturningpointoflansing.org/upcoming/money-masters-scholarship-program/2026-02-21/
LOCATION:Lake Trust Credit Union\, 624 S. Washington\, Lansing\, MI\, 48933\, United States
ATTACH;FMTTYPE=image/jpeg:https://theturningpointoflansing.org/wp-content/uploads/2025/12/qtq80-feJ5MH.jpeg
GEO:42.7265045;-84.5526327
X-APPLE-STRUCTURED-LOCATION;VALUE=URI;X-ADDRESS=Lake Trust Credit Union 624 S. Washington Lansing MI 48933 United States;X-APPLE-RADIUS=500;X-TITLE=624 S. Washington:geo:-84.5526327,42.7265045
END:VEVENT
BEGIN:VEVENT
DTSTART;TZID=America/Detroit:20260222T160000
DTEND;TZID=America/Detroit:20260222T183000
DTSTAMP:20260422T180202
CREATED:20251217T184641Z
LAST-MODIFIED:20251217T194739Z
UID:10000860-1771776000-1771785000@theturningpointoflansing.org
SUMMARY:Parent Session
DESCRIPTION:Topic: Mental Health-Led by Erin King \nFood will be provided
URL:https://theturningpointoflansing.org/upcoming/parent-session-16/2026-02-22/
LOCATION:TTPOL Building\, 1221 Reo Rd\, Lansing\, MI\, 48910\, United States
CATEGORIES:Parent Session
ATTACH;FMTTYPE=image/jpeg:https://theturningpointoflansing.org/wp-content/uploads/2024/10/Parent-session.jpg
GEO:42.6862331;-84.5706137
X-APPLE-STRUCTURED-LOCATION;VALUE=URI;X-ADDRESS=TTPOL Building 1221 Reo Rd Lansing MI 48910 United States;X-APPLE-RADIUS=500;X-TITLE=1221 Reo Rd:geo:-84.5706137,42.6862331
END:VEVENT
BEGIN:VEVENT
DTSTART;TZID=America/Detroit:20260222T160000
DTEND;TZID=America/Detroit:20260222T183000
DTSTAMP:20260422T180202
CREATED:20260211T200047Z
LAST-MODIFIED:20260211T210359Z
UID:10000883-1771776000-1771785000@theturningpointoflansing.org
SUMMARY:Student Session
DESCRIPTION:Topic: Cash Flow Academy: Led by Archie Hudson \nRm. 123. Food will be provided.
URL:https://theturningpointoflansing.org/upcoming/student-session-19-2/2026-02-22/
LOCATION:TTPOL Building\, 1221 Reo Rd\, Lansing\, MI\, 48910\, United States
CATEGORIES:Student Session
ATTACH;FMTTYPE=image/jpeg:https://theturningpointoflansing.org/wp-content/uploads/2025/10/nachristos-sK0g8v-UBR4-unsplash-scaled.jpg
GEO:42.6862331;-84.5706137
X-APPLE-STRUCTURED-LOCATION;VALUE=URI;X-ADDRESS=TTPOL Building 1221 Reo Rd Lansing MI 48910 United States;X-APPLE-RADIUS=500;X-TITLE=1221 Reo Rd:geo:-84.5706137,42.6862331
END:VEVENT
BEGIN:VEVENT
DTSTART;TZID=America/Detroit:20260228T130000
DTEND;TZID=America/Detroit:20260228T153000
DTSTAMP:20260422T180202
CREATED:20251217T183600Z
LAST-MODIFIED:20260211T200810Z
UID:10000882-1772283600-1772292600@theturningpointoflansing.org
SUMMARY:Money Masters Scholarship Program
DESCRIPTION:Lake Trust Credit Union \nAll 12th Graders \nFood will be provided
URL:https://theturningpointoflansing.org/upcoming/money-masters-scholarship-program/2026-02-28/
LOCATION:Lake Trust Credit Union\, 624 S. Washington\, Lansing\, MI\, 48933\, United States
ATTACH;FMTTYPE=image/jpeg:https://theturningpointoflansing.org/wp-content/uploads/2025/12/qtq80-feJ5MH.jpeg
GEO:42.7265045;-84.5526327
X-APPLE-STRUCTURED-LOCATION;VALUE=URI;X-ADDRESS=Lake Trust Credit Union 624 S. Washington Lansing MI 48933 United States;X-APPLE-RADIUS=500;X-TITLE=624 S. Washington:geo:-84.5526327,42.7265045
END:VEVENT
BEGIN:VEVENT
DTSTART;TZID=America/Detroit:20260308T160000
DTEND;TZID=America/Detroit:20260308T183000
DTSTAMP:20260422T180202
CREATED:20260211T200047Z
LAST-MODIFIED:20260211T210359Z
UID:10000863-1772985600-1772994600@theturningpointoflansing.org
SUMMARY:Student Session
DESCRIPTION:Topic: Cash Flow Academy: Led by Archie Hudson \nRm. 123. Food will be provided.
URL:https://theturningpointoflansing.org/upcoming/student-session-19-2/2026-03-08/
LOCATION:TTPOL Building\, 1221 Reo Rd\, Lansing\, MI\, 48910\, United States
CATEGORIES:Student Session
ATTACH;FMTTYPE=image/jpeg:https://theturningpointoflansing.org/wp-content/uploads/2025/10/nachristos-sK0g8v-UBR4-unsplash-scaled.jpg
GEO:42.6862331;-84.5706137
X-APPLE-STRUCTURED-LOCATION;VALUE=URI;X-ADDRESS=TTPOL Building 1221 Reo Rd Lansing MI 48910 United States;X-APPLE-RADIUS=500;X-TITLE=1221 Reo Rd:geo:-84.5706137,42.6862331
END:VEVENT
BEGIN:VEVENT
DTSTART;TZID=America/Detroit:20260322T160000
DTEND;TZID=America/Detroit:20260322T183000
DTSTAMP:20260422T180202
CREATED:20251217T200131Z
LAST-MODIFIED:20251217T202031Z
UID:10000865-1774195200-1774204200@theturningpointoflansing.org
SUMMARY:Parent & Session Combine
DESCRIPTION:Cash Flow Academy-Led by Archie Hudson \nCombine session of Parent/Students \nFood will be provided
URL:https://theturningpointoflansing.org/upcoming/parent-session-combine/2026-03-22/
LOCATION:TTPOL Building\, 1221 Reo Rd\, Lansing\, MI\, 48910\, United States
CATEGORIES:Parent Session,Student Session
ATTACH;FMTTYPE=image/jpeg:https://theturningpointoflansing.org/wp-content/uploads/2025/12/qtq80-feJ5MH.jpeg
GEO:42.6862331;-84.5706137
X-APPLE-STRUCTURED-LOCATION;VALUE=URI;X-ADDRESS=TTPOL Building 1221 Reo Rd Lansing MI 48910 United States;X-APPLE-RADIUS=500;X-TITLE=1221 Reo Rd:geo:-84.5706137,42.6862331
END:VEVENT
BEGIN:VEVENT
DTSTART;VALUE=DATE:20260330
DTEND;VALUE=DATE:20260406
DTSTAMP:20260422T180202
CREATED:20251217T202915Z
LAST-MODIFIED:20251219T205636Z
UID:10000867-1774828800-1775433599@theturningpointoflansing.org
SUMMARY:School Spring Break Activities
DESCRIPTION:
URL:https://theturningpointoflansing.org/upcoming/school-spring-break-activities-6/
CATEGORIES:School Spring Break
ATTACH;FMTTYPE=image/jpeg:https://theturningpointoflansing.org/wp-content/uploads/2025/12/qtq80-XqKY0O.jpeg
END:VEVENT
BEGIN:VEVENT
DTSTART;TZID=America/Detroit:20260402T100000
DTEND;TZID=America/Detroit:20260402T113000
DTSTAMP:20260422T180202
CREATED:20251219T210629Z
LAST-MODIFIED:20251219T211307Z
UID:10000874-1775124000-1775129400@theturningpointoflansing.org
SUMMARY:Facility for Rare Isotope Beams (FRIB)Tour
DESCRIPTION:At the Facility for Rare Isotope Beams (FRIB) at Michigan State University.
URL:https://theturningpointoflansing.org/upcoming/facility-for-rare-isotope-beams-fribtour/
LOCATION:Facility for Rare Isotope Beams\, 640 South Shaw Lane \, East Lansing\, MI\, 48824\, United States
ATTACH;FMTTYPE=image/jpeg:https://theturningpointoflansing.org/wp-content/uploads/2023/09/upcomingevent.jpg
GEO:42.7249316;-84.4744801
X-APPLE-STRUCTURED-LOCATION;VALUE=URI;X-ADDRESS=Facility for Rare Isotope Beams 640 South Shaw Lane  East Lansing MI 48824 United States;X-APPLE-RADIUS=500;X-TITLE=640 South Shaw Lane :geo:-84.4744801,42.7249316
END:VEVENT
BEGIN:VEVENT
DTSTART;TZID=America/Detroit:20260412T160000
DTEND;TZID=America/Detroit:20260412T183000
DTSTAMP:20260422T180202
CREATED:20260211T200047Z
LAST-MODIFIED:20260211T210359Z
UID:10000864-1776009600-1776018600@theturningpointoflansing.org
SUMMARY:Student Session
DESCRIPTION:Topic: Cash Flow Academy: Led by Archie Hudson \nRm. 123. Food will be provided.
URL:https://theturningpointoflansing.org/upcoming/student-session-19-2/2026-04-12/
LOCATION:TTPOL Building\, 1221 Reo Rd\, Lansing\, MI\, 48910\, United States
CATEGORIES:Student Session
ATTACH;FMTTYPE=image/jpeg:https://theturningpointoflansing.org/wp-content/uploads/2025/10/nachristos-sK0g8v-UBR4-unsplash-scaled.jpg
GEO:42.6862331;-84.5706137
X-APPLE-STRUCTURED-LOCATION;VALUE=URI;X-ADDRESS=TTPOL Building 1221 Reo Rd Lansing MI 48910 United States;X-APPLE-RADIUS=500;X-TITLE=1221 Reo Rd:geo:-84.5706137,42.6862331
END:VEVENT
BEGIN:VEVENT
DTSTART;TZID=America/Detroit:20260426T160000
DTEND;TZID=America/Detroit:20260426T183000
DTSTAMP:20260422T180202
CREATED:20251217T200131Z
LAST-MODIFIED:20251217T202031Z
UID:10000866-1777219200-1777228200@theturningpointoflansing.org
SUMMARY:Parent & Session Combine
DESCRIPTION:Cash Flow Academy-Led by Archie Hudson \nCombine session of Parent/Students \nFood will be provided
URL:https://theturningpointoflansing.org/upcoming/parent-session-combine/2026-04-26/
LOCATION:TTPOL Building\, 1221 Reo Rd\, Lansing\, MI\, 48910\, United States
CATEGORIES:Parent Session,Student Session
ATTACH;FMTTYPE=image/jpeg:https://theturningpointoflansing.org/wp-content/uploads/2025/12/qtq80-feJ5MH.jpeg
GEO:42.6862331;-84.5706137
X-APPLE-STRUCTURED-LOCATION;VALUE=URI;X-ADDRESS=TTPOL Building 1221 Reo Rd Lansing MI 48910 United States;X-APPLE-RADIUS=500;X-TITLE=1221 Reo Rd:geo:-84.5706137,42.6862331
END:VEVENT
BEGIN:VEVENT
DTSTART;TZID=America/Detroit:20260503T160000
DTEND;TZID=America/Detroit:20260503T183000
DTSTAMP:20260422T180202
CREATED:20251217T203804Z
LAST-MODIFIED:20260312T163940Z
UID:10000868-1777824000-1777833000@theturningpointoflansing.org
SUMMARY:Parent Session
DESCRIPTION:Mental Health-Led by Erin King LMWS
URL:https://theturningpointoflansing.org/upcoming/parent-session-17/
LOCATION:Alfreda Schmidt Southside Community Center\, Wise Road 5825\, Lansing\, MI\, 48911\, United States
CATEGORIES:Parent Session
ATTACH;FMTTYPE=image/jpeg:https://theturningpointoflansing.org/wp-content/uploads/2024/09/GettyImages-1408304017.jpg
GEO:42.6726017;-84.5921649
X-APPLE-STRUCTURED-LOCATION;VALUE=URI;X-ADDRESS=Alfreda Schmidt Southside Community Center Wise Road 5825 Lansing MI 48911 United States;X-APPLE-RADIUS=500;X-TITLE=Wise Road 5825:geo:-84.5921649,42.6726017
END:VEVENT
BEGIN:VEVENT
DTSTART;TZID=America/Detroit:20260503T160000
DTEND;TZID=America/Detroit:20260503T183000
DTSTAMP:20260422T180202
CREATED:20251217T204114Z
LAST-MODIFIED:20251217T204114Z
UID:10000869-1777824000-1777833000@theturningpointoflansing.org
SUMMARY:Student Dress Rehearsal & Recreational Session
DESCRIPTION:
URL:https://theturningpointoflansing.org/upcoming/student-dress-rehearsal-recreational-session/
LOCATION:Hill Vocational Center\, 5825 Wise Road\, Lansing\, MI\, 48911\, United States
CATEGORIES:Dress Rehearsal,Recreational Session
ATTACH;FMTTYPE=image/jpeg:https://theturningpointoflansing.org/wp-content/uploads/2025/10/nachristos-sK0g8v-UBR4-unsplash-scaled.jpg
GEO:42.6736083;-84.590612
X-APPLE-STRUCTURED-LOCATION;VALUE=URI;X-ADDRESS=Hill Vocational Center 5825 Wise Road Lansing MI 48911 United States;X-APPLE-RADIUS=500;X-TITLE=5825 Wise Road:geo:-84.590612,42.6736083
END:VEVENT
BEGIN:VEVENT
DTSTART;TZID=America/Detroit:20260514T173000
DTEND;TZID=America/Detroit:20260514T193000
DTSTAMP:20260422T180202
CREATED:20251217T205426Z
LAST-MODIFIED:20251217T205426Z
UID:10000870-1778779800-1778787000@theturningpointoflansing.org
SUMMARY:Rites of Passage Ceremony Rehearsal
DESCRIPTION:TBA \n(All Students Participate) \n“ROP Preparation”
URL:https://theturningpointoflansing.org/upcoming/rites-of-passage-ceremony-rehearsal/
CATEGORIES:Rites of Passage Rehearsal
END:VEVENT
BEGIN:VEVENT
DTSTART;TZID=America/Detroit:20260515T190000
DTEND;TZID=America/Detroit:20260515T210000
DTSTAMP:20260422T180202
CREATED:20260108T182531Z
LAST-MODIFIED:20260108T203016Z
UID:10000875-1778871600-1778878800@theturningpointoflansing.org
SUMMARY:Rights of Passage Ceremony - TTPOL 20TH Anniversary
DESCRIPTION:Rights of Passage Ceremony\nJoin us as we celebrate 20 years of The Turning Point of Lansing! As a 501(c)(3)  nonprofit\, TTPOL provides a vital Afrocentric mentoring experience that empowers African American young men (grades 6–12) to overcome challenges and achieve success in their schools and communities. Help us honor two decades of transforming “Boys to Men.” \n*Donations\, Sponsorship\, Exhibiting\, and Silent Auction  opportunities are available. \nContact Ebony Schumake at eschumake@theturningpointoflansing.org for more information.*
URL:https://theturningpointoflansing.org/upcoming/20th-anniversary-of-the-turning-point-of-lansing/
LOCATION:The Venue by Eleven 11 Events\, 5660 W. Saginaw Hwy\, Lansing\, Michigan\, 48917\, United States
CATEGORIES:Rites of Passage Ceremony
ATTACH;FMTTYPE=image/png:https://theturningpointoflansing.org/wp-content/uploads/2026/01/Screenshot-2026-01-08-at-1.20.52-PM.png
GEO:42.7427986;-84.6281068
X-APPLE-STRUCTURED-LOCATION;VALUE=URI;X-ADDRESS=The Venue by Eleven 11 Events 5660 W. Saginaw Hwy Lansing Michigan 48917 United States;X-APPLE-RADIUS=500;X-TITLE=5660 W. Saginaw Hwy:geo:-84.6281068,42.7427986
END:VEVENT
BEGIN:VEVENT
DTSTART;TZID=America/Detroit:20260516T150000
DTEND;TZID=America/Detroit:20260516T180000
DTSTAMP:20260422T180202
CREATED:20251217T210151Z
LAST-MODIFIED:20260108T183148Z
UID:10000872-1778943600-1778954400@theturningpointoflansing.org
SUMMARY:TTPOL 20TH Anniversary Cookout Celebration
DESCRIPTION:Community Cookout
URL:https://theturningpointoflansing.org/upcoming/ttpol-20th-anniversary-celebration/
LOCATION:Francis Park Pavilion\, Moores River Drive\, Lansing\, MI\, 48911\, United States
ATTACH;FMTTYPE=image/jpeg:https://theturningpointoflansing.org/wp-content/uploads/2025/12/qtq80-FLubus.jpeg
GEO:42.7200439;-84.5872845
X-APPLE-STRUCTURED-LOCATION;VALUE=URI;X-ADDRESS=Francis Park Pavilion Moores River Drive Lansing MI 48911 United States;X-APPLE-RADIUS=500;X-TITLE=Moores River Drive:geo:-84.5872845,42.7200439
END:VEVENT
BEGIN:VEVENT
DTSTART;TZID=America/Detroit:20260613T120000
DTEND;TZID=America/Detroit:20260620T220000
DTSTAMP:20260422T180202
CREATED:20251217T211918Z
LAST-MODIFIED:20251217T212355Z
UID:10000873-1781352000-1781992800@theturningpointoflansing.org
SUMMARY:The Juneteenth Freedom Festival
DESCRIPTION:Friday (06-13) (TBA) Annual Ballgame\nThursday\, (06-18) (TBA) Kickoff Celebration\nFriday (06-19) 4-8:30pm | Freedom Festival Family Night\nSaturday (06-20) 11am-5pm | African American Parade (J.W. Sexton HS\, Front entrance & end at the St. Joseph (St. Joe). Park to continue the Outdoor Freedom Festival.)\n\nThe festival kicks off at 12 noon & runs until dusk & features a Health Fair. Juneteenth/NAACP Job Fair\, Art Form Exhibits\, Merchants & Food vendors along with children’s activities & musical entertainment.
URL:https://theturningpointoflansing.org/upcoming/the-juneteenth-freedom-festival/
LOCATION:St. Joeseph Park\, 2125 W Hillsdale\, Lansing\, MI\, 48915\, United States
CATEGORIES:Juneteenth
ATTACH;FMTTYPE=image/jpeg:https://theturningpointoflansing.org/wp-content/uploads/2025/12/derek-lamar-nHR8J77KiqU-unsplash-scaled.jpg
GEO:42.7315574;-84.580517
X-APPLE-STRUCTURED-LOCATION;VALUE=URI;X-ADDRESS=St. Joeseph Park 2125 W Hillsdale Lansing MI 48915 United States;X-APPLE-RADIUS=500;X-TITLE=2125 W Hillsdale:geo:-84.580517,42.7315574
END:VEVENT
END:VCALENDAR