BEGIN:VCALENDAR
VERSION:2.0
PRODID:-//The Turning Point of Lansing - ECPv6.15.20//NONSGML v1.0//EN
CALSCALE:GREGORIAN
METHOD:PUBLISH
X-WR-CALNAME:The Turning Point of Lansing
X-ORIGINAL-URL:https://theturningpointoflansing.org
X-WR-CALDESC:Events for The Turning Point of Lansing
REFRESH-INTERVAL;VALUE=DURATION:PT1H
X-Robots-Tag:noindex
X-PUBLISHED-TTL:PT1H
BEGIN:VTIMEZONE
TZID:America/Detroit
BEGIN:DAYLIGHT
TZOFFSETFROM:-0500
TZOFFSETTO:-0400
TZNAME:EDT
DTSTART:20170312T070000
END:DAYLIGHT
BEGIN:STANDARD
TZOFFSETFROM:-0400
TZOFFSETTO:-0500
TZNAME:EST
DTSTART:20171105T060000
END:STANDARD
BEGIN:DAYLIGHT
TZOFFSETFROM:-0500
TZOFFSETTO:-0400
TZNAME:EDT
DTSTART:20180311T070000
END:DAYLIGHT
BEGIN:STANDARD
TZOFFSETFROM:-0400
TZOFFSETTO:-0500
TZNAME:EST
DTSTART:20181104T060000
END:STANDARD
BEGIN:DAYLIGHT
TZOFFSETFROM:-0500
TZOFFSETTO:-0400
TZNAME:EDT
DTSTART:20190310T070000
END:DAYLIGHT
BEGIN:STANDARD
TZOFFSETFROM:-0400
TZOFFSETTO:-0500
TZNAME:EST
DTSTART:20191103T060000
END:STANDARD
END:VTIMEZONE
BEGIN:VEVENT
DTSTART;TZID=America/Detroit:20180218T100000
DTEND;TZID=America/Detroit:20180218T123000
DTSTAMP:20260423T091822
CREATED:20180403T172037Z
LAST-MODIFIED:20180403T172119Z
UID:10000211-1518948000-1518957000@theturningpointoflansing.org
SUMMARY:Parent Session
DESCRIPTION:“Keeping Track of MY $$$”
URL:https://theturningpointoflansing.org/upcoming/parent-session-2-copy/
LOCATION:LCC Main Campus Health & Human Services Bldg\, North Washington Square 515\, Lansing\, MI\, 48933\, United States
CATEGORIES:Parent Session
GEO:42.7391681;-84.5524907
X-APPLE-STRUCTURED-LOCATION;VALUE=URI;X-ADDRESS=LCC Main Campus Health & Human Services Bldg North Washington Square 515 Lansing MI 48933 United States;X-APPLE-RADIUS=500;X-TITLE=North Washington Square 515:geo:-84.5524907,42.7391681
END:VEVENT
BEGIN:VEVENT
DTSTART;TZID=America/Detroit:20180218T100000
DTEND;TZID=America/Detroit:20180218T123000
DTSTAMP:20260423T091822
CREATED:20180403T172037Z
LAST-MODIFIED:20180403T172037Z
UID:10000409-1518948000-1518957000@theturningpointoflansing.org
SUMMARY:Parent Session
DESCRIPTION:“Keeping Track of MY $$$”
URL:https://theturningpointoflansing.org/upcoming/parent-session-2-copy-2/
LOCATION:LCC Main Campus Health & Human Services Bldg\, North Washington Square 515\, Lansing\, MI\, 48933\, United States
CATEGORIES:Parent Session
GEO:42.7391681;-84.5524907
X-APPLE-STRUCTURED-LOCATION;VALUE=URI;X-ADDRESS=LCC Main Campus Health & Human Services Bldg North Washington Square 515 Lansing MI 48933 United States;X-APPLE-RADIUS=500;X-TITLE=North Washington Square 515:geo:-84.5524907,42.7391681
END:VEVENT
BEGIN:VEVENT
DTSTART;TZID=America/Detroit:20180218T100000
DTEND;TZID=America/Detroit:20180218T123000
DTSTAMP:20260423T091822
CREATED:20180403T172037Z
LAST-MODIFIED:20180403T172037Z
UID:10000613-1518948000-1518957000@theturningpointoflansing.org
SUMMARY:Parent Session
DESCRIPTION:“Keeping Track of MY $$$”
URL:https://theturningpointoflansing.org/upcoming/parent-session-2-copy-3/
LOCATION:LCC Main Campus Health & Human Services Bldg\, North Washington Square 515\, Lansing\, MI\, 48933\, United States
CATEGORIES:Parent Session
GEO:42.7391681;-84.5524907
X-APPLE-STRUCTURED-LOCATION;VALUE=URI;X-ADDRESS=LCC Main Campus Health & Human Services Bldg North Washington Square 515 Lansing MI 48933 United States;X-APPLE-RADIUS=500;X-TITLE=North Washington Square 515:geo:-84.5524907,42.7391681
END:VEVENT
BEGIN:VEVENT
DTSTART;TZID=America/Detroit:20180218T100000
DTEND;TZID=America/Detroit:20180218T123000
DTSTAMP:20260423T091822
CREATED:20180403T171811Z
LAST-MODIFIED:20180403T172003Z
UID:10000210-1518948000-1518957000@theturningpointoflansing.org
SUMMARY:Mentoring Session
DESCRIPTION:“Keeping Track of MY $$$”
URL:https://theturningpointoflansing.org/upcoming/mentoring-session-4-copy/
LOCATION:LCC Main Campus Health & Human Services Bldg\, North Washington Square 515\, Lansing\, MI\, 48933\, United States
CATEGORIES:Mentoring Session
GEO:42.7391681;-84.5524907
X-APPLE-STRUCTURED-LOCATION;VALUE=URI;X-ADDRESS=LCC Main Campus Health & Human Services Bldg North Washington Square 515 Lansing MI 48933 United States;X-APPLE-RADIUS=500;X-TITLE=North Washington Square 515:geo:-84.5524907,42.7391681
END:VEVENT
BEGIN:VEVENT
DTSTART;TZID=America/Detroit:20180218T100000
DTEND;TZID=America/Detroit:20180218T123000
DTSTAMP:20260423T091822
CREATED:20180403T171811Z
LAST-MODIFIED:20180403T171811Z
UID:10000408-1518948000-1518957000@theturningpointoflansing.org
SUMMARY:Mentoring Session
DESCRIPTION:“Keeping Track of MY $$$”
URL:https://theturningpointoflansing.org/upcoming/mentoring-session-4-copy-2/
LOCATION:LCC Main Campus Health & Human Services Bldg\, North Washington Square 515\, Lansing\, MI\, 48933\, United States
CATEGORIES:Mentoring Session
GEO:42.7391681;-84.5524907
X-APPLE-STRUCTURED-LOCATION;VALUE=URI;X-ADDRESS=LCC Main Campus Health & Human Services Bldg North Washington Square 515 Lansing MI 48933 United States;X-APPLE-RADIUS=500;X-TITLE=North Washington Square 515:geo:-84.5524907,42.7391681
END:VEVENT
BEGIN:VEVENT
DTSTART;TZID=America/Detroit:20180218T100000
DTEND;TZID=America/Detroit:20180218T123000
DTSTAMP:20260423T091822
CREATED:20180403T171811Z
LAST-MODIFIED:20180403T171811Z
UID:10000612-1518948000-1518957000@theturningpointoflansing.org
SUMMARY:Mentoring Session
DESCRIPTION:“Keeping Track of MY $$$”
URL:https://theturningpointoflansing.org/upcoming/mentoring-session-4-copy-3/
LOCATION:LCC Main Campus Health & Human Services Bldg\, North Washington Square 515\, Lansing\, MI\, 48933\, United States
CATEGORIES:Mentoring Session
GEO:42.7391681;-84.5524907
X-APPLE-STRUCTURED-LOCATION;VALUE=URI;X-ADDRESS=LCC Main Campus Health & Human Services Bldg North Washington Square 515 Lansing MI 48933 United States;X-APPLE-RADIUS=500;X-TITLE=North Washington Square 515:geo:-84.5524907,42.7391681
END:VEVENT
BEGIN:VEVENT
DTSTART;TZID=America/Detroit:20180225T110000
DTEND;TZID=America/Detroit:20180225T130000
DTSTAMP:20260423T091822
CREATED:20180403T172249Z
LAST-MODIFIED:20180403T172501Z
UID:10000212-1519556400-1519563600@theturningpointoflansing.org
SUMMARY:Recreational Session
DESCRIPTION:
URL:https://theturningpointoflansing.org/upcoming/recreational-session-5-copy/
LOCATION:Alfreda Schmidt Southside Community Center\, Wise Road 5825\, Lansing\, MI\, 48911\, United States
CATEGORIES:Recreational Session
GEO:42.6726017;-84.5921649
X-APPLE-STRUCTURED-LOCATION;VALUE=URI;X-ADDRESS=Alfreda Schmidt Southside Community Center Wise Road 5825 Lansing MI 48911 United States;X-APPLE-RADIUS=500;X-TITLE=Wise Road 5825:geo:-84.5921649,42.6726017
END:VEVENT
BEGIN:VEVENT
DTSTART;TZID=America/Detroit:20180225T110000
DTEND;TZID=America/Detroit:20180225T130000
DTSTAMP:20260423T091822
CREATED:20180403T172249Z
LAST-MODIFIED:20180403T172249Z
UID:10000410-1519556400-1519563600@theturningpointoflansing.org
SUMMARY:Recreational Session
DESCRIPTION:
URL:https://theturningpointoflansing.org/upcoming/recreational-session-5-copy-2/
LOCATION:Alfreda Schmidt Southside Community Center\, Wise Road 5825\, Lansing\, MI\, 48911\, United States
CATEGORIES:Recreational Session
GEO:42.6726017;-84.5921649
X-APPLE-STRUCTURED-LOCATION;VALUE=URI;X-ADDRESS=Alfreda Schmidt Southside Community Center Wise Road 5825 Lansing MI 48911 United States;X-APPLE-RADIUS=500;X-TITLE=Wise Road 5825:geo:-84.5921649,42.6726017
END:VEVENT
BEGIN:VEVENT
DTSTART;TZID=America/Detroit:20180225T110000
DTEND;TZID=America/Detroit:20180225T130000
DTSTAMP:20260423T091822
CREATED:20180403T172249Z
LAST-MODIFIED:20180403T172249Z
UID:10000614-1519556400-1519563600@theturningpointoflansing.org
SUMMARY:Recreational Session
DESCRIPTION:
URL:https://theturningpointoflansing.org/upcoming/recreational-session-5-copy-3/
LOCATION:Alfreda Schmidt Southside Community Center\, Wise Road 5825\, Lansing\, MI\, 48911\, United States
CATEGORIES:Recreational Session
GEO:42.6726017;-84.5921649
X-APPLE-STRUCTURED-LOCATION;VALUE=URI;X-ADDRESS=Alfreda Schmidt Southside Community Center Wise Road 5825 Lansing MI 48911 United States;X-APPLE-RADIUS=500;X-TITLE=Wise Road 5825:geo:-84.5921649,42.6726017
END:VEVENT
BEGIN:VEVENT
DTSTART;TZID=America/Detroit:20180311T110000
DTEND;TZID=America/Detroit:20180311T133000
DTSTAMP:20260423T091822
CREATED:20180403T173601Z
LAST-MODIFIED:20180403T173841Z
UID:10000213-1520766000-1520775000@theturningpointoflansing.org
SUMMARY:Mentoring & Parent Session
DESCRIPTION:“Racing to the Finish Line”
URL:https://theturningpointoflansing.org/upcoming/mentoring-session-5-copy/
LOCATION:LCC Main Campus Health & Human Services Bldg\, North Washington Square 515\, Lansing\, MI\, 48933\, United States
CATEGORIES:Mentoring Session,Parent Session
GEO:42.7391681;-84.5524907
X-APPLE-STRUCTURED-LOCATION;VALUE=URI;X-ADDRESS=LCC Main Campus Health & Human Services Bldg North Washington Square 515 Lansing MI 48933 United States;X-APPLE-RADIUS=500;X-TITLE=North Washington Square 515:geo:-84.5524907,42.7391681
END:VEVENT
BEGIN:VEVENT
DTSTART;TZID=America/Detroit:20180311T110000
DTEND;TZID=America/Detroit:20180311T133000
DTSTAMP:20260423T091822
CREATED:20180403T173601Z
LAST-MODIFIED:20180403T173601Z
UID:10000411-1520766000-1520775000@theturningpointoflansing.org
SUMMARY:Mentoring & Parent Session
DESCRIPTION:“Racing to the Finish Line”
URL:https://theturningpointoflansing.org/upcoming/mentoring-session-5-copy-2/
LOCATION:LCC Main Campus Health & Human Services Bldg\, North Washington Square 515\, Lansing\, MI\, 48933\, United States
CATEGORIES:Mentoring Session,Parent Session
GEO:42.7391681;-84.5524907
X-APPLE-STRUCTURED-LOCATION;VALUE=URI;X-ADDRESS=LCC Main Campus Health & Human Services Bldg North Washington Square 515 Lansing MI 48933 United States;X-APPLE-RADIUS=500;X-TITLE=North Washington Square 515:geo:-84.5524907,42.7391681
END:VEVENT
BEGIN:VEVENT
DTSTART;TZID=America/Detroit:20180311T110000
DTEND;TZID=America/Detroit:20180311T133000
DTSTAMP:20260423T091822
CREATED:20180403T173601Z
LAST-MODIFIED:20180403T173601Z
UID:10000615-1520766000-1520775000@theturningpointoflansing.org
SUMMARY:Mentoring & Parent Session
DESCRIPTION:“Racing to the Finish Line”
URL:https://theturningpointoflansing.org/upcoming/mentoring-session-5-copy-3/
LOCATION:LCC Main Campus Health & Human Services Bldg\, North Washington Square 515\, Lansing\, MI\, 48933\, United States
CATEGORIES:Mentoring Session,Parent Session
GEO:42.7391681;-84.5524907
X-APPLE-STRUCTURED-LOCATION;VALUE=URI;X-ADDRESS=LCC Main Campus Health & Human Services Bldg North Washington Square 515 Lansing MI 48933 United States;X-APPLE-RADIUS=500;X-TITLE=North Washington Square 515:geo:-84.5524907,42.7391681
END:VEVENT
BEGIN:VEVENT
DTSTART;TZID=America/Detroit:20180325T120000
DTEND;TZID=America/Detroit:20180325T140000
DTSTAMP:20260423T091822
CREATED:20180403T173936Z
LAST-MODIFIED:20180403T175535Z
UID:10000214-1521979200-1521986400@theturningpointoflansing.org
SUMMARY:Recreational Session
DESCRIPTION:
URL:https://theturningpointoflansing.org/upcoming/recreational-session-2-copy/
LOCATION:Alfreda Schmidt Southside Community Center\, Wise Road 5825\, Lansing\, MI\, 48911\, United States
CATEGORIES:Recreational Session
GEO:42.6726017;-84.5921649
X-APPLE-STRUCTURED-LOCATION;VALUE=URI;X-ADDRESS=Alfreda Schmidt Southside Community Center Wise Road 5825 Lansing MI 48911 United States;X-APPLE-RADIUS=500;X-TITLE=Wise Road 5825:geo:-84.5921649,42.6726017
END:VEVENT
BEGIN:VEVENT
DTSTART;TZID=America/Detroit:20180325T120000
DTEND;TZID=America/Detroit:20180325T140000
DTSTAMP:20260423T091822
CREATED:20180403T173936Z
LAST-MODIFIED:20180403T173936Z
UID:10000412-1521979200-1521986400@theturningpointoflansing.org
SUMMARY:Recreational Session
DESCRIPTION:
URL:https://theturningpointoflansing.org/upcoming/recreational-session-2-copy-2/
LOCATION:Alfreda Schmidt Southside Community Center\, Wise Road 5825\, Lansing\, MI\, 48911\, United States
CATEGORIES:Recreational Session
GEO:42.6726017;-84.5921649
X-APPLE-STRUCTURED-LOCATION;VALUE=URI;X-ADDRESS=Alfreda Schmidt Southside Community Center Wise Road 5825 Lansing MI 48911 United States;X-APPLE-RADIUS=500;X-TITLE=Wise Road 5825:geo:-84.5921649,42.6726017
END:VEVENT
BEGIN:VEVENT
DTSTART;TZID=America/Detroit:20180325T120000
DTEND;TZID=America/Detroit:20180325T140000
DTSTAMP:20260423T091822
CREATED:20180403T173936Z
LAST-MODIFIED:20180403T173936Z
UID:10000616-1521979200-1521986400@theturningpointoflansing.org
SUMMARY:Recreational Session
DESCRIPTION:
URL:https://theturningpointoflansing.org/upcoming/recreational-session-2-copy-3/
LOCATION:Alfreda Schmidt Southside Community Center\, Wise Road 5825\, Lansing\, MI\, 48911\, United States
CATEGORIES:Recreational Session
GEO:42.6726017;-84.5921649
X-APPLE-STRUCTURED-LOCATION;VALUE=URI;X-ADDRESS=Alfreda Schmidt Southside Community Center Wise Road 5825 Lansing MI 48911 United States;X-APPLE-RADIUS=500;X-TITLE=Wise Road 5825:geo:-84.5921649,42.6726017
END:VEVENT
BEGIN:VEVENT
DTSTART;TZID=America/Detroit:20180330T040000
DTEND;TZID=America/Detroit:20180408T130000
DTSTAMP:20260423T091822
CREATED:20180403T174425Z
LAST-MODIFIED:20180403T174425Z
UID:10000216-1522382400-1523192400@theturningpointoflansing.org
SUMMARY:School Spring Break Activities
DESCRIPTION:A.) Detroit Pistons vs Dallas Mavericks-Friday\, April 6th\, Game Time 7:00pm\nB.) MSU Cyclotron Lab Tour\nC.) Spare Time\nD.) Bowling Outing
URL:https://theturningpointoflansing.org/upcoming/school-spring-break-activities/
LOCATION:Michigan
CATEGORIES:School Spring Break
END:VEVENT
BEGIN:VEVENT
DTSTART;TZID=America/Detroit:20180330T040000
DTEND;TZID=America/Detroit:20180408T130000
DTSTAMP:20260423T091822
CREATED:20180403T174425Z
LAST-MODIFIED:20180403T174425Z
UID:10000414-1522382400-1523192400@theturningpointoflansing.org
SUMMARY:School Spring Break Activities
DESCRIPTION:A.) Detroit Pistons vs Dallas Mavericks-Friday\, April 6th\, Game Time 7:00pm\nB.) MSU Cyclotron Lab Tour\nC.) Spare Time\nD.) Bowling Outing
URL:https://theturningpointoflansing.org/upcoming/school-spring-break-activities-3/
LOCATION:Michigan
CATEGORIES:School Spring Break
END:VEVENT
BEGIN:VEVENT
DTSTART;TZID=America/Detroit:20180330T040000
DTEND;TZID=America/Detroit:20180408T130000
DTSTAMP:20260423T091822
CREATED:20180403T174425Z
LAST-MODIFIED:20180403T174425Z
UID:10000618-1522382400-1523192400@theturningpointoflansing.org
SUMMARY:School Spring Break Activities
DESCRIPTION:A.) Detroit Pistons vs Dallas Mavericks-Friday\, April 6th\, Game Time 7:00pm\nB.) MSU Cyclotron Lab Tour\nC.) Spare Time\nD.) Bowling Outing
URL:https://theturningpointoflansing.org/upcoming/school-spring-break-activities-4/
LOCATION:Michigan
CATEGORIES:School Spring Break
END:VEVENT
BEGIN:VEVENT
DTSTART;TZID=America/Detroit:20180407T103000
DTEND;TZID=America/Detroit:20180407T130000
DTSTAMP:20260423T091822
CREATED:20180403T174500Z
LAST-MODIFIED:20180403T174655Z
UID:10000217-1523097000-1523106000@theturningpointoflansing.org
SUMMARY:MSU Football Concession - Green & White Football Game
DESCRIPTION:Green & White Football Game \nSet-Up Time (2:30 pm)
URL:https://theturningpointoflansing.org/upcoming/msu-football-concession-2-copy/
LOCATION:Spartan Stadium\, West Shaw Lane 325\, East Lansing\, MI\, 48824\, United States
CATEGORIES:MSU Football Concession
GEO:42.7279228;-84.4851791
X-APPLE-STRUCTURED-LOCATION;VALUE=URI;X-ADDRESS=Spartan Stadium West Shaw Lane 325 East Lansing MI 48824 United States;X-APPLE-RADIUS=500;X-TITLE=West Shaw Lane 325:geo:-84.4851791,42.7279228
END:VEVENT
BEGIN:VEVENT
DTSTART;TZID=America/Detroit:20180407T103000
DTEND;TZID=America/Detroit:20180407T130000
DTSTAMP:20260423T091822
CREATED:20180403T174500Z
LAST-MODIFIED:20180403T174500Z
UID:10000415-1523097000-1523106000@theturningpointoflansing.org
SUMMARY:MSU Football Concession - Green & White Football Game
DESCRIPTION:Green & White Football Game \nSet-Up Time (2:30 pm)
URL:https://theturningpointoflansing.org/upcoming/msu-football-concession-2-copy-2/
LOCATION:Spartan Stadium\, West Shaw Lane 325\, East Lansing\, MI\, 48824\, United States
CATEGORIES:MSU Football Concession
GEO:42.7279228;-84.4851791
X-APPLE-STRUCTURED-LOCATION;VALUE=URI;X-ADDRESS=Spartan Stadium West Shaw Lane 325 East Lansing MI 48824 United States;X-APPLE-RADIUS=500;X-TITLE=West Shaw Lane 325:geo:-84.4851791,42.7279228
END:VEVENT
BEGIN:VEVENT
DTSTART;TZID=America/Detroit:20180407T103000
DTEND;TZID=America/Detroit:20180407T130000
DTSTAMP:20260423T091822
CREATED:20180403T174500Z
LAST-MODIFIED:20180403T174500Z
UID:10000619-1523097000-1523106000@theturningpointoflansing.org
SUMMARY:MSU Football Concession - Green & White Football Game
DESCRIPTION:Green & White Football Game \nSet-Up Time (2:30 pm)
URL:https://theturningpointoflansing.org/upcoming/msu-football-concession-2-copy-3/
LOCATION:Spartan Stadium\, West Shaw Lane 325\, East Lansing\, MI\, 48824\, United States
CATEGORIES:MSU Football Concession
GEO:42.7279228;-84.4851791
X-APPLE-STRUCTURED-LOCATION;VALUE=URI;X-ADDRESS=Spartan Stadium West Shaw Lane 325 East Lansing MI 48824 United States;X-APPLE-RADIUS=500;X-TITLE=West Shaw Lane 325:geo:-84.4851791,42.7279228
END:VEVENT
BEGIN:VEVENT
DTSTART;TZID=America/Detroit:20180415T110000
DTEND;TZID=America/Detroit:20180415T133000
DTSTAMP:20260423T091822
CREATED:20180403T175015Z
LAST-MODIFIED:20180403T175117Z
UID:10000219-1523790000-1523799000@theturningpointoflansing.org
SUMMARY:Parent Session
DESCRIPTION:“Paving a Road Toward Success” and “ROP” Preparation
URL:https://theturningpointoflansing.org/upcoming/parent-session-3-copy/
LOCATION:LCC Main Campus Health & Human Services Bldg\, North Washington Square 515\, Lansing\, MI\, 48933\, United States
CATEGORIES:Parent Session
GEO:42.7391681;-84.5524907
X-APPLE-STRUCTURED-LOCATION;VALUE=URI;X-ADDRESS=LCC Main Campus Health & Human Services Bldg North Washington Square 515 Lansing MI 48933 United States;X-APPLE-RADIUS=500;X-TITLE=North Washington Square 515:geo:-84.5524907,42.7391681
END:VEVENT
BEGIN:VEVENT
DTSTART;TZID=America/Detroit:20180415T110000
DTEND;TZID=America/Detroit:20180415T133000
DTSTAMP:20260423T091822
CREATED:20180403T175015Z
LAST-MODIFIED:20180403T175015Z
UID:10000417-1523790000-1523799000@theturningpointoflansing.org
SUMMARY:Parent Session
DESCRIPTION:“Paving a Road Toward Success” and “ROP” Preparation
URL:https://theturningpointoflansing.org/upcoming/parent-session-3-copy-2/
LOCATION:LCC Main Campus Health & Human Services Bldg\, North Washington Square 515\, Lansing\, MI\, 48933\, United States
CATEGORIES:Parent Session
GEO:42.7391681;-84.5524907
X-APPLE-STRUCTURED-LOCATION;VALUE=URI;X-ADDRESS=LCC Main Campus Health & Human Services Bldg North Washington Square 515 Lansing MI 48933 United States;X-APPLE-RADIUS=500;X-TITLE=North Washington Square 515:geo:-84.5524907,42.7391681
END:VEVENT
BEGIN:VEVENT
DTSTART;TZID=America/Detroit:20180415T110000
DTEND;TZID=America/Detroit:20180415T133000
DTSTAMP:20260423T091822
CREATED:20180403T175015Z
LAST-MODIFIED:20180403T175015Z
UID:10000621-1523790000-1523799000@theturningpointoflansing.org
SUMMARY:Parent Session
DESCRIPTION:“Paving a Road Toward Success” and “ROP” Preparation
URL:https://theturningpointoflansing.org/upcoming/parent-session-3-copy-3/
LOCATION:LCC Main Campus Health & Human Services Bldg\, North Washington Square 515\, Lansing\, MI\, 48933\, United States
CATEGORIES:Parent Session
GEO:42.7391681;-84.5524907
X-APPLE-STRUCTURED-LOCATION;VALUE=URI;X-ADDRESS=LCC Main Campus Health & Human Services Bldg North Washington Square 515 Lansing MI 48933 United States;X-APPLE-RADIUS=500;X-TITLE=North Washington Square 515:geo:-84.5524907,42.7391681
END:VEVENT
BEGIN:VEVENT
DTSTART;TZID=America/Detroit:20180415T110000
DTEND;TZID=America/Detroit:20180415T133000
DTSTAMP:20260423T091822
CREATED:20180403T174727Z
LAST-MODIFIED:20180403T174855Z
UID:10000218-1523790000-1523799000@theturningpointoflansing.org
SUMMARY:Mentoring Session
DESCRIPTION:“Paving a Road Toward Success” and “ROP” Preparation
URL:https://theturningpointoflansing.org/upcoming/mentoring-session-6-copy/
LOCATION:LCC Main Campus Health & Human Services Bldg\, North Washington Square 515\, Lansing\, MI\, 48933\, United States
CATEGORIES:Mentoring Session
GEO:42.7391681;-84.5524907
X-APPLE-STRUCTURED-LOCATION;VALUE=URI;X-ADDRESS=LCC Main Campus Health & Human Services Bldg North Washington Square 515 Lansing MI 48933 United States;X-APPLE-RADIUS=500;X-TITLE=North Washington Square 515:geo:-84.5524907,42.7391681
END:VEVENT
BEGIN:VEVENT
DTSTART;TZID=America/Detroit:20180415T110000
DTEND;TZID=America/Detroit:20180415T133000
DTSTAMP:20260423T091822
CREATED:20180403T174727Z
LAST-MODIFIED:20180403T174727Z
UID:10000416-1523790000-1523799000@theturningpointoflansing.org
SUMMARY:Mentoring Session
DESCRIPTION:“Paving a Road Toward Success” and “ROP” Preparation
URL:https://theturningpointoflansing.org/upcoming/mentoring-session-6-copy-2/
LOCATION:LCC Main Campus Health & Human Services Bldg\, North Washington Square 515\, Lansing\, MI\, 48933\, United States
CATEGORIES:Mentoring Session
GEO:42.7391681;-84.5524907
X-APPLE-STRUCTURED-LOCATION;VALUE=URI;X-ADDRESS=LCC Main Campus Health & Human Services Bldg North Washington Square 515 Lansing MI 48933 United States;X-APPLE-RADIUS=500;X-TITLE=North Washington Square 515:geo:-84.5524907,42.7391681
END:VEVENT
BEGIN:VEVENT
DTSTART;TZID=America/Detroit:20180415T110000
DTEND;TZID=America/Detroit:20180415T133000
DTSTAMP:20260423T091822
CREATED:20180403T174727Z
LAST-MODIFIED:20180403T174727Z
UID:10000620-1523790000-1523799000@theturningpointoflansing.org
SUMMARY:Mentoring Session
DESCRIPTION:“Paving a Road Toward Success” and “ROP” Preparation
URL:https://theturningpointoflansing.org/upcoming/mentoring-session-6-copy-3/
LOCATION:LCC Main Campus Health & Human Services Bldg\, North Washington Square 515\, Lansing\, MI\, 48933\, United States
CATEGORIES:Mentoring Session
GEO:42.7391681;-84.5524907
X-APPLE-STRUCTURED-LOCATION;VALUE=URI;X-ADDRESS=LCC Main Campus Health & Human Services Bldg North Washington Square 515 Lansing MI 48933 United States;X-APPLE-RADIUS=500;X-TITLE=North Washington Square 515:geo:-84.5524907,42.7391681
END:VEVENT
BEGIN:VEVENT
DTSTART;TZID=America/Detroit:20180421T050000
DTEND;TZID=America/Detroit:20180421T130000
DTSTAMP:20260423T091822
CREATED:20180403T175141Z
LAST-MODIFIED:20180403T175227Z
UID:10000220-1524286800-1524315600@theturningpointoflansing.org
SUMMARY:Earth Day of Service
DESCRIPTION:
URL:https://theturningpointoflansing.org/upcoming/earth-day-of-service-copy/
LOCATION:Fenner Nature Center\, East Mount Hope Avenue 2020\, Lansing\, MI\, 48910\, United States
CATEGORIES:Earth Day of Service
GEO:42.7117278;-84.5223702
X-APPLE-STRUCTURED-LOCATION;VALUE=URI;X-ADDRESS=Fenner Nature Center East Mount Hope Avenue 2020 Lansing MI 48910 United States;X-APPLE-RADIUS=500;X-TITLE=East Mount Hope Avenue 2020:geo:-84.5223702,42.7117278
END:VEVENT
BEGIN:VEVENT
DTSTART;TZID=America/Detroit:20180421T050000
DTEND;TZID=America/Detroit:20180421T130000
DTSTAMP:20260423T091822
CREATED:20180403T175141Z
LAST-MODIFIED:20180403T175141Z
UID:10000418-1524286800-1524315600@theturningpointoflansing.org
SUMMARY:Earth Day of Service
DESCRIPTION:
URL:https://theturningpointoflansing.org/upcoming/earth-day-of-service-copy-3/
LOCATION:Fenner Nature Center\, East Mount Hope Avenue 2020\, Lansing\, MI\, 48910\, United States
CATEGORIES:Earth Day of Service
GEO:42.7117278;-84.5223702
X-APPLE-STRUCTURED-LOCATION;VALUE=URI;X-ADDRESS=Fenner Nature Center East Mount Hope Avenue 2020 Lansing MI 48910 United States;X-APPLE-RADIUS=500;X-TITLE=East Mount Hope Avenue 2020:geo:-84.5223702,42.7117278
END:VEVENT
BEGIN:VEVENT
DTSTART;TZID=America/Detroit:20180421T050000
DTEND;TZID=America/Detroit:20180421T130000
DTSTAMP:20260423T091822
CREATED:20180403T175141Z
LAST-MODIFIED:20180403T175141Z
UID:10000622-1524286800-1524315600@theturningpointoflansing.org
SUMMARY:Earth Day of Service
DESCRIPTION:
URL:https://theturningpointoflansing.org/upcoming/earth-day-of-service-copy-4/
LOCATION:Fenner Nature Center\, East Mount Hope Avenue 2020\, Lansing\, MI\, 48910\, United States
CATEGORIES:Earth Day of Service
GEO:42.7117278;-84.5223702
X-APPLE-STRUCTURED-LOCATION;VALUE=URI;X-ADDRESS=Fenner Nature Center East Mount Hope Avenue 2020 Lansing MI 48910 United States;X-APPLE-RADIUS=500;X-TITLE=East Mount Hope Avenue 2020:geo:-84.5223702,42.7117278
END:VEVENT
END:VCALENDAR