BEGIN:VCALENDAR
VERSION:2.0
PRODID:-//The Turning Point of Lansing - ECPv6.15.20//NONSGML v1.0//EN
CALSCALE:GREGORIAN
METHOD:PUBLISH
X-WR-CALNAME:The Turning Point of Lansing
X-ORIGINAL-URL:https://theturningpointoflansing.org
X-WR-CALDESC:Events for The Turning Point of Lansing
REFRESH-INTERVAL;VALUE=DURATION:PT1H
X-Robots-Tag:noindex
X-PUBLISHED-TTL:PT1H
BEGIN:VTIMEZONE
TZID:America/Detroit
BEGIN:DAYLIGHT
TZOFFSETFROM:-0500
TZOFFSETTO:-0400
TZNAME:EDT
DTSTART:20160313T070000
END:DAYLIGHT
BEGIN:STANDARD
TZOFFSETFROM:-0400
TZOFFSETTO:-0500
TZNAME:EST
DTSTART:20161106T060000
END:STANDARD
BEGIN:DAYLIGHT
TZOFFSETFROM:-0500
TZOFFSETTO:-0400
TZNAME:EDT
DTSTART:20170312T070000
END:DAYLIGHT
BEGIN:STANDARD
TZOFFSETFROM:-0400
TZOFFSETTO:-0500
TZNAME:EST
DTSTART:20171105T060000
END:STANDARD
BEGIN:DAYLIGHT
TZOFFSETFROM:-0500
TZOFFSETTO:-0400
TZNAME:EDT
DTSTART:20180311T070000
END:DAYLIGHT
BEGIN:STANDARD
TZOFFSETFROM:-0400
TZOFFSETTO:-0500
TZNAME:EST
DTSTART:20181104T060000
END:STANDARD
END:VTIMEZONE
BEGIN:VEVENT
DTSTART;TZID=America/Detroit:20171015T110000
DTEND;TZID=America/Detroit:20171015T133000
DTSTAMP:20260423T060912
CREATED:20171001T000121Z
LAST-MODIFIED:20171001T000121Z
UID:10000391-1508065200-1508074200@theturningpointoflansing.org
SUMMARY:Parent Session - “Laying Your Tracks on the Path for Success”
DESCRIPTION:Rms.\,005-007
URL:https://theturningpointoflansing.org/upcoming/parent-session-laying-your-tracks-on-the-path-for-success-2/
LOCATION:LCC Main Campus Health & Human Services Bldg\, North Washington Square 515\, Lansing\, MI\, 48933\, United States
CATEGORIES:Parent Session
GEO:42.7391681;-84.5524907
X-APPLE-STRUCTURED-LOCATION;VALUE=URI;X-ADDRESS=LCC Main Campus Health & Human Services Bldg North Washington Square 515 Lansing MI 48933 United States;X-APPLE-RADIUS=500;X-TITLE=North Washington Square 515:geo:-84.5524907,42.7391681
END:VEVENT
BEGIN:VEVENT
DTSTART;TZID=America/Detroit:20171015T110000
DTEND;TZID=America/Detroit:20171015T133000
DTSTAMP:20260423T060912
CREATED:20171001T000121Z
LAST-MODIFIED:20171001T000121Z
UID:10000595-1508065200-1508074200@theturningpointoflansing.org
SUMMARY:Parent Session - “Laying Your Tracks on the Path for Success”
DESCRIPTION:Rms.\,005-007
URL:https://theturningpointoflansing.org/upcoming/parent-session-laying-your-tracks-on-the-path-for-success-3/
LOCATION:LCC Main Campus Health & Human Services Bldg\, North Washington Square 515\, Lansing\, MI\, 48933\, United States
CATEGORIES:Parent Session
GEO:42.7391681;-84.5524907
X-APPLE-STRUCTURED-LOCATION;VALUE=URI;X-ADDRESS=LCC Main Campus Health & Human Services Bldg North Washington Square 515 Lansing MI 48933 United States;X-APPLE-RADIUS=500;X-TITLE=North Washington Square 515:geo:-84.5524907,42.7391681
END:VEVENT
BEGIN:VEVENT
DTSTART;TZID=America/Detroit:20171015T110000
DTEND;TZID=America/Detroit:20171015T133000
DTSTAMP:20260423T060912
CREATED:20170930T235654Z
LAST-MODIFIED:20170930T235654Z
UID:10000192-1508065200-1508074200@theturningpointoflansing.org
SUMMARY:Mentoring Session - “Laying Your Tracks on the Path for Success”
DESCRIPTION:Rms.\,005-007\,
URL:https://theturningpointoflansing.org/upcoming/mentoring-session-laying-your-tracks-on-the-path-for-success/
LOCATION:LCC Main Campus Health & Human Services Bldg\, North Washington Square 515\, Lansing\, MI\, 48933\, United States
CATEGORIES:Mentoring Session
GEO:42.7391681;-84.5524907
X-APPLE-STRUCTURED-LOCATION;VALUE=URI;X-ADDRESS=LCC Main Campus Health & Human Services Bldg North Washington Square 515 Lansing MI 48933 United States;X-APPLE-RADIUS=500;X-TITLE=North Washington Square 515:geo:-84.5524907,42.7391681
END:VEVENT
BEGIN:VEVENT
DTSTART;TZID=America/Detroit:20171015T110000
DTEND;TZID=America/Detroit:20171015T133000
DTSTAMP:20260423T060912
CREATED:20170930T235654Z
LAST-MODIFIED:20170930T235654Z
UID:10000390-1508065200-1508074200@theturningpointoflansing.org
SUMMARY:Mentoring Session - “Laying Your Tracks on the Path for Success”
DESCRIPTION:Rms.\,005-007\,
URL:https://theturningpointoflansing.org/upcoming/mentoring-session-laying-your-tracks-on-the-path-for-success-2/
LOCATION:LCC Main Campus Health & Human Services Bldg\, North Washington Square 515\, Lansing\, MI\, 48933\, United States
CATEGORIES:Mentoring Session
GEO:42.7391681;-84.5524907
X-APPLE-STRUCTURED-LOCATION;VALUE=URI;X-ADDRESS=LCC Main Campus Health & Human Services Bldg North Washington Square 515 Lansing MI 48933 United States;X-APPLE-RADIUS=500;X-TITLE=North Washington Square 515:geo:-84.5524907,42.7391681
END:VEVENT
BEGIN:VEVENT
DTSTART;TZID=America/Detroit:20171015T110000
DTEND;TZID=America/Detroit:20171015T133000
DTSTAMP:20260423T060912
CREATED:20170930T235654Z
LAST-MODIFIED:20170930T235654Z
UID:10000594-1508065200-1508074200@theturningpointoflansing.org
SUMMARY:Mentoring Session - “Laying Your Tracks on the Path for Success”
DESCRIPTION:Rms.\,005-007\,
URL:https://theturningpointoflansing.org/upcoming/mentoring-session-laying-your-tracks-on-the-path-for-success-3/
LOCATION:LCC Main Campus Health & Human Services Bldg\, North Washington Square 515\, Lansing\, MI\, 48933\, United States
CATEGORIES:Mentoring Session
GEO:42.7391681;-84.5524907
X-APPLE-STRUCTURED-LOCATION;VALUE=URI;X-ADDRESS=LCC Main Campus Health & Human Services Bldg North Washington Square 515 Lansing MI 48933 United States;X-APPLE-RADIUS=500;X-TITLE=North Washington Square 515:geo:-84.5524907,42.7391681
END:VEVENT
BEGIN:VEVENT
DTSTART;TZID=America/Detroit:20171021T113000
DTEND;TZID=America/Detroit:20171021T120000
DTSTAMP:20260423T060912
CREATED:20171001T000318Z
LAST-MODIFIED:20171001T000318Z
UID:10000194-1508585400-1508587200@theturningpointoflansing.org
SUMMARY:MSU Homecoming Football Concession
DESCRIPTION:
URL:https://theturningpointoflansing.org/upcoming/msu-homecoming-football-concession/
LOCATION:Spartan Stadium\, West Shaw Lane 325\, East Lansing\, MI\, 48824\, United States
CATEGORIES:MSU Football Concession
GEO:42.7279228;-84.4851791
X-APPLE-STRUCTURED-LOCATION;VALUE=URI;X-ADDRESS=Spartan Stadium West Shaw Lane 325 East Lansing MI 48824 United States;X-APPLE-RADIUS=500;X-TITLE=West Shaw Lane 325:geo:-84.4851791,42.7279228
END:VEVENT
BEGIN:VEVENT
DTSTART;TZID=America/Detroit:20171021T113000
DTEND;TZID=America/Detroit:20171021T120000
DTSTAMP:20260423T060912
CREATED:20171001T000318Z
LAST-MODIFIED:20171001T000318Z
UID:10000392-1508585400-1508587200@theturningpointoflansing.org
SUMMARY:MSU Homecoming Football Concession
DESCRIPTION:
URL:https://theturningpointoflansing.org/upcoming/msu-homecoming-football-concession-2/
LOCATION:Spartan Stadium\, West Shaw Lane 325\, East Lansing\, MI\, 48824\, United States
CATEGORIES:MSU Football Concession
GEO:42.7279228;-84.4851791
X-APPLE-STRUCTURED-LOCATION;VALUE=URI;X-ADDRESS=Spartan Stadium West Shaw Lane 325 East Lansing MI 48824 United States;X-APPLE-RADIUS=500;X-TITLE=West Shaw Lane 325:geo:-84.4851791,42.7279228
END:VEVENT
BEGIN:VEVENT
DTSTART;TZID=America/Detroit:20171021T113000
DTEND;TZID=America/Detroit:20171021T120000
DTSTAMP:20260423T060912
CREATED:20171001T000318Z
LAST-MODIFIED:20171001T000318Z
UID:10000596-1508585400-1508587200@theturningpointoflansing.org
SUMMARY:MSU Homecoming Football Concession
DESCRIPTION:
URL:https://theturningpointoflansing.org/upcoming/msu-homecoming-football-concession-3/
LOCATION:Spartan Stadium\, West Shaw Lane 325\, East Lansing\, MI\, 48824\, United States
CATEGORIES:MSU Football Concession
GEO:42.7279228;-84.4851791
X-APPLE-STRUCTURED-LOCATION;VALUE=URI;X-ADDRESS=Spartan Stadium West Shaw Lane 325 East Lansing MI 48824 United States;X-APPLE-RADIUS=500;X-TITLE=West Shaw Lane 325:geo:-84.4851791,42.7279228
END:VEVENT
BEGIN:VEVENT
DTSTART;TZID=America/Detroit:20171029T120000
DTEND;TZID=America/Detroit:20171029T140000
DTSTAMP:20260423T060912
CREATED:20171001T000811Z
LAST-MODIFIED:20171002T032722Z
UID:10000196-1509278400-1509285600@theturningpointoflansing.org
SUMMARY:NAACP Event 8 Upper Classmen-Ushering
DESCRIPTION:Arrive at 2pm
URL:https://theturningpointoflansing.org/upcoming/naacp-event-8-upper-classmen-ushering/
LOCATION:Radisson\, North Grand Avenue 111\, Lansing\, Michigan\, 48933\, United States
GEO:42.7340944;-84.5511178
X-APPLE-STRUCTURED-LOCATION;VALUE=URI;X-ADDRESS=Radisson North Grand Avenue 111 Lansing Michigan 48933 United States;X-APPLE-RADIUS=500;X-TITLE=North Grand Avenue 111:geo:-84.5511178,42.7340944
END:VEVENT
BEGIN:VEVENT
DTSTART;TZID=America/Detroit:20171029T120000
DTEND;TZID=America/Detroit:20171029T140000
DTSTAMP:20260423T060912
CREATED:20171001T000811Z
LAST-MODIFIED:20171001T000811Z
UID:10000394-1509278400-1509285600@theturningpointoflansing.org
SUMMARY:NAACP Event 8 Upper Classmen-Ushering
DESCRIPTION:Arrive at 2pm
URL:https://theturningpointoflansing.org/upcoming/naacp-event-8-upper-classmen-ushering-2/
LOCATION:Radisson\, North Grand Avenue 111\, Lansing\, Michigan\, 48933\, United States
GEO:42.7340944;-84.5511178
X-APPLE-STRUCTURED-LOCATION;VALUE=URI;X-ADDRESS=Radisson North Grand Avenue 111 Lansing Michigan 48933 United States;X-APPLE-RADIUS=500;X-TITLE=North Grand Avenue 111:geo:-84.5511178,42.7340944
END:VEVENT
BEGIN:VEVENT
DTSTART;TZID=America/Detroit:20171029T120000
DTEND;TZID=America/Detroit:20171029T140000
DTSTAMP:20260423T060912
CREATED:20171001T000811Z
LAST-MODIFIED:20171001T000811Z
UID:10000598-1509278400-1509285600@theturningpointoflansing.org
SUMMARY:NAACP Event 8 Upper Classmen-Ushering
DESCRIPTION:Arrive at 2pm
URL:https://theturningpointoflansing.org/upcoming/naacp-event-8-upper-classmen-ushering-3/
LOCATION:Radisson\, North Grand Avenue 111\, Lansing\, Michigan\, 48933\, United States
GEO:42.7340944;-84.5511178
X-APPLE-STRUCTURED-LOCATION;VALUE=URI;X-ADDRESS=Radisson North Grand Avenue 111 Lansing Michigan 48933 United States;X-APPLE-RADIUS=500;X-TITLE=North Grand Avenue 111:geo:-84.5511178,42.7340944
END:VEVENT
BEGIN:VEVENT
DTSTART;TZID=America/Detroit:20171029T120000
DTEND;TZID=America/Detroit:20171029T140000
DTSTAMP:20260423T060912
CREATED:20171001T000456Z
LAST-MODIFIED:20171001T000456Z
UID:10000195-1509278400-1509285600@theturningpointoflansing.org
SUMMARY:Recreational Session
DESCRIPTION:Recreational Session in Gymnasium
URL:https://theturningpointoflansing.org/upcoming/recreational-session-6/
LOCATION:Alfreda Schmidt Southside Community Center\, Wise Road 5825\, Lansing\, MI\, 48911\, United States
CATEGORIES:Recreational Session
GEO:42.6726017;-84.5921649
X-APPLE-STRUCTURED-LOCATION;VALUE=URI;X-ADDRESS=Alfreda Schmidt Southside Community Center Wise Road 5825 Lansing MI 48911 United States;X-APPLE-RADIUS=500;X-TITLE=Wise Road 5825:geo:-84.5921649,42.6726017
END:VEVENT
BEGIN:VEVENT
DTSTART;TZID=America/Detroit:20171029T120000
DTEND;TZID=America/Detroit:20171029T140000
DTSTAMP:20260423T060912
CREATED:20171001T000456Z
LAST-MODIFIED:20171001T000456Z
UID:10000393-1509278400-1509285600@theturningpointoflansing.org
SUMMARY:Recreational Session
DESCRIPTION:Recreational Session in Gymnasium
URL:https://theturningpointoflansing.org/upcoming/recreational-session-6-2/
LOCATION:Alfreda Schmidt Southside Community Center\, Wise Road 5825\, Lansing\, MI\, 48911\, United States
CATEGORIES:Recreational Session
GEO:42.6726017;-84.5921649
X-APPLE-STRUCTURED-LOCATION;VALUE=URI;X-ADDRESS=Alfreda Schmidt Southside Community Center Wise Road 5825 Lansing MI 48911 United States;X-APPLE-RADIUS=500;X-TITLE=Wise Road 5825:geo:-84.5921649,42.6726017
END:VEVENT
BEGIN:VEVENT
DTSTART;TZID=America/Detroit:20171029T120000
DTEND;TZID=America/Detroit:20171029T140000
DTSTAMP:20260423T060912
CREATED:20171001T000456Z
LAST-MODIFIED:20171001T000456Z
UID:10000597-1509278400-1509285600@theturningpointoflansing.org
SUMMARY:Recreational Session
DESCRIPTION:Recreational Session in Gymnasium
URL:https://theturningpointoflansing.org/upcoming/recreational-session-6-3/
LOCATION:Alfreda Schmidt Southside Community Center\, Wise Road 5825\, Lansing\, MI\, 48911\, United States
CATEGORIES:Recreational Session
GEO:42.6726017;-84.5921649
X-APPLE-STRUCTURED-LOCATION;VALUE=URI;X-ADDRESS=Alfreda Schmidt Southside Community Center Wise Road 5825 Lansing MI 48911 United States;X-APPLE-RADIUS=500;X-TITLE=Wise Road 5825:geo:-84.5921649,42.6726017
END:VEVENT
BEGIN:VEVENT
DTSTART;VALUE=DATE:20171103
DTEND;VALUE=DATE:20171105
DTSTAMP:20260423T060912
CREATED:20171002T033144Z
LAST-MODIFIED:20171002T033249Z
UID:10000197-1509739200-1509825599@theturningpointoflansing.org
SUMMARY:MSU Football Concession
DESCRIPTION:
URL:https://theturningpointoflansing.org/upcoming/msu-football-concession-3-copy/
LOCATION:Spartan Stadium\, West Shaw Lane 325\, East Lansing\, MI\, 48824\, United States
CATEGORIES:MSU Football Concession
GEO:42.7279228;-84.4851791
X-APPLE-STRUCTURED-LOCATION;VALUE=URI;X-ADDRESS=Spartan Stadium West Shaw Lane 325 East Lansing MI 48824 United States;X-APPLE-RADIUS=500;X-TITLE=West Shaw Lane 325:geo:-84.4851791,42.7279228
END:VEVENT
BEGIN:VEVENT
DTSTART;VALUE=DATE:20171103
DTEND;VALUE=DATE:20171105
DTSTAMP:20260423T060912
CREATED:20171002T033144Z
LAST-MODIFIED:20171002T033144Z
UID:10000395-1509739200-1509825599@theturningpointoflansing.org
SUMMARY:MSU Football Concession
DESCRIPTION:
URL:https://theturningpointoflansing.org/upcoming/msu-football-concession-3-copy-3/
LOCATION:Spartan Stadium\, West Shaw Lane 325\, East Lansing\, MI\, 48824\, United States
CATEGORIES:MSU Football Concession
GEO:42.7279228;-84.4851791
X-APPLE-STRUCTURED-LOCATION;VALUE=URI;X-ADDRESS=Spartan Stadium West Shaw Lane 325 East Lansing MI 48824 United States;X-APPLE-RADIUS=500;X-TITLE=West Shaw Lane 325:geo:-84.4851791,42.7279228
END:VEVENT
BEGIN:VEVENT
DTSTART;VALUE=DATE:20171103
DTEND;VALUE=DATE:20171105
DTSTAMP:20260423T060912
CREATED:20171002T033144Z
LAST-MODIFIED:20171002T033144Z
UID:10000599-1509739200-1509825599@theturningpointoflansing.org
SUMMARY:MSU Football Concession
DESCRIPTION:
URL:https://theturningpointoflansing.org/upcoming/msu-football-concession-3-copy-4/
LOCATION:Spartan Stadium\, West Shaw Lane 325\, East Lansing\, MI\, 48824\, United States
CATEGORIES:MSU Football Concession
GEO:42.7279228;-84.4851791
X-APPLE-STRUCTURED-LOCATION;VALUE=URI;X-ADDRESS=Spartan Stadium West Shaw Lane 325 East Lansing MI 48824 United States;X-APPLE-RADIUS=500;X-TITLE=West Shaw Lane 325:geo:-84.4851791,42.7279228
END:VEVENT
BEGIN:VEVENT
DTSTART;VALUE=DATE:20171117
DTEND;VALUE=DATE:20171119
DTSTAMP:20260423T060912
CREATED:20171002T033301Z
LAST-MODIFIED:20171002T033432Z
UID:10000198-1510945200-1511031599@theturningpointoflansing.org
SUMMARY:MSU Football Concession
DESCRIPTION:
URL:https://theturningpointoflansing.org/upcoming/msu-football-concession-3-copy-2/
LOCATION:Spartan Stadium\, West Shaw Lane 325\, East Lansing\, MI\, 48824\, United States
CATEGORIES:MSU Football Concession
GEO:42.7279228;-84.4851791
X-APPLE-STRUCTURED-LOCATION;VALUE=URI;X-ADDRESS=Spartan Stadium West Shaw Lane 325 East Lansing MI 48824 United States;X-APPLE-RADIUS=500;X-TITLE=West Shaw Lane 325:geo:-84.4851791,42.7279228
END:VEVENT
BEGIN:VEVENT
DTSTART;VALUE=DATE:20171117
DTEND;VALUE=DATE:20171119
DTSTAMP:20260423T060912
CREATED:20171002T033301Z
LAST-MODIFIED:20171002T033301Z
UID:10000396-1510945200-1511031599@theturningpointoflansing.org
SUMMARY:MSU Football Concession
DESCRIPTION:
URL:https://theturningpointoflansing.org/upcoming/msu-football-concession-3-copy-2-2/
LOCATION:Spartan Stadium\, West Shaw Lane 325\, East Lansing\, MI\, 48824\, United States
CATEGORIES:MSU Football Concession
GEO:42.7279228;-84.4851791
X-APPLE-STRUCTURED-LOCATION;VALUE=URI;X-ADDRESS=Spartan Stadium West Shaw Lane 325 East Lansing MI 48824 United States;X-APPLE-RADIUS=500;X-TITLE=West Shaw Lane 325:geo:-84.4851791,42.7279228
END:VEVENT
BEGIN:VEVENT
DTSTART;VALUE=DATE:20171117
DTEND;VALUE=DATE:20171119
DTSTAMP:20260423T060912
CREATED:20171002T033301Z
LAST-MODIFIED:20171002T033301Z
UID:10000600-1510945200-1511031599@theturningpointoflansing.org
SUMMARY:MSU Football Concession
DESCRIPTION:
URL:https://theturningpointoflansing.org/upcoming/msu-football-concession-3-copy-2-3/
LOCATION:Spartan Stadium\, West Shaw Lane 325\, East Lansing\, MI\, 48824\, United States
CATEGORIES:MSU Football Concession
GEO:42.7279228;-84.4851791
X-APPLE-STRUCTURED-LOCATION;VALUE=URI;X-ADDRESS=Spartan Stadium West Shaw Lane 325 East Lansing MI 48824 United States;X-APPLE-RADIUS=500;X-TITLE=West Shaw Lane 325:geo:-84.4851791,42.7279228
END:VEVENT
BEGIN:VEVENT
DTSTART;TZID=America/Detroit:20171119T100000
DTEND;TZID=America/Detroit:20171119T123000
DTSTAMP:20260423T060912
CREATED:20171002T033353Z
LAST-MODIFIED:20171002T033808Z
UID:10000199-1511085600-1511094600@theturningpointoflansing.org
SUMMARY:Mentoring Session - “Tracking My Role & Standing in the Community”
DESCRIPTION:Rms.\,005-007\,
URL:https://theturningpointoflansing.org/upcoming/mentoring-session-tracking-my-role-standing-in-the-community/
LOCATION:LCC Main Campus Health & Human Services Bldg\, North Washington Square 515\, Lansing\, MI\, 48933\, United States
CATEGORIES:Mentoring Session
GEO:42.7391681;-84.5524907
X-APPLE-STRUCTURED-LOCATION;VALUE=URI;X-ADDRESS=LCC Main Campus Health & Human Services Bldg North Washington Square 515 Lansing MI 48933 United States;X-APPLE-RADIUS=500;X-TITLE=North Washington Square 515:geo:-84.5524907,42.7391681
END:VEVENT
BEGIN:VEVENT
DTSTART;TZID=America/Detroit:20171119T100000
DTEND;TZID=America/Detroit:20171119T123000
DTSTAMP:20260423T060912
CREATED:20171002T033353Z
LAST-MODIFIED:20171002T033353Z
UID:10000397-1511085600-1511094600@theturningpointoflansing.org
SUMMARY:Mentoring Session - “Tracking My Role & Standing in the Community”
DESCRIPTION:Rms.\,005-007\,
URL:https://theturningpointoflansing.org/upcoming/mentoring-session-tracking-my-role-standing-in-the-community-2/
LOCATION:LCC Main Campus Health & Human Services Bldg\, North Washington Square 515\, Lansing\, MI\, 48933\, United States
CATEGORIES:Mentoring Session
GEO:42.7391681;-84.5524907
X-APPLE-STRUCTURED-LOCATION;VALUE=URI;X-ADDRESS=LCC Main Campus Health & Human Services Bldg North Washington Square 515 Lansing MI 48933 United States;X-APPLE-RADIUS=500;X-TITLE=North Washington Square 515:geo:-84.5524907,42.7391681
END:VEVENT
BEGIN:VEVENT
DTSTART;TZID=America/Detroit:20171119T100000
DTEND;TZID=America/Detroit:20171119T123000
DTSTAMP:20260423T060912
CREATED:20171002T033353Z
LAST-MODIFIED:20171002T033353Z
UID:10000601-1511085600-1511094600@theturningpointoflansing.org
SUMMARY:Mentoring Session - “Tracking My Role & Standing in the Community”
DESCRIPTION:Rms.\,005-007\,
URL:https://theturningpointoflansing.org/upcoming/mentoring-session-tracking-my-role-standing-in-the-community-3/
LOCATION:LCC Main Campus Health & Human Services Bldg\, North Washington Square 515\, Lansing\, MI\, 48933\, United States
CATEGORIES:Mentoring Session
GEO:42.7391681;-84.5524907
X-APPLE-STRUCTURED-LOCATION;VALUE=URI;X-ADDRESS=LCC Main Campus Health & Human Services Bldg North Washington Square 515 Lansing MI 48933 United States;X-APPLE-RADIUS=500;X-TITLE=North Washington Square 515:geo:-84.5524907,42.7391681
END:VEVENT
BEGIN:VEVENT
DTSTART;TZID=America/Detroit:20171126T110000
DTEND;TZID=America/Detroit:20171126T130000
DTSTAMP:20260423T060912
CREATED:20171002T033633Z
LAST-MODIFIED:20171124T211415Z
UID:10000200-1511694000-1511701200@theturningpointoflansing.org
SUMMARY:Recreational Session- Cancelled
DESCRIPTION:This event is cancelled
URL:https://theturningpointoflansing.org/upcoming/recreational-session-6-copy/
LOCATION:Alfreda Schmidt Southside Community Center\, Wise Road 5825\, Lansing\, MI\, 48911\, United States
CATEGORIES:Recreational Session
GEO:42.6726017;-84.5921649
X-APPLE-STRUCTURED-LOCATION;VALUE=URI;X-ADDRESS=Alfreda Schmidt Southside Community Center Wise Road 5825 Lansing MI 48911 United States;X-APPLE-RADIUS=500;X-TITLE=Wise Road 5825:geo:-84.5921649,42.6726017
END:VEVENT
BEGIN:VEVENT
DTSTART;TZID=America/Detroit:20171126T110000
DTEND;TZID=America/Detroit:20171126T130000
DTSTAMP:20260423T060912
CREATED:20171002T033633Z
LAST-MODIFIED:20171002T033633Z
UID:10000398-1511694000-1511701200@theturningpointoflansing.org
SUMMARY:Recreational Session- Cancelled
DESCRIPTION:This event is cancelled
URL:https://theturningpointoflansing.org/upcoming/recreational-session-6-copy-3/
LOCATION:Alfreda Schmidt Southside Community Center\, Wise Road 5825\, Lansing\, MI\, 48911\, United States
CATEGORIES:Recreational Session
GEO:42.6726017;-84.5921649
X-APPLE-STRUCTURED-LOCATION;VALUE=URI;X-ADDRESS=Alfreda Schmidt Southside Community Center Wise Road 5825 Lansing MI 48911 United States;X-APPLE-RADIUS=500;X-TITLE=Wise Road 5825:geo:-84.5921649,42.6726017
END:VEVENT
BEGIN:VEVENT
DTSTART;TZID=America/Detroit:20171126T110000
DTEND;TZID=America/Detroit:20171126T130000
DTSTAMP:20260423T060912
CREATED:20171002T033633Z
LAST-MODIFIED:20171002T033633Z
UID:10000602-1511694000-1511701200@theturningpointoflansing.org
SUMMARY:Recreational Session- Cancelled
DESCRIPTION:This event is cancelled
URL:https://theturningpointoflansing.org/upcoming/recreational-session-6-copy-4/
LOCATION:Alfreda Schmidt Southside Community Center\, Wise Road 5825\, Lansing\, MI\, 48911\, United States
CATEGORIES:Recreational Session
GEO:42.6726017;-84.5921649
X-APPLE-STRUCTURED-LOCATION;VALUE=URI;X-ADDRESS=Alfreda Schmidt Southside Community Center Wise Road 5825 Lansing MI 48911 United States;X-APPLE-RADIUS=500;X-TITLE=Wise Road 5825:geo:-84.5921649,42.6726017
END:VEVENT
BEGIN:VEVENT
DTSTART;TZID=America/Detroit:20171203T100000
DTEND;TZID=America/Detroit:20171203T123000
DTSTAMP:20260423T060912
CREATED:20171002T034015Z
LAST-MODIFIED:20171002T034139Z
UID:10000202-1512295200-1512304200@theturningpointoflansing.org
SUMMARY:Parent Session - “Bridging the Gap”
DESCRIPTION:Rms.\,005-007
URL:https://theturningpointoflansing.org/upcoming/parent-session-bridging-the-gap/
LOCATION:LCC Main Campus Health & Human Services Bldg\, North Washington Square 515\, Lansing\, MI\, 48933\, United States
CATEGORIES:Parent Session
GEO:42.7391681;-84.5524907
X-APPLE-STRUCTURED-LOCATION;VALUE=URI;X-ADDRESS=LCC Main Campus Health & Human Services Bldg North Washington Square 515 Lansing MI 48933 United States;X-APPLE-RADIUS=500;X-TITLE=North Washington Square 515:geo:-84.5524907,42.7391681
END:VEVENT
BEGIN:VEVENT
DTSTART;TZID=America/Detroit:20171203T100000
DTEND;TZID=America/Detroit:20171203T123000
DTSTAMP:20260423T060912
CREATED:20171002T034015Z
LAST-MODIFIED:20171002T034015Z
UID:10000400-1512295200-1512304200@theturningpointoflansing.org
SUMMARY:Parent Session - “Bridging the Gap”
DESCRIPTION:Rms.\,005-007
URL:https://theturningpointoflansing.org/upcoming/parent-session-bridging-the-gap-2/
LOCATION:LCC Main Campus Health & Human Services Bldg\, North Washington Square 515\, Lansing\, MI\, 48933\, United States
CATEGORIES:Parent Session
GEO:42.7391681;-84.5524907
X-APPLE-STRUCTURED-LOCATION;VALUE=URI;X-ADDRESS=LCC Main Campus Health & Human Services Bldg North Washington Square 515 Lansing MI 48933 United States;X-APPLE-RADIUS=500;X-TITLE=North Washington Square 515:geo:-84.5524907,42.7391681
END:VEVENT
BEGIN:VEVENT
DTSTART;TZID=America/Detroit:20171203T100000
DTEND;TZID=America/Detroit:20171203T123000
DTSTAMP:20260423T060912
CREATED:20171002T034015Z
LAST-MODIFIED:20171002T034015Z
UID:10000604-1512295200-1512304200@theturningpointoflansing.org
SUMMARY:Parent Session - “Bridging the Gap”
DESCRIPTION:Rms.\,005-007
URL:https://theturningpointoflansing.org/upcoming/parent-session-bridging-the-gap-3/
LOCATION:LCC Main Campus Health & Human Services Bldg\, North Washington Square 515\, Lansing\, MI\, 48933\, United States
CATEGORIES:Parent Session
GEO:42.7391681;-84.5524907
X-APPLE-STRUCTURED-LOCATION;VALUE=URI;X-ADDRESS=LCC Main Campus Health & Human Services Bldg North Washington Square 515 Lansing MI 48933 United States;X-APPLE-RADIUS=500;X-TITLE=North Washington Square 515:geo:-84.5524907,42.7391681
END:VEVENT
BEGIN:VEVENT
DTSTART;TZID=America/Detroit:20171203T100000
DTEND;TZID=America/Detroit:20171203T123000
DTSTAMP:20260423T060912
CREATED:20171002T033903Z
LAST-MODIFIED:20171002T033958Z
UID:10000201-1512295200-1512304200@theturningpointoflansing.org
SUMMARY:Mentoring Session - “Bridging the Gap"
DESCRIPTION:Rms.\,005-007\,
URL:https://theturningpointoflansing.org/upcoming/mentoring-session-bridging-the-gap/
LOCATION:LCC Main Campus Health & Human Services Bldg\, North Washington Square 515\, Lansing\, MI\, 48933\, United States
CATEGORIES:Mentoring Session
GEO:42.7391681;-84.5524907
X-APPLE-STRUCTURED-LOCATION;VALUE=URI;X-ADDRESS=LCC Main Campus Health & Human Services Bldg North Washington Square 515 Lansing MI 48933 United States;X-APPLE-RADIUS=500;X-TITLE=North Washington Square 515:geo:-84.5524907,42.7391681
END:VEVENT
END:VCALENDAR