BEGIN:VCALENDAR
VERSION:2.0
PRODID:-//The Turning Point of Lansing - ECPv6.15.20//NONSGML v1.0//EN
CALSCALE:GREGORIAN
METHOD:PUBLISH
X-WR-CALNAME:The Turning Point of Lansing
X-ORIGINAL-URL:https://theturningpointoflansing.org
X-WR-CALDESC:Events for The Turning Point of Lansing
REFRESH-INTERVAL;VALUE=DURATION:PT1H
X-Robots-Tag:noindex
X-PUBLISHED-TTL:PT1H
BEGIN:VTIMEZONE
TZID:America/Detroit
BEGIN:DAYLIGHT
TZOFFSETFROM:-0500
TZOFFSETTO:-0400
TZNAME:EDT
DTSTART:20150308T070000
END:DAYLIGHT
BEGIN:STANDARD
TZOFFSETFROM:-0400
TZOFFSETTO:-0500
TZNAME:EST
DTSTART:20151101T060000
END:STANDARD
BEGIN:DAYLIGHT
TZOFFSETFROM:-0500
TZOFFSETTO:-0400
TZNAME:EDT
DTSTART:20160313T070000
END:DAYLIGHT
BEGIN:STANDARD
TZOFFSETFROM:-0400
TZOFFSETTO:-0500
TZNAME:EST
DTSTART:20161106T060000
END:STANDARD
BEGIN:DAYLIGHT
TZOFFSETFROM:-0500
TZOFFSETTO:-0400
TZNAME:EDT
DTSTART:20170312T070000
END:DAYLIGHT
BEGIN:STANDARD
TZOFFSETFROM:-0400
TZOFFSETTO:-0500
TZNAME:EST
DTSTART:20171105T060000
END:STANDARD
BEGIN:DAYLIGHT
TZOFFSETFROM:-0500
TZOFFSETTO:-0400
TZNAME:EDT
DTSTART:20180311T070000
END:DAYLIGHT
BEGIN:STANDARD
TZOFFSETFROM:-0400
TZOFFSETTO:-0500
TZNAME:EST
DTSTART:20181104T060000
END:STANDARD
END:VTIMEZONE
BEGIN:VEVENT
DTSTART;TZID=America/Detroit:20161106T031500
DTEND;TZID=America/Detroit:20161106T100000
DTSTAMP:20260422T224638
CREATED:20161103T190732Z
LAST-MODIFIED:20161103T190732Z
UID:10000160-1478402100-1478426400@theturningpointoflansing.org
SUMMARY:Teen Summit
DESCRIPTION:
URL:https://theturningpointoflansing.org/upcoming/teen-summit/
LOCATION:MSU Holden Hall\, Wilson Road 234\, East Lansing\, MI\, 48825\, United States
CATEGORIES:Teen Summit
GEO:42.7210142;-84.4885775
X-APPLE-STRUCTURED-LOCATION;VALUE=URI;X-ADDRESS=MSU Holden Hall Wilson Road 234 East Lansing MI 48825 United States;X-APPLE-RADIUS=500;X-TITLE=Wilson Road 234:geo:-84.4885775,42.7210142
END:VEVENT
BEGIN:VEVENT
DTSTART;TZID=America/Detroit:20161106T031500
DTEND;TZID=America/Detroit:20161106T100000
DTSTAMP:20260422T224638
CREATED:20161103T190732Z
LAST-MODIFIED:20161103T190732Z
UID:10000358-1478402100-1478426400@theturningpointoflansing.org
SUMMARY:Teen Summit
DESCRIPTION:
URL:https://theturningpointoflansing.org/upcoming/teen-summit-2/
LOCATION:MSU Holden Hall\, Wilson Road 234\, East Lansing\, MI\, 48825\, United States
CATEGORIES:Teen Summit
GEO:42.7210142;-84.4885775
X-APPLE-STRUCTURED-LOCATION;VALUE=URI;X-ADDRESS=MSU Holden Hall Wilson Road 234 East Lansing MI 48825 United States;X-APPLE-RADIUS=500;X-TITLE=Wilson Road 234:geo:-84.4885775,42.7210142
END:VEVENT
BEGIN:VEVENT
DTSTART;TZID=America/Detroit:20161106T031500
DTEND;TZID=America/Detroit:20161106T100000
DTSTAMP:20260422T224638
CREATED:20161103T190732Z
LAST-MODIFIED:20161103T190732Z
UID:10000561-1478402100-1478426400@theturningpointoflansing.org
SUMMARY:Teen Summit
DESCRIPTION:
URL:https://theturningpointoflansing.org/upcoming/teen-summit-3/
LOCATION:MSU Holden Hall\, Wilson Road 234\, East Lansing\, MI\, 48825\, United States
CATEGORIES:Teen Summit
GEO:42.7210142;-84.4885775
X-APPLE-STRUCTURED-LOCATION;VALUE=URI;X-ADDRESS=MSU Holden Hall Wilson Road 234 East Lansing MI 48825 United States;X-APPLE-RADIUS=500;X-TITLE=Wilson Road 234:geo:-84.4885775,42.7210142
END:VEVENT
BEGIN:VEVENT
DTSTART;VALUE=DATE:20161111
DTEND;VALUE=DATE:20161113
DTSTAMP:20260422T224638
CREATED:20161103T191105Z
LAST-MODIFIED:20161103T191105Z
UID:10000161-1478890800-1478977199@theturningpointoflansing.org
SUMMARY:MSU Football Concession
DESCRIPTION:Game Time TBA
URL:https://theturningpointoflansing.org/upcoming/msu-football-concession/
LOCATION:Spartan Stadium\, West Shaw Lane 325\, East Lansing\, MI\, 48824\, United States
CATEGORIES:MSU Football Concession
GEO:42.7279228;-84.4851791
X-APPLE-STRUCTURED-LOCATION;VALUE=URI;X-ADDRESS=Spartan Stadium West Shaw Lane 325 East Lansing MI 48824 United States;X-APPLE-RADIUS=500;X-TITLE=West Shaw Lane 325:geo:-84.4851791,42.7279228
END:VEVENT
BEGIN:VEVENT
DTSTART;VALUE=DATE:20161111
DTEND;VALUE=DATE:20161113
DTSTAMP:20260422T224638
CREATED:20161103T191105Z
LAST-MODIFIED:20161103T191105Z
UID:10000359-1478890800-1478977199@theturningpointoflansing.org
SUMMARY:MSU Football Concession
DESCRIPTION:Game Time TBA
URL:https://theturningpointoflansing.org/upcoming/msu-football-concession-4/
LOCATION:Spartan Stadium\, West Shaw Lane 325\, East Lansing\, MI\, 48824\, United States
CATEGORIES:MSU Football Concession
GEO:42.7279228;-84.4851791
X-APPLE-STRUCTURED-LOCATION;VALUE=URI;X-ADDRESS=Spartan Stadium West Shaw Lane 325 East Lansing MI 48824 United States;X-APPLE-RADIUS=500;X-TITLE=West Shaw Lane 325:geo:-84.4851791,42.7279228
END:VEVENT
BEGIN:VEVENT
DTSTART;VALUE=DATE:20161111
DTEND;VALUE=DATE:20161113
DTSTAMP:20260422T224638
CREATED:20161103T191105Z
LAST-MODIFIED:20161103T191105Z
UID:10000562-1478890800-1478977199@theturningpointoflansing.org
SUMMARY:MSU Football Concession
DESCRIPTION:Game Time TBA
URL:https://theturningpointoflansing.org/upcoming/msu-football-concession-5/
LOCATION:Spartan Stadium\, West Shaw Lane 325\, East Lansing\, MI\, 48824\, United States
CATEGORIES:MSU Football Concession
GEO:42.7279228;-84.4851791
X-APPLE-STRUCTURED-LOCATION;VALUE=URI;X-ADDRESS=Spartan Stadium West Shaw Lane 325 East Lansing MI 48824 United States;X-APPLE-RADIUS=500;X-TITLE=West Shaw Lane 325:geo:-84.4851791,42.7279228
END:VEVENT
BEGIN:VEVENT
DTSTART;TZID=America/Detroit:20161113T100000
DTEND;TZID=America/Detroit:20161113T123000
DTSTAMP:20260422T224638
CREATED:20161103T191312Z
LAST-MODIFIED:20161103T191312Z
UID:10000162-1479031200-1479040200@theturningpointoflansing.org
SUMMARY:Mentoring Session
DESCRIPTION:
URL:https://theturningpointoflansing.org/upcoming/mentoring-session/
LOCATION:LCC Main Campus Health & Human Services Bldg\, North Washington Square 515\, Lansing\, MI\, 48933\, United States
CATEGORIES:Mentoring Session
GEO:42.7391681;-84.5524907
X-APPLE-STRUCTURED-LOCATION;VALUE=URI;X-ADDRESS=LCC Main Campus Health & Human Services Bldg North Washington Square 515 Lansing MI 48933 United States;X-APPLE-RADIUS=500;X-TITLE=North Washington Square 515:geo:-84.5524907,42.7391681
END:VEVENT
BEGIN:VEVENT
DTSTART;TZID=America/Detroit:20161113T100000
DTEND;TZID=America/Detroit:20161113T123000
DTSTAMP:20260422T224638
CREATED:20161103T191312Z
LAST-MODIFIED:20161103T191312Z
UID:10000360-1479031200-1479040200@theturningpointoflansing.org
SUMMARY:Mentoring Session
DESCRIPTION:
URL:https://theturningpointoflansing.org/upcoming/mentoring-session-9/
LOCATION:LCC Main Campus Health & Human Services Bldg\, North Washington Square 515\, Lansing\, MI\, 48933\, United States
CATEGORIES:Mentoring Session
GEO:42.7391681;-84.5524907
X-APPLE-STRUCTURED-LOCATION;VALUE=URI;X-ADDRESS=LCC Main Campus Health & Human Services Bldg North Washington Square 515 Lansing MI 48933 United States;X-APPLE-RADIUS=500;X-TITLE=North Washington Square 515:geo:-84.5524907,42.7391681
END:VEVENT
BEGIN:VEVENT
DTSTART;TZID=America/Detroit:20161113T100000
DTEND;TZID=America/Detroit:20161113T123000
DTSTAMP:20260422T224638
CREATED:20161103T191312Z
LAST-MODIFIED:20161103T191312Z
UID:10000563-1479031200-1479040200@theturningpointoflansing.org
SUMMARY:Mentoring Session
DESCRIPTION:
URL:https://theturningpointoflansing.org/upcoming/mentoring-session-10/
LOCATION:LCC Main Campus Health & Human Services Bldg\, North Washington Square 515\, Lansing\, MI\, 48933\, United States
CATEGORIES:Mentoring Session
GEO:42.7391681;-84.5524907
X-APPLE-STRUCTURED-LOCATION;VALUE=URI;X-ADDRESS=LCC Main Campus Health & Human Services Bldg North Washington Square 515 Lansing MI 48933 United States;X-APPLE-RADIUS=500;X-TITLE=North Washington Square 515:geo:-84.5524907,42.7391681
END:VEVENT
BEGIN:VEVENT
DTSTART;VALUE=DATE:20161118
DTEND;VALUE=DATE:20161120
DTSTAMP:20260422T224638
CREATED:20161103T191514Z
LAST-MODIFIED:20161103T191514Z
UID:10000163-1479495600-1479581999@theturningpointoflansing.org
SUMMARY:MSU Footbal Concession
DESCRIPTION:
URL:https://theturningpointoflansing.org/upcoming/msu-footbal-concession/
LOCATION:MI
CATEGORIES:MSU Football Concession
END:VEVENT
BEGIN:VEVENT
DTSTART;VALUE=DATE:20161118
DTEND;VALUE=DATE:20161120
DTSTAMP:20260422T224638
CREATED:20161103T191514Z
LAST-MODIFIED:20161103T191514Z
UID:10000361-1479495600-1479581999@theturningpointoflansing.org
SUMMARY:MSU Footbal Concession
DESCRIPTION:
URL:https://theturningpointoflansing.org/upcoming/msu-footbal-concession-2/
LOCATION:MI
CATEGORIES:MSU Football Concession
END:VEVENT
BEGIN:VEVENT
DTSTART;VALUE=DATE:20161118
DTEND;VALUE=DATE:20161120
DTSTAMP:20260422T224638
CREATED:20161103T191514Z
LAST-MODIFIED:20161103T191514Z
UID:10000564-1479495600-1479581999@theturningpointoflansing.org
SUMMARY:MSU Footbal Concession
DESCRIPTION:
URL:https://theturningpointoflansing.org/upcoming/msu-footbal-concession-3/
LOCATION:MI
CATEGORIES:MSU Football Concession
END:VEVENT
BEGIN:VEVENT
DTSTART;TZID=America/Detroit:20161120T110000
DTEND;TZID=America/Detroit:20161120T130000
DTSTAMP:20260422T224638
CREATED:20161103T191706Z
LAST-MODIFIED:20161103T192053Z
UID:10000164-1479639600-1479646800@theturningpointoflansing.org
SUMMARY:Recreational Session
DESCRIPTION:
URL:https://theturningpointoflansing.org/upcoming/recreational/
LOCATION:Alfreda Schmidt Southside Community Center\, Wise Road 5825\, Lansing\, MI\, 48911\, United States
CATEGORIES:Recreational Session
GEO:42.6726017;-84.5921649
X-APPLE-STRUCTURED-LOCATION;VALUE=URI;X-ADDRESS=Alfreda Schmidt Southside Community Center Wise Road 5825 Lansing MI 48911 United States;X-APPLE-RADIUS=500;X-TITLE=Wise Road 5825:geo:-84.5921649,42.6726017
END:VEVENT
BEGIN:VEVENT
DTSTART;TZID=America/Detroit:20161120T110000
DTEND;TZID=America/Detroit:20161120T130000
DTSTAMP:20260422T224638
CREATED:20161103T191706Z
LAST-MODIFIED:20161103T191706Z
UID:10000362-1479639600-1479646800@theturningpointoflansing.org
SUMMARY:Recreational Session
DESCRIPTION:
URL:https://theturningpointoflansing.org/upcoming/recreational-2/
LOCATION:Alfreda Schmidt Southside Community Center\, Wise Road 5825\, Lansing\, MI\, 48911\, United States
CATEGORIES:Recreational Session
GEO:42.6726017;-84.5921649
X-APPLE-STRUCTURED-LOCATION;VALUE=URI;X-ADDRESS=Alfreda Schmidt Southside Community Center Wise Road 5825 Lansing MI 48911 United States;X-APPLE-RADIUS=500;X-TITLE=Wise Road 5825:geo:-84.5921649,42.6726017
END:VEVENT
BEGIN:VEVENT
DTSTART;TZID=America/Detroit:20161120T110000
DTEND;TZID=America/Detroit:20161120T130000
DTSTAMP:20260422T224638
CREATED:20161103T191706Z
LAST-MODIFIED:20161103T191706Z
UID:10000565-1479639600-1479646800@theturningpointoflansing.org
SUMMARY:Recreational Session
DESCRIPTION:
URL:https://theturningpointoflansing.org/upcoming/recreational-3/
LOCATION:Alfreda Schmidt Southside Community Center\, Wise Road 5825\, Lansing\, MI\, 48911\, United States
CATEGORIES:Recreational Session
GEO:42.6726017;-84.5921649
X-APPLE-STRUCTURED-LOCATION;VALUE=URI;X-ADDRESS=Alfreda Schmidt Southside Community Center Wise Road 5825 Lansing MI 48911 United States;X-APPLE-RADIUS=500;X-TITLE=Wise Road 5825:geo:-84.5921649,42.6726017
END:VEVENT
BEGIN:VEVENT
DTSTART;TZID=America/Detroit:20161204T100000
DTEND;TZID=America/Detroit:20161204T123000
DTSTAMP:20260422T224638
CREATED:20161103T192856Z
LAST-MODIFIED:20161103T193141Z
UID:10000166-1480845600-1480854600@theturningpointoflansing.org
SUMMARY:Parent Session
DESCRIPTION:
URL:https://theturningpointoflansing.org/upcoming/parent-session/
LOCATION:LCC Main Campus Health & Human Services Bldg\, North Washington Square 515\, Lansing\, MI\, 48933\, United States
CATEGORIES:Parent Session
GEO:42.7391681;-84.5524907
X-APPLE-STRUCTURED-LOCATION;VALUE=URI;X-ADDRESS=LCC Main Campus Health & Human Services Bldg North Washington Square 515 Lansing MI 48933 United States;X-APPLE-RADIUS=500;X-TITLE=North Washington Square 515:geo:-84.5524907,42.7391681
END:VEVENT
BEGIN:VEVENT
DTSTART;TZID=America/Detroit:20161204T100000
DTEND;TZID=America/Detroit:20161204T123000
DTSTAMP:20260422T224638
CREATED:20161103T192856Z
LAST-MODIFIED:20161103T192856Z
UID:10000364-1480845600-1480854600@theturningpointoflansing.org
SUMMARY:Parent Session
DESCRIPTION:
URL:https://theturningpointoflansing.org/upcoming/parent-session-11/
LOCATION:LCC Main Campus Health & Human Services Bldg\, North Washington Square 515\, Lansing\, MI\, 48933\, United States
CATEGORIES:Parent Session
GEO:42.7391681;-84.5524907
X-APPLE-STRUCTURED-LOCATION;VALUE=URI;X-ADDRESS=LCC Main Campus Health & Human Services Bldg North Washington Square 515 Lansing MI 48933 United States;X-APPLE-RADIUS=500;X-TITLE=North Washington Square 515:geo:-84.5524907,42.7391681
END:VEVENT
BEGIN:VEVENT
DTSTART;TZID=America/Detroit:20161204T100000
DTEND;TZID=America/Detroit:20161204T123000
DTSTAMP:20260422T224638
CREATED:20161103T192856Z
LAST-MODIFIED:20161103T192856Z
UID:10000567-1480845600-1480854600@theturningpointoflansing.org
SUMMARY:Parent Session
DESCRIPTION:
URL:https://theturningpointoflansing.org/upcoming/parent-session-12/
LOCATION:LCC Main Campus Health & Human Services Bldg\, North Washington Square 515\, Lansing\, MI\, 48933\, United States
CATEGORIES:Parent Session
GEO:42.7391681;-84.5524907
X-APPLE-STRUCTURED-LOCATION;VALUE=URI;X-ADDRESS=LCC Main Campus Health & Human Services Bldg North Washington Square 515 Lansing MI 48933 United States;X-APPLE-RADIUS=500;X-TITLE=North Washington Square 515:geo:-84.5524907,42.7391681
END:VEVENT
BEGIN:VEVENT
DTSTART;TZID=America/Detroit:20161204T100000
DTEND;TZID=America/Detroit:20161204T123000
DTSTAMP:20260422T224638
CREATED:20161103T192514Z
LAST-MODIFIED:20161103T192514Z
UID:10000165-1480845600-1480854600@theturningpointoflansing.org
SUMMARY:Mentoring Session
DESCRIPTION:
URL:https://theturningpointoflansing.org/upcoming/mentoring-session-2/
LOCATION:LCC Main Campus Health & Human Services Bldg\, North Washington Square 515\, Lansing\, MI\, 48933\, United States
CATEGORIES:Mentoring Session
GEO:42.7391681;-84.5524907
X-APPLE-STRUCTURED-LOCATION;VALUE=URI;X-ADDRESS=LCC Main Campus Health & Human Services Bldg North Washington Square 515 Lansing MI 48933 United States;X-APPLE-RADIUS=500;X-TITLE=North Washington Square 515:geo:-84.5524907,42.7391681
END:VEVENT
BEGIN:VEVENT
DTSTART;TZID=America/Detroit:20161204T100000
DTEND;TZID=America/Detroit:20161204T123000
DTSTAMP:20260422T224638
CREATED:20161103T192514Z
LAST-MODIFIED:20161103T192514Z
UID:10000363-1480845600-1480854600@theturningpointoflansing.org
SUMMARY:Mentoring Session
DESCRIPTION:
URL:https://theturningpointoflansing.org/upcoming/mentoring-session-2-2/
LOCATION:LCC Main Campus Health & Human Services Bldg\, North Washington Square 515\, Lansing\, MI\, 48933\, United States
CATEGORIES:Mentoring Session
GEO:42.7391681;-84.5524907
X-APPLE-STRUCTURED-LOCATION;VALUE=URI;X-ADDRESS=LCC Main Campus Health & Human Services Bldg North Washington Square 515 Lansing MI 48933 United States;X-APPLE-RADIUS=500;X-TITLE=North Washington Square 515:geo:-84.5524907,42.7391681
END:VEVENT
BEGIN:VEVENT
DTSTART;TZID=America/Detroit:20161204T100000
DTEND;TZID=America/Detroit:20161204T123000
DTSTAMP:20260422T224638
CREATED:20161103T192514Z
LAST-MODIFIED:20161103T192514Z
UID:10000566-1480845600-1480854600@theturningpointoflansing.org
SUMMARY:Mentoring Session
DESCRIPTION:
URL:https://theturningpointoflansing.org/upcoming/mentoring-session-2-3/
LOCATION:LCC Main Campus Health & Human Services Bldg\, North Washington Square 515\, Lansing\, MI\, 48933\, United States
CATEGORIES:Mentoring Session
GEO:42.7391681;-84.5524907
X-APPLE-STRUCTURED-LOCATION;VALUE=URI;X-ADDRESS=LCC Main Campus Health & Human Services Bldg North Washington Square 515 Lansing MI 48933 United States;X-APPLE-RADIUS=500;X-TITLE=North Washington Square 515:geo:-84.5524907,42.7391681
END:VEVENT
BEGIN:VEVENT
DTSTART;VALUE=DATE:20161216
DTEND;VALUE=DATE:20170103
DTSTAMP:20260422T224638
CREATED:20161103T194436Z
LAST-MODIFIED:20161103T194436Z
UID:10000169-1481914800-1483383599@theturningpointoflansing.org
SUMMARY:Holiday Break
DESCRIPTION:
URL:https://theturningpointoflansing.org/upcoming/holiday-break/
LOCATION:MI
END:VEVENT
BEGIN:VEVENT
DTSTART;VALUE=DATE:20161216
DTEND;VALUE=DATE:20170103
DTSTAMP:20260422T224638
CREATED:20161103T194436Z
LAST-MODIFIED:20161103T194436Z
UID:10000367-1481914800-1483383599@theturningpointoflansing.org
SUMMARY:Holiday Break
DESCRIPTION:
URL:https://theturningpointoflansing.org/upcoming/holiday-break-3/
LOCATION:MI
END:VEVENT
BEGIN:VEVENT
DTSTART;VALUE=DATE:20161216
DTEND;VALUE=DATE:20170103
DTSTAMP:20260422T224638
CREATED:20161103T194436Z
LAST-MODIFIED:20161103T194436Z
UID:10000570-1481914800-1483383599@theturningpointoflansing.org
SUMMARY:Holiday Break
DESCRIPTION:
URL:https://theturningpointoflansing.org/upcoming/holiday-break-4/
LOCATION:MI
END:VEVENT
BEGIN:VEVENT
DTSTART;TZID=America/Detroit:20161226T110000
DTEND;TZID=America/Detroit:20161226T130000
DTSTAMP:20260422T224638
CREATED:20161103T194330Z
LAST-MODIFIED:20161103T194330Z
UID:10000168-1482750000-1482757200@theturningpointoflansing.org
SUMMARY:St. Stephen's Annual Kwanzaa Celebration
DESCRIPTION:
URL:https://theturningpointoflansing.org/upcoming/st-stephens-annual-kwanzaa-celebration/
LOCATION:St Stephen’s Community Church\, Kimberly Drive 1007\, Lansing\, MI\, 48912\, United States
CATEGORIES:Kwanzaa Celebration
GEO:42.7442377;-84.5129954
X-APPLE-STRUCTURED-LOCATION;VALUE=URI;X-ADDRESS=St Stephen’s Community Church Kimberly Drive 1007 Lansing MI 48912 United States;X-APPLE-RADIUS=500;X-TITLE=Kimberly Drive 1007:geo:-84.5129954,42.7442377
END:VEVENT
BEGIN:VEVENT
DTSTART;TZID=America/Detroit:20161226T110000
DTEND;TZID=America/Detroit:20161226T130000
DTSTAMP:20260422T224638
CREATED:20161103T194330Z
LAST-MODIFIED:20161103T194330Z
UID:10000366-1482750000-1482757200@theturningpointoflansing.org
SUMMARY:St. Stephen's Annual Kwanzaa Celebration
DESCRIPTION:
URL:https://theturningpointoflansing.org/upcoming/st-stephens-annual-kwanzaa-celebration-2/
LOCATION:St Stephen’s Community Church\, Kimberly Drive 1007\, Lansing\, MI\, 48912\, United States
CATEGORIES:Kwanzaa Celebration
GEO:42.7442377;-84.5129954
X-APPLE-STRUCTURED-LOCATION;VALUE=URI;X-ADDRESS=St Stephen’s Community Church Kimberly Drive 1007 Lansing MI 48912 United States;X-APPLE-RADIUS=500;X-TITLE=Kimberly Drive 1007:geo:-84.5129954,42.7442377
END:VEVENT
BEGIN:VEVENT
DTSTART;TZID=America/Detroit:20161226T110000
DTEND;TZID=America/Detroit:20161226T130000
DTSTAMP:20260422T224638
CREATED:20161103T194330Z
LAST-MODIFIED:20161103T194330Z
UID:10000569-1482750000-1482757200@theturningpointoflansing.org
SUMMARY:St. Stephen's Annual Kwanzaa Celebration
DESCRIPTION:
URL:https://theturningpointoflansing.org/upcoming/st-stephens-annual-kwanzaa-celebration-3/
LOCATION:St Stephen’s Community Church\, Kimberly Drive 1007\, Lansing\, MI\, 48912\, United States
CATEGORIES:Kwanzaa Celebration
GEO:42.7442377;-84.5129954
X-APPLE-STRUCTURED-LOCATION;VALUE=URI;X-ADDRESS=St Stephen’s Community Church Kimberly Drive 1007 Lansing MI 48912 United States;X-APPLE-RADIUS=500;X-TITLE=Kimberly Drive 1007:geo:-84.5129954,42.7442377
END:VEVENT
BEGIN:VEVENT
DTSTART;TZID=America/Detroit:20170115T090000
DTEND;TZID=America/Detroit:20170115T120000
DTSTAMP:20260422T224638
CREATED:20161103T194102Z
LAST-MODIFIED:20161226T182714Z
UID:10000167-1484470800-1484481600@theturningpointoflansing.org
SUMMARY:Kwanza Brunch
DESCRIPTION:Original Scheduled for December 11 – Rescheduled for January.
URL:https://theturningpointoflansing.org/upcoming/kwanza-brunch/
LOCATION:University Club of Michigan State University\, Forest Road 3435\, Lansing\, MI\, 48910\, United States
CATEGORIES:Kwanzaa Celebration
GEO:42.7050679;-84.5039437
X-APPLE-STRUCTURED-LOCATION;VALUE=URI;X-ADDRESS=University Club of Michigan State University Forest Road 3435 Lansing MI 48910 United States;X-APPLE-RADIUS=500;X-TITLE=Forest Road 3435:geo:-84.5039437,42.7050679
END:VEVENT
BEGIN:VEVENT
DTSTART;TZID=America/Detroit:20170115T090000
DTEND;TZID=America/Detroit:20170115T120000
DTSTAMP:20260422T224638
CREATED:20161103T194102Z
LAST-MODIFIED:20161103T194102Z
UID:10000365-1484470800-1484481600@theturningpointoflansing.org
SUMMARY:Kwanza Brunch
DESCRIPTION:Original Scheduled for December 11 – Rescheduled for January.
URL:https://theturningpointoflansing.org/upcoming/kwanza-brunch-2/
LOCATION:University Club of Michigan State University\, Forest Road 3435\, Lansing\, MI\, 48910\, United States
CATEGORIES:Kwanzaa Celebration
GEO:42.7050679;-84.5039437
X-APPLE-STRUCTURED-LOCATION;VALUE=URI;X-ADDRESS=University Club of Michigan State University Forest Road 3435 Lansing MI 48910 United States;X-APPLE-RADIUS=500;X-TITLE=Forest Road 3435:geo:-84.5039437,42.7050679
END:VEVENT
BEGIN:VEVENT
DTSTART;TZID=America/Detroit:20170115T090000
DTEND;TZID=America/Detroit:20170115T120000
DTSTAMP:20260422T224638
CREATED:20161103T194102Z
LAST-MODIFIED:20161103T194102Z
UID:10000568-1484470800-1484481600@theturningpointoflansing.org
SUMMARY:Kwanza Brunch
DESCRIPTION:Original Scheduled for December 11 – Rescheduled for January.
URL:https://theturningpointoflansing.org/upcoming/kwanza-brunch-3/
LOCATION:University Club of Michigan State University\, Forest Road 3435\, Lansing\, MI\, 48910\, United States
CATEGORIES:Kwanzaa Celebration
GEO:42.7050679;-84.5039437
X-APPLE-STRUCTURED-LOCATION;VALUE=URI;X-ADDRESS=University Club of Michigan State University Forest Road 3435 Lansing MI 48910 United States;X-APPLE-RADIUS=500;X-TITLE=Forest Road 3435:geo:-84.5039437,42.7050679
END:VEVENT
END:VCALENDAR