BEGIN:VCALENDAR
VERSION:2.0
PRODID:-//The Turning Point of Lansing - ECPv6.15.20//NONSGML v1.0//EN
CALSCALE:GREGORIAN
METHOD:PUBLISH
X-WR-CALNAME:The Turning Point of Lansing
X-ORIGINAL-URL:https://theturningpointoflansing.org
X-WR-CALDESC:Events for The Turning Point of Lansing
REFRESH-INTERVAL;VALUE=DURATION:PT1H
X-Robots-Tag:noindex
X-PUBLISHED-TTL:PT1H
BEGIN:VTIMEZONE
TZID:America/Detroit
BEGIN:DAYLIGHT
TZOFFSETFROM:-0500
TZOFFSETTO:-0400
TZNAME:EDT
DTSTART:20240310T070000
END:DAYLIGHT
BEGIN:STANDARD
TZOFFSETFROM:-0400
TZOFFSETTO:-0500
TZNAME:EST
DTSTART:20241103T060000
END:STANDARD
BEGIN:DAYLIGHT
TZOFFSETFROM:-0500
TZOFFSETTO:-0400
TZNAME:EDT
DTSTART:20250309T070000
END:DAYLIGHT
BEGIN:STANDARD
TZOFFSETFROM:-0400
TZOFFSETTO:-0500
TZNAME:EST
DTSTART:20251102T060000
END:STANDARD
BEGIN:DAYLIGHT
TZOFFSETFROM:-0500
TZOFFSETTO:-0400
TZNAME:EDT
DTSTART:20260308T070000
END:DAYLIGHT
BEGIN:STANDARD
TZOFFSETFROM:-0400
TZOFFSETTO:-0500
TZNAME:EST
DTSTART:20261101T060000
END:STANDARD
BEGIN:DAYLIGHT
TZOFFSETFROM:-0500
TZOFFSETTO:-0400
TZNAME:EDT
DTSTART:20270314T070000
END:DAYLIGHT
BEGIN:STANDARD
TZOFFSETFROM:-0400
TZOFFSETTO:-0500
TZNAME:EST
DTSTART:20271107T060000
END:STANDARD
END:VTIMEZONE
BEGIN:VEVENT
DTSTART;TZID=America/Detroit:20260125T160000
DTEND;TZID=America/Detroit:20260125T183000
DTSTAMP:20260422T182804
CREATED:20251201T213301Z
LAST-MODIFIED:20251217T195345Z
UID:10000853-1769356800-1769365800@theturningpointoflansing.org
SUMMARY:Student Session
DESCRIPTION:Topic: Cash Flow Academy: Led by Archie Hudson \nRm. 123. Food will be provided.
URL:https://theturningpointoflansing.org/upcoming/student-session-19/
LOCATION:TTPOL Building\, 1221 Reo Rd\, Lansing\, MI\, 48910\, United States
CATEGORIES:Student Session
ATTACH;FMTTYPE=image/jpeg:https://theturningpointoflansing.org/wp-content/uploads/2025/10/nachristos-sK0g8v-UBR4-unsplash-scaled.jpg
GEO:42.6862331;-84.5706137
X-APPLE-STRUCTURED-LOCATION;VALUE=URI;X-ADDRESS=TTPOL Building 1221 Reo Rd Lansing MI 48910 United States;X-APPLE-RADIUS=500;X-TITLE=1221 Reo Rd:geo:-84.5706137,42.6862331
END:VEVENT
BEGIN:VEVENT
DTSTART;TZID=America/Detroit:20260119T094500
DTEND;TZID=America/Detroit:20260119T130000
DTSTAMP:20260422T182804
CREATED:20251201T213953Z
LAST-MODIFIED:20251201T213953Z
UID:10000856-1768815900-1768827600@theturningpointoflansing.org
SUMMARY:MLK Commission Luncheon Students Ushering 
DESCRIPTION:MLK Commission Luncheon Students Ushering  – Lansing Ctr. (Arrive by 9:45am) Selected Individuals in grades 9-12.
URL:https://theturningpointoflansing.org/upcoming/mlk-commission-luncheon-students-ushering-3/
LOCATION:Lansing Center\, East Michigan Avenue 333\, Lansing\, MI\, 48933\, United States
CATEGORIES:MLK Lunhcheon
ATTACH;FMTTYPE=image/jpeg:https://theturningpointoflansing.org/wp-content/uploads/2024/12/unseen-histories-G2vxuMlATxA-unsplash-scaled-e1734906058382.jpg
GEO:42.7341382;-84.5482637
X-APPLE-STRUCTURED-LOCATION;VALUE=URI;X-ADDRESS=Lansing Center East Michigan Avenue 333 Lansing MI 48933 United States;X-APPLE-RADIUS=500;X-TITLE=East Michigan Avenue 333:geo:-84.5482637,42.7341382
END:VEVENT
BEGIN:VEVENT
DTSTART;TZID=America/Detroit:20260117T090000
DTEND;TZID=America/Detroit:20260117T110000
DTSTAMP:20260422T182804
CREATED:20251201T213723Z
LAST-MODIFIED:20251201T213723Z
UID:10000855-1768640400-1768647600@theturningpointoflansing.org
SUMMARY:Community Service project
DESCRIPTION:MOBILE FOOD DISTRUBITION at the FOOD ASSISTANCE LANSING\, South Church of the Nazarene\, 401 W. Holmes Rd.\, Lansing.\n(Arrive by 8:30am) Dress Warm we will be outside.
URL:https://theturningpointoflansing.org/upcoming/community-service-project-6/
CATEGORIES:Community Service
ATTACH;FMTTYPE=image/jpeg:https://theturningpointoflansing.org/wp-content/uploads/2024/12/qtq80-Bqht4t.jpeg
END:VEVENT
BEGIN:VEVENT
DTSTART;TZID=America/Detroit:20251214T140000
DTEND;TZID=America/Detroit:20251214T170000
DTSTAMP:20260422T182804
CREATED:20251009T135323Z
LAST-MODIFIED:20251009T135323Z
UID:10000851-1765720800-1765731600@theturningpointoflansing.org
SUMMARY:Kwanzaa Brunch
DESCRIPTION:
URL:https://theturningpointoflansing.org/upcoming/kwanzaa-brunch-4/
LOCATION:University Club of Michigan State University\, Forest Road 3435\, Lansing\, MI\, 48910\, United States
CATEGORIES:Kwanzaa Brunch
ATTACH;FMTTYPE=image/jpeg:https://theturningpointoflansing.org/wp-content/uploads/2024/10/7.jpg
GEO:42.7050679;-84.5039437
X-APPLE-STRUCTURED-LOCATION;VALUE=URI;X-ADDRESS=University Club of Michigan State University Forest Road 3435 Lansing MI 48910 United States;X-APPLE-RADIUS=500;X-TITLE=Forest Road 3435:geo:-84.5039437,42.7050679
END:VEVENT
BEGIN:VEVENT
DTSTART;TZID=America/Detroit:20251207T160000
DTEND;TZID=America/Detroit:20251207T183000
DTSTAMP:20260422T182804
CREATED:20251009T134118Z
LAST-MODIFIED:20251009T185135Z
UID:10000843-1765123200-1765132200@theturningpointoflansing.org
SUMMARY:Student Session
DESCRIPTION:Community Rm. \nFood Provided
URL:https://theturningpointoflansing.org/upcoming/student-session-18/2025-12-07/
LOCATION:Lansing Technical High School\, Wise Road 5815\, Lansing\, Michigan\, 48911\, United States
CATEGORIES:Student Session
ATTACH;FMTTYPE=image/jpeg:https://theturningpointoflansing.org/wp-content/uploads/2025/10/nachristos-sK0g8v-UBR4-unsplash-scaled.jpg
GEO:42.6728453;-84.5900215
X-APPLE-STRUCTURED-LOCATION;VALUE=URI;X-ADDRESS=Lansing Technical High School Wise Road 5815 Lansing Michigan 48911 United States;X-APPLE-RADIUS=500;X-TITLE=Wise Road 5815:geo:-84.5900215,42.6728453
END:VEVENT
BEGIN:VEVENT
DTSTART;TZID=America/Detroit:20251123T160000
DTEND;TZID=America/Detroit:20251123T183000
DTSTAMP:20260422T182804
CREATED:20251009T135205Z
LAST-MODIFIED:20251009T135205Z
UID:10000850-1763913600-1763922600@theturningpointoflansing.org
SUMMARY:Student Recreational Session
DESCRIPTION:Food provided.
URL:https://theturningpointoflansing.org/upcoming/student-recreational-session-3/2025-11-23/
LOCATION:Alfreda Schmidt Southside Community Center\, Wise Road 5825\, Lansing\, MI\, 48911\, United States
CATEGORIES:Recreational Session,Student Session
ATTACH;FMTTYPE=image/jpeg:https://theturningpointoflansing.org/wp-content/uploads/2024/10/Recreational-Gym.jpg
GEO:42.6726017;-84.5921649
X-APPLE-STRUCTURED-LOCATION;VALUE=URI;X-ADDRESS=Alfreda Schmidt Southside Community Center Wise Road 5825 Lansing MI 48911 United States;X-APPLE-RADIUS=500;X-TITLE=Wise Road 5825:geo:-84.5921649,42.6726017
END:VEVENT
BEGIN:VEVENT
DTSTART;TZID=America/Detroit:20251123T160000
DTEND;TZID=America/Detroit:20251123T183000
DTSTAMP:20260422T182804
CREATED:20251009T134516Z
LAST-MODIFIED:20251009T184805Z
UID:10000847-1763913600-1763922600@theturningpointoflansing.org
SUMMARY:Parent Session
DESCRIPTION:Community Rm.
URL:https://theturningpointoflansing.org/upcoming/parent-session-15/2025-11-23/
LOCATION:Lansing Technical High School\, Wise Road 5815\, Lansing\, Michigan\, 48911\, United States
CATEGORIES:Parent Session
ATTACH;FMTTYPE=image/jpeg:https://theturningpointoflansing.org/wp-content/uploads/2024/10/Parent-session.jpg
GEO:42.6728453;-84.5900215
X-APPLE-STRUCTURED-LOCATION;VALUE=URI;X-ADDRESS=Lansing Technical High School Wise Road 5815 Lansing Michigan 48911 United States;X-APPLE-RADIUS=500;X-TITLE=Wise Road 5815:geo:-84.5900215,42.6728453
END:VEVENT
BEGIN:VEVENT
DTSTART;TZID=America/Detroit:20251120T180000
DTEND;TZID=America/Detroit:20251120T190000
DTSTAMP:20260422T182804
CREATED:20251013T221912Z
LAST-MODIFIED:20251013T221912Z
UID:10000852-1763661600-1763665200@theturningpointoflansing.org
SUMMARY:Student Session Thursday
DESCRIPTION:
URL:https://theturningpointoflansing.org/upcoming/student-session-thursday/
LOCATION:TTPOL Building\, 1221 Reo Rd\, Lansing\, MI\, 48910\, United States
CATEGORIES:Student Session
ATTACH;FMTTYPE=image/jpeg:https://theturningpointoflansing.org/wp-content/uploads/2025/10/qtq80-smZUmN.jpeg
GEO:42.6862331;-84.5706137
X-APPLE-STRUCTURED-LOCATION;VALUE=URI;X-ADDRESS=TTPOL Building 1221 Reo Rd Lansing MI 48910 United States;X-APPLE-RADIUS=500;X-TITLE=1221 Reo Rd:geo:-84.5706137,42.6862331
END:VEVENT
BEGIN:VEVENT
DTSTART;TZID=America/Detroit:20251109T160000
DTEND;TZID=America/Detroit:20251109T183000
DTSTAMP:20260422T182804
CREATED:20251009T134118Z
LAST-MODIFIED:20251009T185135Z
UID:10000842-1762704000-1762713000@theturningpointoflansing.org
SUMMARY:Student Session
DESCRIPTION:Community Rm. \nFood Provided
URL:https://theturningpointoflansing.org/upcoming/student-session-18/2025-11-09/
LOCATION:Lansing Technical High School\, Wise Road 5815\, Lansing\, Michigan\, 48911\, United States
CATEGORIES:Student Session
ATTACH;FMTTYPE=image/jpeg:https://theturningpointoflansing.org/wp-content/uploads/2025/10/nachristos-sK0g8v-UBR4-unsplash-scaled.jpg
GEO:42.6728453;-84.5900215
X-APPLE-STRUCTURED-LOCATION;VALUE=URI;X-ADDRESS=Lansing Technical High School Wise Road 5815 Lansing Michigan 48911 United States;X-APPLE-RADIUS=500;X-TITLE=Wise Road 5815:geo:-84.5900215,42.6728453
END:VEVENT
BEGIN:VEVENT
DTSTART;TZID=America/Detroit:20251026T160000
DTEND;TZID=America/Detroit:20251026T183000
DTSTAMP:20260422T182804
CREATED:20251009T135205Z
LAST-MODIFIED:20251009T135205Z
UID:10000849-1761494400-1761503400@theturningpointoflansing.org
SUMMARY:Student Recreational Session
DESCRIPTION:Food provided.
URL:https://theturningpointoflansing.org/upcoming/student-recreational-session-3/2025-10-26/
LOCATION:Alfreda Schmidt Southside Community Center\, Wise Road 5825\, Lansing\, MI\, 48911\, United States
CATEGORIES:Recreational Session,Student Session
ATTACH;FMTTYPE=image/jpeg:https://theturningpointoflansing.org/wp-content/uploads/2024/10/Recreational-Gym.jpg
GEO:42.6726017;-84.5921649
X-APPLE-STRUCTURED-LOCATION;VALUE=URI;X-ADDRESS=Alfreda Schmidt Southside Community Center Wise Road 5825 Lansing MI 48911 United States;X-APPLE-RADIUS=500;X-TITLE=Wise Road 5825:geo:-84.5921649,42.6726017
END:VEVENT
BEGIN:VEVENT
DTSTART;TZID=America/Detroit:20251026T160000
DTEND;TZID=America/Detroit:20251026T183000
DTSTAMP:20260422T182804
CREATED:20251009T134516Z
LAST-MODIFIED:20251009T184805Z
UID:10000846-1761494400-1761503400@theturningpointoflansing.org
SUMMARY:Parent Session
DESCRIPTION:Community Rm.
URL:https://theturningpointoflansing.org/upcoming/parent-session-15/2025-10-26/
LOCATION:Lansing Technical High School\, Wise Road 5815\, Lansing\, Michigan\, 48911\, United States
CATEGORIES:Parent Session
ATTACH;FMTTYPE=image/jpeg:https://theturningpointoflansing.org/wp-content/uploads/2024/10/Parent-session.jpg
GEO:42.6728453;-84.5900215
X-APPLE-STRUCTURED-LOCATION;VALUE=URI;X-ADDRESS=Lansing Technical High School Wise Road 5815 Lansing Michigan 48911 United States;X-APPLE-RADIUS=500;X-TITLE=Wise Road 5815:geo:-84.5900215,42.6728453
END:VEVENT
BEGIN:VEVENT
DTSTART;TZID=America/Detroit:20251012T160000
DTEND;TZID=America/Detroit:20251012T183000
DTSTAMP:20260422T182804
CREATED:20251009T134118Z
LAST-MODIFIED:20251009T185135Z
UID:10000841-1760284800-1760293800@theturningpointoflansing.org
SUMMARY:Student Session
DESCRIPTION:Community Rm. \nFood Provided
URL:https://theturningpointoflansing.org/upcoming/student-session-18/2025-10-12/
LOCATION:Lansing Technical High School\, Wise Road 5815\, Lansing\, Michigan\, 48911\, United States
CATEGORIES:Student Session
ATTACH;FMTTYPE=image/jpeg:https://theturningpointoflansing.org/wp-content/uploads/2025/10/nachristos-sK0g8v-UBR4-unsplash-scaled.jpg
GEO:42.6728453;-84.5900215
X-APPLE-STRUCTURED-LOCATION;VALUE=URI;X-ADDRESS=Lansing Technical High School Wise Road 5815 Lansing Michigan 48911 United States;X-APPLE-RADIUS=500;X-TITLE=Wise Road 5815:geo:-84.5900215,42.6728453
END:VEVENT
BEGIN:VEVENT
DTSTART;TZID=America/Detroit:20250928T160000
DTEND;TZID=America/Detroit:20250928T183000
DTSTAMP:20260422T182804
CREATED:20251009T131359Z
LAST-MODIFIED:20251009T131359Z
UID:10000840-1759075200-1759084200@theturningpointoflansing.org
SUMMARY:Recreational & Family Community Cookout Event
DESCRIPTION:
URL:https://theturningpointoflansing.org/upcoming/recreational-family-community-cookout-event-2/
LOCATION:About Us
CATEGORIES:Recreational Session
END:VEVENT
BEGIN:VEVENT
DTSTART;TZID=America/Detroit:20250921T160000
DTEND;TZID=America/Detroit:20250921T173000
DTSTAMP:20260422T182804
CREATED:20251009T131035Z
LAST-MODIFIED:20251009T131035Z
UID:10000839-1758470400-1758475800@theturningpointoflansing.org
SUMMARY:Program Kick-Off Meeting
DESCRIPTION:
URL:https://theturningpointoflansing.org/upcoming/program-kick-off-meeting-5/
LOCATION:Union Missionary Baptist Church\, South Martin Luther King Junior Boulevard 500\, Lansing\, Michigan\, 48915\, United States
GEO:42.7282805;-84.5679456
X-APPLE-STRUCTURED-LOCATION;VALUE=URI;X-ADDRESS=Union Missionary Baptist Church South Martin Luther King Junior Boulevard 500 Lansing Michigan 48915 United States;X-APPLE-RADIUS=500;X-TITLE=South Martin Luther King Junior Boulevard 500:geo:-84.5679456,42.7282805
END:VEVENT
BEGIN:VEVENT
DTSTART;TZID=America/Detroit:20250521T190000
DTEND;TZID=America/Detroit:20250521T203000
DTSTAMP:20260422T182804
CREATED:20241222T234845Z
LAST-MODIFIED:20241222T234859Z
UID:10000835-1747854000-1747859400@theturningpointoflansing.org
SUMMARY:Rights of Passage Ceremony
DESCRIPTION:“FOCUSED ON THE FUTURE” (All Students Participate)
URL:https://theturningpointoflansing.org/upcoming/rights-of-passage/
LOCATION:Lansing Technical High School\, Wise Road 5815\, Lansing\, Michigan\, 48911\, United States
CATEGORIES:Rites of Passage Ceremony
ATTACH;FMTTYPE=image/jpeg:https://theturningpointoflansing.org/wp-content/uploads/2023/09/AKP_9339-scaled-e1704582430690.jpg
GEO:42.6728453;-84.5900215
X-APPLE-STRUCTURED-LOCATION;VALUE=URI;X-ADDRESS=Lansing Technical High School Wise Road 5815 Lansing Michigan 48911 United States;X-APPLE-RADIUS=500;X-TITLE=Wise Road 5815:geo:-84.5900215,42.6728453
END:VEVENT
BEGIN:VEVENT
DTSTART;TZID=America/Detroit:20250520T180000
DTEND;TZID=America/Detroit:20250520T193000
DTSTAMP:20260422T182804
CREATED:20241222T234404Z
LAST-MODIFIED:20241222T234404Z
UID:10000834-1747764000-1747769400@theturningpointoflansing.org
SUMMARY:Rites of Passage Ceremony Practice
DESCRIPTION:Lansing Technical High School “Auditorium” (All Students Participates) “ROP PREPARATION”
URL:https://theturningpointoflansing.org/upcoming/rites-of-passage-ceremony-practice-5/
LOCATION:Lansing Technical High School\, Wise Road 5815\, Lansing\, Michigan\, 48911\, United States
CATEGORIES:Rites of Passage Ceremoney Practice
ATTACH;FMTTYPE=image/jpeg:https://theturningpointoflansing.org/wp-content/uploads/2024/12/denise-jans-2We0jzrMLYc-unsplash-scaled.jpg
GEO:42.6728453;-84.5900215
X-APPLE-STRUCTURED-LOCATION;VALUE=URI;X-ADDRESS=Lansing Technical High School Wise Road 5815 Lansing Michigan 48911 United States;X-APPLE-RADIUS=500;X-TITLE=Wise Road 5815:geo:-84.5900215,42.6728453
END:VEVENT
BEGIN:VEVENT
DTSTART;TZID=America/Detroit:20250520T090000
DTEND;TZID=America/Detroit:20250520T150000
DTSTAMP:20260422T182804
CREATED:20241222T232118Z
LAST-MODIFIED:20241222T234608Z
UID:10000828-1747731600-1747753200@theturningpointoflansing.org
SUMMARY:2025 Michigan Student Sustainability Summit
DESCRIPTION:For middle and high school students.
URL:https://theturningpointoflansing.org/upcoming/2025-michigan-student-sustainability-summit/
LOCATION:STEM Teaching and Learning Facility\, 642 Red Cedar Rd\, East Lansing\, Michigan\, 48824
CATEGORIES:Michigan Student Sustainability Summit
ATTACH;FMTTYPE=image/jpeg:https://theturningpointoflansing.org/wp-content/uploads/2024/12/qtq80-dxHsEj.jpeg
GEO:42.7266155;-84.483143
X-APPLE-STRUCTURED-LOCATION;VALUE=URI;X-ADDRESS=STEM Teaching and Learning Facility 642 Red Cedar Rd East Lansing Michigan 48824;X-APPLE-RADIUS=500;X-TITLE=642 Red Cedar Rd:geo:-84.483143,42.7266155
END:VEVENT
BEGIN:VEVENT
DTSTART;TZID=America/Detroit:20250518T160000
DTEND;TZID=America/Detroit:20250518T183000
DTSTAMP:20260422T182804
CREATED:20241222T231059Z
LAST-MODIFIED:20241222T231158Z
UID:10000826-1747584000-1747593000@theturningpointoflansing.org
SUMMARY:Recreational Session
DESCRIPTION:
URL:https://theturningpointoflansing.org/upcoming/recreational-session-25/2025-05-18/
LOCATION:Alfreda Schmidt Southside Community Center\, Wise Road 5825\, Lansing\, MI\, 48911\, United States
CATEGORIES:Recreational Session
ATTACH;FMTTYPE=image/jpeg:https://theturningpointoflansing.org/wp-content/uploads/2024/10/Recreational-Gym.jpg
GEO:42.6726017;-84.5921649
X-APPLE-STRUCTURED-LOCATION;VALUE=URI;X-ADDRESS=Alfreda Schmidt Southside Community Center Wise Road 5825 Lansing MI 48911 United States;X-APPLE-RADIUS=500;X-TITLE=Wise Road 5825:geo:-84.5921649,42.6726017
END:VEVENT
BEGIN:VEVENT
DTSTART;TZID=America/Detroit:20250518T160000
DTEND;TZID=America/Detroit:20250518T183000
DTSTAMP:20260422T182804
CREATED:20241222T230342Z
LAST-MODIFIED:20241222T230342Z
UID:10000816-1747584000-1747593000@theturningpointoflansing.org
SUMMARY:Parent Session
DESCRIPTION:In Community Room.
URL:https://theturningpointoflansing.org/upcoming/parent-session-14/2025-05-18/
LOCATION:Alfreda Schmidt Southside Community Center\, Wise Road 5825\, Lansing\, MI\, 48911\, United States
CATEGORIES:Parent Session
ATTACH;FMTTYPE=image/jpeg:https://theturningpointoflansing.org/wp-content/uploads/2024/10/Parent-session.jpg
GEO:42.6726017;-84.5921649
X-APPLE-STRUCTURED-LOCATION;VALUE=URI;X-ADDRESS=Alfreda Schmidt Southside Community Center Wise Road 5825 Lansing MI 48911 United States;X-APPLE-RADIUS=500;X-TITLE=Wise Road 5825:geo:-84.5921649,42.6726017
END:VEVENT
BEGIN:VEVENT
DTSTART;TZID=America/Detroit:20250428T180000
DTEND;TZID=America/Detroit:20250428T190000
DTSTAMP:20260422T182804
CREATED:20241222T225339Z
LAST-MODIFIED:20241222T225339Z
UID:10000811-1745863200-1745866800@theturningpointoflansing.org
SUMMARY:Academic Core Virtual Tutoring Mondays
DESCRIPTION:
URL:https://theturningpointoflansing.org/upcoming/academic-core-virtual-tutoring-mondays/2025-04-28/
LOCATION:Virtual Online
CATEGORIES:Academic Core Virtual Tutoring Mondays
ATTACH;FMTTYPE=image/jpeg:https://theturningpointoflansing.org/wp-content/uploads/2024/12/qtq80-wSKitY.jpeg
END:VEVENT
BEGIN:VEVENT
DTSTART;TZID=America/Detroit:20250427T160000
DTEND;TZID=America/Detroit:20250427T183000
DTSTAMP:20260422T182804
CREATED:20241222T231059Z
LAST-MODIFIED:20241222T231158Z
UID:10000825-1745769600-1745778600@theturningpointoflansing.org
SUMMARY:Recreational Session
DESCRIPTION:
URL:https://theturningpointoflansing.org/upcoming/recreational-session-25/2025-04-27/
LOCATION:Alfreda Schmidt Southside Community Center\, Wise Road 5825\, Lansing\, MI\, 48911\, United States
CATEGORIES:Recreational Session
ATTACH;FMTTYPE=image/jpeg:https://theturningpointoflansing.org/wp-content/uploads/2024/10/Recreational-Gym.jpg
GEO:42.6726017;-84.5921649
X-APPLE-STRUCTURED-LOCATION;VALUE=URI;X-ADDRESS=Alfreda Schmidt Southside Community Center Wise Road 5825 Lansing MI 48911 United States;X-APPLE-RADIUS=500;X-TITLE=Wise Road 5825:geo:-84.5921649,42.6726017
END:VEVENT
BEGIN:VEVENT
DTSTART;TZID=America/Detroit:20250426T130000
DTEND;TZID=America/Detroit:20250426T150000
DTSTAMP:20260422T182804
CREATED:20241222T223227Z
LAST-MODIFIED:20250301T142810Z
UID:10000800-1745672400-1745679600@theturningpointoflansing.org
SUMMARY:Academic Core Tutoring Saturdays
DESCRIPTION:
URL:https://theturningpointoflansing.org/upcoming/academic-core-tutoring-saturdays/2025-04-26/
LOCATION:Amory\, Marshall Street 330\, Lansing\, MI\, 48912\, United States
CATEGORIES:Academic Core Tutoring Saturdays
ATTACH;FMTTYPE=image/jpeg:https://theturningpointoflansing.org/wp-content/uploads/2024/12/qtq80-tmdoRi.jpeg
GEO:42.737331;-84.5251341
X-APPLE-STRUCTURED-LOCATION;VALUE=URI;X-ADDRESS=Amory Marshall Street 330 Lansing MI 48912 United States;X-APPLE-RADIUS=500;X-TITLE=Marshall Street 330:geo:-84.5251341,42.737331
END:VEVENT
BEGIN:VEVENT
DTSTART;TZID=America/Detroit:20250421T180000
DTEND;TZID=America/Detroit:20250421T190000
DTSTAMP:20260422T182804
CREATED:20241222T225339Z
LAST-MODIFIED:20241222T225339Z
UID:10000810-1745258400-1745262000@theturningpointoflansing.org
SUMMARY:Academic Core Virtual Tutoring Mondays
DESCRIPTION:
URL:https://theturningpointoflansing.org/upcoming/academic-core-virtual-tutoring-mondays/2025-04-21/
LOCATION:Virtual Online
CATEGORIES:Academic Core Virtual Tutoring Mondays
ATTACH;FMTTYPE=image/jpeg:https://theturningpointoflansing.org/wp-content/uploads/2024/12/qtq80-wSKitY.jpeg
END:VEVENT
BEGIN:VEVENT
DTSTART;TZID=America/Detroit:20250414T180000
DTEND;TZID=America/Detroit:20250414T190000
DTSTAMP:20260422T182804
CREATED:20241222T225339Z
LAST-MODIFIED:20241222T225339Z
UID:10000809-1744653600-1744657200@theturningpointoflansing.org
SUMMARY:Academic Core Virtual Tutoring Mondays
DESCRIPTION:
URL:https://theturningpointoflansing.org/upcoming/academic-core-virtual-tutoring-mondays/2025-04-14/
LOCATION:Virtual Online
CATEGORIES:Academic Core Virtual Tutoring Mondays
ATTACH;FMTTYPE=image/jpeg:https://theturningpointoflansing.org/wp-content/uploads/2024/12/qtq80-wSKitY.jpeg
END:VEVENT
BEGIN:VEVENT
DTSTART;TZID=America/Detroit:20250413T163000
DTEND;TZID=America/Detroit:20250413T180000
DTSTAMP:20260422T182804
CREATED:20250215T205107Z
LAST-MODIFIED:20250215T205107Z
UID:10000838-1744561800-1744567200@theturningpointoflansing.org
SUMMARY:Student Session
DESCRIPTION:Community Room
URL:https://theturningpointoflansing.org/upcoming/student-session-17/
LOCATION:Alfreda Schmidt Southside Community Center\, Wise Road 5825\, Lansing\, MI\, 48911\, United States
CATEGORIES:Student Session
ATTACH;FMTTYPE=image/jpeg:https://theturningpointoflansing.org/wp-content/uploads/2024/09/GettyImages-1408304017.jpg
GEO:42.6726017;-84.5921649
X-APPLE-STRUCTURED-LOCATION;VALUE=URI;X-ADDRESS=Alfreda Schmidt Southside Community Center Wise Road 5825 Lansing MI 48911 United States;X-APPLE-RADIUS=500;X-TITLE=Wise Road 5825:geo:-84.5921649,42.6726017
END:VEVENT
BEGIN:VEVENT
DTSTART;TZID=America/Detroit:20250412T130000
DTEND;TZID=America/Detroit:20250412T150000
DTSTAMP:20260422T182804
CREATED:20241222T223227Z
LAST-MODIFIED:20250301T142810Z
UID:10000799-1744462800-1744470000@theturningpointoflansing.org
SUMMARY:Academic Core Tutoring Saturdays
DESCRIPTION:
URL:https://theturningpointoflansing.org/upcoming/academic-core-tutoring-saturdays/2025-04-12/
LOCATION:Amory\, Marshall Street 330\, Lansing\, MI\, 48912\, United States
CATEGORIES:Academic Core Tutoring Saturdays
ATTACH;FMTTYPE=image/jpeg:https://theturningpointoflansing.org/wp-content/uploads/2024/12/qtq80-tmdoRi.jpeg
GEO:42.737331;-84.5251341
X-APPLE-STRUCTURED-LOCATION;VALUE=URI;X-ADDRESS=Amory Marshall Street 330 Lansing MI 48912 United States;X-APPLE-RADIUS=500;X-TITLE=Marshall Street 330:geo:-84.5251341,42.737331
END:VEVENT
BEGIN:VEVENT
DTSTART;TZID=America/Detroit:20250407T180000
DTEND;TZID=America/Detroit:20250407T190000
DTSTAMP:20260422T182804
CREATED:20241222T225339Z
LAST-MODIFIED:20241222T225339Z
UID:10000808-1744048800-1744052400@theturningpointoflansing.org
SUMMARY:Academic Core Virtual Tutoring Mondays
DESCRIPTION:
URL:https://theturningpointoflansing.org/upcoming/academic-core-virtual-tutoring-mondays/2025-04-07/
LOCATION:Virtual Online
CATEGORIES:Academic Core Virtual Tutoring Mondays
ATTACH;FMTTYPE=image/jpeg:https://theturningpointoflansing.org/wp-content/uploads/2024/12/qtq80-wSKitY.jpeg
END:VEVENT
BEGIN:VEVENT
DTSTART;TZID=America/Detroit:20250405T130000
DTEND;TZID=America/Detroit:20250405T150000
DTSTAMP:20260422T182804
CREATED:20241222T223227Z
LAST-MODIFIED:20250301T142810Z
UID:10000798-1743858000-1743865200@theturningpointoflansing.org
SUMMARY:Academic Core Tutoring Saturdays
DESCRIPTION:
URL:https://theturningpointoflansing.org/upcoming/academic-core-tutoring-saturdays/2025-04-05/
LOCATION:Amory\, Marshall Street 330\, Lansing\, MI\, 48912\, United States
CATEGORIES:Academic Core Tutoring Saturdays
ATTACH;FMTTYPE=image/jpeg:https://theturningpointoflansing.org/wp-content/uploads/2024/12/qtq80-tmdoRi.jpeg
GEO:42.737331;-84.5251341
X-APPLE-STRUCTURED-LOCATION;VALUE=URI;X-ADDRESS=Amory Marshall Street 330 Lansing MI 48912 United States;X-APPLE-RADIUS=500;X-TITLE=Marshall Street 330:geo:-84.5251341,42.737331
END:VEVENT
BEGIN:VEVENT
DTSTART;VALUE=DATE:20250321
DTEND;VALUE=DATE:20250331
DTSTAMP:20260422T182804
CREATED:20241222T230638Z
LAST-MODIFIED:20241222T230638Z
UID:10000817-1742515200-1743379199@theturningpointoflansing.org
SUMMARY:School Spring Break Activities
DESCRIPTION:TBA
URL:https://theturningpointoflansing.org/upcoming/school-spring-break-activities-5/
CATEGORIES:School Spring Break
ATTACH;FMTTYPE=image/jpeg:https://theturningpointoflansing.org/wp-content/uploads/2024/12/qtq80-vGIEsg.jpeg
END:VEVENT
BEGIN:VEVENT
DTSTART;TZID=America/Detroit:20250317T180000
DTEND;TZID=America/Detroit:20250317T190000
DTSTAMP:20260422T182804
CREATED:20241222T225339Z
LAST-MODIFIED:20241222T225339Z
UID:10000807-1742234400-1742238000@theturningpointoflansing.org
SUMMARY:Academic Core Virtual Tutoring Mondays
DESCRIPTION:
URL:https://theturningpointoflansing.org/upcoming/academic-core-virtual-tutoring-mondays/2025-03-17/
LOCATION:Virtual Online
CATEGORIES:Academic Core Virtual Tutoring Mondays
ATTACH;FMTTYPE=image/jpeg:https://theturningpointoflansing.org/wp-content/uploads/2024/12/qtq80-wSKitY.jpeg
END:VEVENT
END:VCALENDAR