BEGIN:VCALENDAR
VERSION:2.0
PRODID:-//The Turning Point of Lansing - ECPv6.15.20//NONSGML v1.0//EN
CALSCALE:GREGORIAN
METHOD:PUBLISH
X-WR-CALNAME:The Turning Point of Lansing
X-ORIGINAL-URL:https://theturningpointoflansing.org
X-WR-CALDESC:Events for The Turning Point of Lansing
REFRESH-INTERVAL;VALUE=DURATION:PT1H
X-Robots-Tag:noindex
X-PUBLISHED-TTL:PT1H
BEGIN:VTIMEZONE
TZID:America/Detroit
BEGIN:DAYLIGHT
TZOFFSETFROM:-0500
TZOFFSETTO:-0400
TZNAME:EDT
DTSTART:20230312T070000
END:DAYLIGHT
BEGIN:STANDARD
TZOFFSETFROM:-0400
TZOFFSETTO:-0500
TZNAME:EST
DTSTART:20231105T060000
END:STANDARD
BEGIN:DAYLIGHT
TZOFFSETFROM:-0500
TZOFFSETTO:-0400
TZNAME:EDT
DTSTART:20240310T070000
END:DAYLIGHT
BEGIN:STANDARD
TZOFFSETFROM:-0400
TZOFFSETTO:-0500
TZNAME:EST
DTSTART:20241103T060000
END:STANDARD
BEGIN:DAYLIGHT
TZOFFSETFROM:-0500
TZOFFSETTO:-0400
TZNAME:EDT
DTSTART:20250309T070000
END:DAYLIGHT
BEGIN:STANDARD
TZOFFSETFROM:-0400
TZOFFSETTO:-0500
TZNAME:EST
DTSTART:20251102T060000
END:STANDARD
BEGIN:DAYLIGHT
TZOFFSETFROM:-0500
TZOFFSETTO:-0400
TZNAME:EDT
DTSTART:20260308T070000
END:DAYLIGHT
BEGIN:STANDARD
TZOFFSETFROM:-0400
TZOFFSETTO:-0500
TZNAME:EST
DTSTART:20261101T060000
END:STANDARD
END:VTIMEZONE
BEGIN:VEVENT
DTSTART;TZID=America/Detroit:20250125T130000
DTEND;TZID=America/Detroit:20250125T150000
DTSTAMP:20260423T072614
CREATED:20241222T223227Z
LAST-MODIFIED:20250301T142810Z
UID:10000791-1737810000-1737817200@theturningpointoflansing.org
SUMMARY:Academic Core Tutoring Saturdays
DESCRIPTION:
URL:https://theturningpointoflansing.org/upcoming/academic-core-tutoring-saturdays/2025-01-25/
LOCATION:Amory\, Marshall Street 330\, Lansing\, MI\, 48912\, United States
CATEGORIES:Academic Core Tutoring Saturdays
ATTACH;FMTTYPE=image/jpeg:https://theturningpointoflansing.org/wp-content/uploads/2024/12/qtq80-tmdoRi.jpeg
GEO:42.737331;-84.5251341
X-APPLE-STRUCTURED-LOCATION;VALUE=URI;X-ADDRESS=Amory Marshall Street 330 Lansing MI 48912 United States;X-APPLE-RADIUS=500;X-TITLE=Marshall Street 330:geo:-84.5251341,42.737331
END:VEVENT
BEGIN:VEVENT
DTSTART;TZID=America/Detroit:20250120T094500
DTEND;TZID=America/Detroit:20250120T130000
DTSTAMP:20260423T072614
CREATED:20241222T222112Z
LAST-MODIFIED:20241222T222112Z
UID:10000789-1737366300-1737378000@theturningpointoflansing.org
SUMMARY:MLK Commission Luncheon Students Ushering 
DESCRIPTION:MLK Commission Luncheon Students Ushering  – Lansing Ctr. (Arrive by 9:45am) Selected Individuals Upperclassmen
URL:https://theturningpointoflansing.org/upcoming/mlk-commission-luncheon-students-ushering-2/
LOCATION:Lansing Center\, East Michigan Avenue 333\, Lansing\, MI\, 48933\, United States
CATEGORIES:MLK Lunhcheon
ATTACH;FMTTYPE=image/jpeg:https://theturningpointoflansing.org/wp-content/uploads/2024/12/unseen-histories-G2vxuMlATxA-unsplash-scaled-e1734906058382.jpg
GEO:42.7341382;-84.5482637
X-APPLE-STRUCTURED-LOCATION;VALUE=URI;X-ADDRESS=Lansing Center East Michigan Avenue 333 Lansing MI 48933 United States;X-APPLE-RADIUS=500;X-TITLE=East Michigan Avenue 333:geo:-84.5482637,42.7341382
END:VEVENT
BEGIN:VEVENT
DTSTART;TZID=America/Detroit:20250119T150000
DTEND;TZID=America/Detroit:20250119T170000
DTSTAMP:20260423T072614
CREATED:20241222T221644Z
LAST-MODIFIED:20241222T221644Z
UID:10000788-1737298800-1737306000@theturningpointoflansing.org
SUMMARY:MSU “Jazz Spirituals\, Prayer Protest” Concert Sunday
DESCRIPTION:Doors Open 2:30pm. Registration Required Free Tickets are available over the phone 517-353-5340
URL:https://theturningpointoflansing.org/upcoming/msu-jazz-spirituals-prayer-protest-concert-sunday-2/
LOCATION:MI
CATEGORIES:Concert
ATTACH;FMTTYPE=image/jpeg:https://theturningpointoflansing.org/wp-content/uploads/2024/12/qtq80-XjL8b3.jpeg
END:VEVENT
BEGIN:VEVENT
DTSTART;TZID=America/Detroit:20250118T130000
DTEND;TZID=America/Detroit:20250118T150000
DTSTAMP:20260423T072614
CREATED:20241222T223227Z
LAST-MODIFIED:20250301T142810Z
UID:10000790-1737205200-1737212400@theturningpointoflansing.org
SUMMARY:Academic Core Tutoring Saturdays
DESCRIPTION:
URL:https://theturningpointoflansing.org/upcoming/academic-core-tutoring-saturdays/2025-01-18/
LOCATION:Amory\, Marshall Street 330\, Lansing\, MI\, 48912\, United States
CATEGORIES:Academic Core Tutoring Saturdays
ATTACH;FMTTYPE=image/jpeg:https://theturningpointoflansing.org/wp-content/uploads/2024/12/qtq80-tmdoRi.jpeg
GEO:42.737331;-84.5251341
X-APPLE-STRUCTURED-LOCATION;VALUE=URI;X-ADDRESS=Amory Marshall Street 330 Lansing MI 48912 United States;X-APPLE-RADIUS=500;X-TITLE=Marshall Street 330:geo:-84.5251341,42.737331
END:VEVENT
BEGIN:VEVENT
DTSTART;TZID=America/Detroit:20250118T090000
DTEND;TZID=America/Detroit:20250118T110000
DTSTAMP:20260423T072614
CREATED:20241222T221350Z
LAST-MODIFIED:20241222T221350Z
UID:10000787-1737190800-1737198000@theturningpointoflansing.org
SUMMARY:Community Service project
DESCRIPTION:MOBILE FOOD DISTRUBITION at the FOOD ASSISTANCE LANSING\, South Church of the Nazarene\, 401 W. Holmes Rd.\, Lansing.\n(Arrive by 8:30am) Dress Warm we will be outside.
URL:https://theturningpointoflansing.org/upcoming/community-service-project-5/
LOCATION:MI
CATEGORIES:Community Service
ATTACH;FMTTYPE=image/jpeg:https://theturningpointoflansing.org/wp-content/uploads/2024/12/qtq80-Bqht4t.jpeg
END:VEVENT
BEGIN:VEVENT
DTSTART;TZID=America/Detroit:20241216T000000
DTEND;TZID=America/Detroit:20250111T235900
DTSTAMP:20260423T072615
CREATED:20240922T201302Z
LAST-MODIFIED:20241006T153336Z
UID:10000786-1734307200-1736639940@theturningpointoflansing.org
SUMMARY:TTPOL Holiday Break
DESCRIPTION:
URL:https://theturningpointoflansing.org/upcoming/ttpol-holiday-break/
LOCATION:MI
ATTACH;FMTTYPE=image/jpeg:https://theturningpointoflansing.org/wp-content/uploads/2024/10/Holiday-Break.jpg
END:VEVENT
BEGIN:VEVENT
DTSTART;TZID=America/Detroit:20241215T140000
DTEND;TZID=America/Detroit:20241215T170000
DTSTAMP:20260423T072615
CREATED:20240922T201129Z
LAST-MODIFIED:20241006T153309Z
UID:10000785-1734271200-1734282000@theturningpointoflansing.org
SUMMARY:Kwanzaa Brunch
DESCRIPTION:
URL:https://theturningpointoflansing.org/upcoming/kwanzaa-brunch-2-2/
LOCATION:University Club of Michigan State University\, Forest Road 3435\, Lansing\, MI\, 48910\, United States
CATEGORIES:Kwanzaa Brunch
ATTACH;FMTTYPE=image/jpeg:https://theturningpointoflansing.org/wp-content/uploads/2024/10/7.jpg
GEO:42.7050679;-84.5039437
X-APPLE-STRUCTURED-LOCATION;VALUE=URI;X-ADDRESS=University Club of Michigan State University Forest Road 3435 Lansing MI 48910 United States;X-APPLE-RADIUS=500;X-TITLE=Forest Road 3435:geo:-84.5039437,42.7050679
END:VEVENT
BEGIN:VEVENT
DTSTART;TZID=America/Detroit:20241109T130000
DTEND;TZID=America/Detroit:20241109T150000
DTSTAMP:20260423T072615
CREATED:20240922T194534Z
LAST-MODIFIED:20241021T011918Z
UID:10000777-1731157200-1731164400@theturningpointoflansing.org
SUMMARY:Financial Aid Workshop #2
DESCRIPTION:Parents Only
URL:https://theturningpointoflansing.org/upcoming/financial-aid-workshop-2/
LOCATION:Amory\, Marshall Street 330\, Lansing\, MI\, 48912\, United States
CATEGORIES:Financial Aid Workshop
ATTACH;FMTTYPE=image/jpeg:https://theturningpointoflansing.org/wp-content/uploads/2024/10/Finacial-Aid.jpg
GEO:42.737331;-84.5251341
X-APPLE-STRUCTURED-LOCATION;VALUE=URI;X-ADDRESS=Amory Marshall Street 330 Lansing MI 48912 United States;X-APPLE-RADIUS=500;X-TITLE=Marshall Street 330:geo:-84.5251341,42.737331
END:VEVENT
BEGIN:VEVENT
DTSTART;TZID=America/Detroit:20241102T100000
DTEND;TZID=America/Detroit:20241102T150000
DTSTAMP:20260423T072615
CREATED:20240922T200958Z
LAST-MODIFIED:20241006T153221Z
UID:10000784-1730541600-1730559600@theturningpointoflansing.org
SUMMARY:HBCU 14th Annual College Fair Saturday
DESCRIPTION:
URL:https://theturningpointoflansing.org/upcoming/hbcu-14th-annual-college-fair-saturday/
LOCATION:Union Missionary Baptist Church\, South Martin Luther King Junior Boulevard 500\, Lansing\, Michigan\, 48915\, United States
CATEGORIES:HBCU College Fair
ATTACH;FMTTYPE=image/jpeg:https://theturningpointoflansing.org/wp-content/uploads/2024/10/College-fair.jpg
GEO:42.7282805;-84.5679456
X-APPLE-STRUCTURED-LOCATION;VALUE=URI;X-ADDRESS=Union Missionary Baptist Church South Martin Luther King Junior Boulevard 500 Lansing Michigan 48915 United States;X-APPLE-RADIUS=500;X-TITLE=South Martin Luther King Junior Boulevard 500:geo:-84.5679456,42.7282805
END:VEVENT
BEGIN:VEVENT
DTSTART;TZID=America/Detroit:20241027T160000
DTEND;TZID=America/Detroit:20241103T183000
DTSTAMP:20260423T072615
CREATED:20240922T200730Z
LAST-MODIFIED:20241021T011347Z
UID:10000783-1730044800-1730658600@theturningpointoflansing.org
SUMMARY:Recreation Session
DESCRIPTION:
URL:https://theturningpointoflansing.org/upcoming/recreation-session-2-2/2024-10-27/
LOCATION:Alfreda Schmidt Southside Community Center\, Wise Road 5825\, Lansing\, MI\, 48911\, United States
CATEGORIES:Recreational Session
ATTACH;FMTTYPE=image/jpeg:https://theturningpointoflansing.org/wp-content/uploads/2024/10/Recreational-Gym.jpg
GEO:42.6726017;-84.5921649
X-APPLE-STRUCTURED-LOCATION;VALUE=URI;X-ADDRESS=Alfreda Schmidt Southside Community Center Wise Road 5825 Lansing MI 48911 United States;X-APPLE-RADIUS=500;X-TITLE=Wise Road 5825:geo:-84.5921649,42.6726017
END:VEVENT
BEGIN:VEVENT
DTSTART;TZID=America/Detroit:20241027T160000
DTEND;TZID=America/Detroit:20241027T183000
DTSTAMP:20260423T072615
CREATED:20240922T200545Z
LAST-MODIFIED:20241006T165732Z
UID:10000782-1730044800-1730053800@theturningpointoflansing.org
SUMMARY:Parent Session
DESCRIPTION:Hill Vocational Ctr.\, Culinary Class Rm\,
URL:https://theturningpointoflansing.org/upcoming/parent-session-13/2024-10-27/
LOCATION:Lansing Technical High School\, Wise Road 5815\, Lansing\, Michigan\, 48911\, United States
CATEGORIES:Parent Session
ATTACH;FMTTYPE=image/jpeg:https://theturningpointoflansing.org/wp-content/uploads/2024/10/Parent-session.jpg
GEO:42.6728453;-84.5900215
X-APPLE-STRUCTURED-LOCATION;VALUE=URI;X-ADDRESS=Lansing Technical High School Wise Road 5815 Lansing Michigan 48911 United States;X-APPLE-RADIUS=500;X-TITLE=Wise Road 5815:geo:-84.5900215,42.6728453
END:VEVENT
BEGIN:VEVENT
DTSTART;TZID=America/Detroit:20241014T180000
DTEND;TZID=America/Detroit:20241014T190000
DTSTAMP:20260423T072615
CREATED:20240922T200135Z
LAST-MODIFIED:20241006T153059Z
UID:10000781-1728928800-1728932400@theturningpointoflansing.org
SUMMARY:ExamExperts Group Virtual Tutoring
DESCRIPTION:Reading/ELA & Math Monday
URL:https://theturningpointoflansing.org/upcoming/examexperts-group-virtual-tutoring/2024-10-14/
LOCATION:Virtual Online
CATEGORIES:ExamExperts Virtual
ATTACH;FMTTYPE=image/jpeg:https://theturningpointoflansing.org/wp-content/uploads/2024/10/examexperts.jpg
END:VEVENT
BEGIN:VEVENT
DTSTART;TZID=America/Detroit:20241013T160000
DTEND;TZID=America/Detroit:20241013T183000
DTSTAMP:20260423T072615
CREATED:20240922T195153Z
LAST-MODIFIED:20241006T144544Z
UID:10000779-1728835200-1728844200@theturningpointoflansing.org
SUMMARY:Student Session
DESCRIPTION:Culinary Class Rm.
URL:https://theturningpointoflansing.org/upcoming/student-session-15/2024-10-13/
LOCATION:Lansing Technical High School\, Wise Road 5815\, Lansing\, Michigan\, 48911\, United States
CATEGORIES:Student Session
ATTACH;FMTTYPE=image/jpeg:https://theturningpointoflansing.org/wp-content/uploads/2024/09/GettyImages-1408304017.jpg
GEO:42.6728453;-84.5900215
X-APPLE-STRUCTURED-LOCATION;VALUE=URI;X-ADDRESS=Lansing Technical High School Wise Road 5815 Lansing Michigan 48911 United States;X-APPLE-RADIUS=500;X-TITLE=Wise Road 5815:geo:-84.5900215,42.6728453
END:VEVENT
BEGIN:VEVENT
DTSTART;TZID=America/Detroit:20240929T160000
DTEND;TZID=America/Detroit:20240929T183000
DTSTAMP:20260423T072615
CREATED:20240922T194919Z
LAST-MODIFIED:20240922T194919Z
UID:10000778-1727625600-1727634600@theturningpointoflansing.org
SUMMARY:Recreational & Family Community Cookout Event
DESCRIPTION:
URL:https://theturningpointoflansing.org/upcoming/recreational-family-community-cookout-event/
LOCATION:About Us
CATEGORIES:Recreational Session
END:VEVENT
BEGIN:VEVENT
DTSTART;TZID=America/Detroit:20240928T130000
DTEND;TZID=America/Detroit:20240928T150000
DTSTAMP:20260423T072615
CREATED:20240922T194425Z
LAST-MODIFIED:20240922T194425Z
UID:10000776-1727528400-1727535600@theturningpointoflansing.org
SUMMARY:Financial Aid Workshop #1
DESCRIPTION:Parents Only
URL:https://theturningpointoflansing.org/upcoming/financial-aid-workshop-1/
LOCATION:Board of Directors
CATEGORIES:Financial Aid Workshop
END:VEVENT
BEGIN:VEVENT
DTSTART;TZID=America/Detroit:20240922T130000
DTEND;TZID=America/Detroit:20240922T150000
DTSTAMP:20260423T072615
CREATED:20240922T195340Z
LAST-MODIFIED:20240922T195340Z
UID:10000780-1727010000-1727017200@theturningpointoflansing.org
SUMMARY:Mental Health Workshop
DESCRIPTION:Mental Health Workshop “Self-Care Strategies”
URL:https://theturningpointoflansing.org/upcoming/mental-health-workshop/
LOCATION:Board of Directors
CATEGORIES:Mental Health Workshop
END:VEVENT
BEGIN:VEVENT
DTSTART;TZID=America/Detroit:20240921T130000
DTEND;TZID=America/Detroit:20240921T150000
DTSTAMP:20260423T072615
CREATED:20240922T194042Z
LAST-MODIFIED:20240922T194042Z
UID:10000775-1726923600-1726930800@theturningpointoflansing.org
SUMMARY:ExamExperts Course
DESCRIPTION:
URL:https://theturningpointoflansing.org/upcoming/examexperts-course-3/2024-09-21/
LOCATION:Board of Directors
CATEGORIES:ExamExperts
END:VEVENT
BEGIN:VEVENT
DTSTART;TZID=America/Detroit:20240915T160000
DTEND;TZID=America/Detroit:20240915T173000
DTSTAMP:20260423T072615
CREATED:20240922T193418Z
LAST-MODIFIED:20240922T193418Z
UID:10000774-1726416000-1726421400@theturningpointoflansing.org
SUMMARY:Program Kick-Off Meeting
DESCRIPTION:
URL:https://theturningpointoflansing.org/upcoming/program-kick-off-meeting-2-2/
LOCATION:Lansing Technical High School\, Wise Road 5815\, Lansing\, Michigan\, 48911\, United States
GEO:42.6728453;-84.5900215
X-APPLE-STRUCTURED-LOCATION;VALUE=URI;X-ADDRESS=Lansing Technical High School Wise Road 5815 Lansing Michigan 48911 United States;X-APPLE-RADIUS=500;X-TITLE=Wise Road 5815:geo:-84.5900215,42.6728453
END:VEVENT
BEGIN:VEVENT
DTSTART;TZID=America/Detroit:20240915T160000
DTEND;TZID=America/Detroit:20240915T173000
DTSTAMP:20260423T072615
CREATED:20240915T005611Z
LAST-MODIFIED:20240915T005611Z
UID:10000560-1726416000-1726421400@theturningpointoflansing.org
SUMMARY:Program Kick-Off Meeting
DESCRIPTION:
URL:https://theturningpointoflansing.org/upcoming/program-kick-off-meeting-3/
LOCATION:Lansing Technical High School\, Wise Road 5815\, Lansing\, Michigan\, 48911\, United States
GEO:42.6728453;-84.5900215
X-APPLE-STRUCTURED-LOCATION;VALUE=URI;X-ADDRESS=Lansing Technical High School Wise Road 5815 Lansing Michigan 48911 United States;X-APPLE-RADIUS=500;X-TITLE=Wise Road 5815:geo:-84.5900215,42.6728453
END:VEVENT
BEGIN:VEVENT
DTSTART;TZID=America/Detroit:20240522T190000
DTEND;TZID=America/Detroit:20240522T203000
DTSTAMP:20260423T072615
CREATED:20240112T232037Z
LAST-MODIFIED:20240112T232037Z
UID:10000773-1716404400-1716409800@theturningpointoflansing.org
SUMMARY:Rites of Passage Ceremony
DESCRIPTION:Harry Hill Vocational Ctr. “Auditorium” (All Students Participates) “COMPLETING THE TASK”
URL:https://theturningpointoflansing.org/upcoming/rites-of-passage-ceremony-3-2/
LOCATION:Lansing Technical High School\, Wise Road 5815\, Lansing\, Michigan\, 48911\, United States
CATEGORIES:Rites of Passage Ceremony
GEO:42.6728453;-84.5900215
X-APPLE-STRUCTURED-LOCATION;VALUE=URI;X-ADDRESS=Lansing Technical High School Wise Road 5815 Lansing Michigan 48911 United States;X-APPLE-RADIUS=500;X-TITLE=Wise Road 5815:geo:-84.5900215,42.6728453
END:VEVENT
BEGIN:VEVENT
DTSTART;TZID=America/Detroit:20240521T180000
DTEND;TZID=America/Detroit:20240521T193000
DTSTAMP:20260423T072615
CREATED:20240112T231854Z
LAST-MODIFIED:20240112T231854Z
UID:10000772-1716314400-1716319800@theturningpointoflansing.org
SUMMARY:Rites of Passage Ceremony Practice
DESCRIPTION:Harry Hill Vocational Ctr. “Auditorium” (All Students Participates) “ROP PREPARATION”
URL:https://theturningpointoflansing.org/upcoming/rites-of-passage-ceremony-practice-3-2/
LOCATION:Lansing Technical High School\, Wise Road 5815\, Lansing\, Michigan\, 48911\, United States
CATEGORIES:Rites of Passage Ceremoney Practice
GEO:42.6728453;-84.5900215
X-APPLE-STRUCTURED-LOCATION;VALUE=URI;X-ADDRESS=Lansing Technical High School Wise Road 5815 Lansing Michigan 48911 United States;X-APPLE-RADIUS=500;X-TITLE=Wise Road 5815:geo:-84.5900215,42.6728453
END:VEVENT
BEGIN:VEVENT
DTSTART;TZID=America/Detroit:20240427T160000
DTEND;TZID=America/Detroit:20240427T183000
DTSTAMP:20260423T072615
CREATED:20241222T230342Z
LAST-MODIFIED:20241222T230342Z
UID:10000812-1714233600-1714242600@theturningpointoflansing.org
SUMMARY:Parent Session
DESCRIPTION:In Community Room.
URL:https://theturningpointoflansing.org/upcoming/parent-session-14/2024-04-27/
LOCATION:Alfreda Schmidt Southside Community Center\, Wise Road 5825\, Lansing\, MI\, 48911\, United States
CATEGORIES:Parent Session
ATTACH;FMTTYPE=image/jpeg:https://theturningpointoflansing.org/wp-content/uploads/2024/10/Parent-session.jpg
GEO:42.6726017;-84.5921649
X-APPLE-STRUCTURED-LOCATION;VALUE=URI;X-ADDRESS=Alfreda Schmidt Southside Community Center Wise Road 5825 Lansing MI 48911 United States;X-APPLE-RADIUS=500;X-TITLE=Wise Road 5825:geo:-84.5921649,42.6726017
END:VEVENT
BEGIN:VEVENT
DTSTART;TZID=America/Detroit:20240425T090000
DTEND;TZID=America/Detroit:20240425T160000
DTSTAMP:20260423T072615
CREATED:20240112T231520Z
LAST-MODIFIED:20240112T231520Z
UID:10000771-1714035600-1714060800@theturningpointoflansing.org
SUMMARY:Earth Day Student Summit
DESCRIPTION:
URL:https://theturningpointoflansing.org/upcoming/earth-day-student-summit/
LOCATION:MI
CATEGORIES:Earth Day
END:VEVENT
BEGIN:VEVENT
DTSTART;VALUE=DATE:20240325
DTEND;VALUE=DATE:20240331
DTSTAMP:20260423T072615
CREATED:20240112T231226Z
LAST-MODIFIED:20240112T231226Z
UID:10000770-1711324800-1711843199@theturningpointoflansing.org
SUMMARY:School Spring Break Activities
DESCRIPTION:TBA
URL:https://theturningpointoflansing.org/upcoming/school-spring-break-activities-3-2/
LOCATION:MI
CATEGORIES:School Spring Break
END:VEVENT
BEGIN:VEVENT
DTSTART;TZID=America/Detroit:20240310T160000
DTEND;TZID=America/Detroit:20240310T183000
DTSTAMP:20260423T072615
CREATED:20240112T231021Z
LAST-MODIFIED:20240112T231021Z
UID:10000769-1710086400-1710095400@theturningpointoflansing.org
SUMMARY:Student/Recreational Session
DESCRIPTION:
URL:https://theturningpointoflansing.org/upcoming/student-recreational-session/
LOCATION:Alfreda Schmidt Southside Community Center\, Wise Road 5825\, Lansing\, MI\, 48911\, United States
CATEGORIES:Recreational Session,Student Session
GEO:42.6726017;-84.5921649
X-APPLE-STRUCTURED-LOCATION;VALUE=URI;X-ADDRESS=Alfreda Schmidt Southside Community Center Wise Road 5825 Lansing MI 48911 United States;X-APPLE-RADIUS=500;X-TITLE=Wise Road 5825:geo:-84.5921649,42.6726017
END:VEVENT
BEGIN:VEVENT
DTSTART;TZID=America/Detroit:20240218T160000
DTEND;TZID=America/Detroit:20240218T183000
DTSTAMP:20260423T072615
CREATED:20240112T230852Z
LAST-MODIFIED:20240112T230852Z
UID:10000768-1708272000-1708281000@theturningpointoflansing.org
SUMMARY:Student Session
DESCRIPTION:
URL:https://theturningpointoflansing.org/upcoming/student-session-14-2/2024-02-18/
LOCATION:Alfreda Schmidt Southside Community Center\, Wise Road 5825\, Lansing\, MI\, 48911\, United States
CATEGORIES:Student Session
GEO:42.6726017;-84.5921649
X-APPLE-STRUCTURED-LOCATION;VALUE=URI;X-ADDRESS=Alfreda Schmidt Southside Community Center Wise Road 5825 Lansing MI 48911 United States;X-APPLE-RADIUS=500;X-TITLE=Wise Road 5825:geo:-84.5921649,42.6726017
END:VEVENT
BEGIN:VEVENT
DTSTART;TZID=America/Detroit:20240128T160000
DTEND;TZID=America/Detroit:20240128T183000
DTSTAMP:20260423T072615
CREATED:20240112T230505Z
LAST-MODIFIED:20240112T230505Z
UID:10000767-1706457600-1706466600@theturningpointoflansing.org
SUMMARY:Recreational Session
DESCRIPTION:
URL:https://theturningpointoflansing.org/upcoming/recreational-session-24-2/2024-01-28/
LOCATION:Alfreda Schmidt Southside Community Center\, Wise Road 5825\, Lansing\, MI\, 48911\, United States
CATEGORIES:Recreational Session
GEO:42.6726017;-84.5921649
X-APPLE-STRUCTURED-LOCATION;VALUE=URI;X-ADDRESS=Alfreda Schmidt Southside Community Center Wise Road 5825 Lansing MI 48911 United States;X-APPLE-RADIUS=500;X-TITLE=Wise Road 5825:geo:-84.5921649,42.6726017
END:VEVENT
BEGIN:VEVENT
DTSTART;TZID=America/Detroit:20240128T160000
DTEND;TZID=America/Detroit:20240128T183000
DTSTAMP:20260423T072615
CREATED:20240112T225109Z
LAST-MODIFIED:20240112T225109Z
UID:10000766-1706457600-1706466600@theturningpointoflansing.org
SUMMARY:Parent Session
DESCRIPTION:
URL:https://theturningpointoflansing.org/upcoming/parent-session-12-2/2024-01-28/
LOCATION:Alfreda Schmidt Southside Community Center\, Wise Road 5825\, Lansing\, MI\, 48911\, United States
CATEGORIES:Parent Session
GEO:42.6726017;-84.5921649
X-APPLE-STRUCTURED-LOCATION;VALUE=URI;X-ADDRESS=Alfreda Schmidt Southside Community Center Wise Road 5825 Lansing MI 48911 United States;X-APPLE-RADIUS=500;X-TITLE=Wise Road 5825:geo:-84.5921649,42.6726017
END:VEVENT
BEGIN:VEVENT
DTSTART;TZID=America/Detroit:20240122T180000
DTEND;TZID=America/Detroit:20240122T190000
DTSTAMP:20260423T072615
CREATED:20240112T224512Z
LAST-MODIFIED:20240112T224512Z
UID:10000765-1705946400-1705950000@theturningpointoflansing.org
SUMMARY:ExamExperts Virtual Tutoring Mondays
DESCRIPTION:
URL:https://theturningpointoflansing.org/upcoming/examexperts-virtual-tutoring/2024-01-22/
LOCATION:MI
CATEGORIES:ExamExperts
END:VEVENT
BEGIN:VEVENT
DTSTART;TZID=America/Detroit:20240120T130000
DTEND;TZID=America/Detroit:20240120T150000
DTSTAMP:20260423T072615
CREATED:20240112T223632Z
LAST-MODIFIED:20240112T223632Z
UID:10000764-1705755600-1705762800@theturningpointoflansing.org
SUMMARY:ExamExperts Course Saturdays
DESCRIPTION:
URL:https://theturningpointoflansing.org/upcoming/examexperts-course-2-2/2024-01-20/
LOCATION:Board of Directors
CATEGORIES:ExamExperts
END:VEVENT
END:VCALENDAR