BEGIN:VCALENDAR
VERSION:2.0
PRODID:-//The Turning Point of Lansing - ECPv6.15.20//NONSGML v1.0//EN
CALSCALE:GREGORIAN
METHOD:PUBLISH
X-ORIGINAL-URL:https://theturningpointoflansing.org
X-WR-CALDESC:Events for The Turning Point of Lansing
REFRESH-INTERVAL;VALUE=DURATION:PT1H
X-Robots-Tag:noindex
X-PUBLISHED-TTL:PT1H
BEGIN:VTIMEZONE
TZID:America/Detroit
BEGIN:DAYLIGHT
TZOFFSETFROM:-0500
TZOFFSETTO:-0400
TZNAME:EDT
DTSTART:20220313T070000
END:DAYLIGHT
BEGIN:STANDARD
TZOFFSETFROM:-0400
TZOFFSETTO:-0500
TZNAME:EST
DTSTART:20221106T060000
END:STANDARD
BEGIN:DAYLIGHT
TZOFFSETFROM:-0500
TZOFFSETTO:-0400
TZNAME:EDT
DTSTART:20230312T070000
END:DAYLIGHT
BEGIN:STANDARD
TZOFFSETFROM:-0400
TZOFFSETTO:-0500
TZNAME:EST
DTSTART:20231105T060000
END:STANDARD
BEGIN:DAYLIGHT
TZOFFSETFROM:-0500
TZOFFSETTO:-0400
TZNAME:EDT
DTSTART:20240310T070000
END:DAYLIGHT
BEGIN:STANDARD
TZOFFSETFROM:-0400
TZOFFSETTO:-0500
TZNAME:EST
DTSTART:20241103T060000
END:STANDARD
END:VTIMEZONE
BEGIN:VEVENT
DTSTART;TZID=America/Detroit:20230521T160000
DTEND;TZID=America/Detroit:20230521T183000
DTSTAMP:20260422T182331
CREATED:20221119T183654Z
LAST-MODIFIED:20221119T183654Z
UID:10000349-1684684800-1684693800@theturningpointoflansing.org
SUMMARY:Student Session
DESCRIPTION:
URL:https://theturningpointoflansing.org/upcoming/student-session-11/
LOCATION:Lansing Technical High School\, Wise Road 5815\, Lansing\, Michigan\, 48911\, United States
CATEGORIES:Student Session
GEO:42.6728453;-84.5900215
X-APPLE-STRUCTURED-LOCATION;VALUE=URI;X-ADDRESS=Lansing Technical High School Wise Road 5815 Lansing Michigan 48911 United States;X-APPLE-RADIUS=500;X-TITLE=Wise Road 5815:geo:-84.5900215,42.6728453
END:VEVENT
BEGIN:VEVENT
DTSTART;TZID=America/Detroit:20230521T160000
DTEND;TZID=America/Detroit:20230521T183000
DTSTAMP:20260422T182331
CREATED:20221119T183654Z
LAST-MODIFIED:20221119T183654Z
UID:10000541-1684684800-1684693800@theturningpointoflansing.org
SUMMARY:Student Session
DESCRIPTION:
URL:https://theturningpointoflansing.org/upcoming/student-session-11-2/
LOCATION:Lansing Technical High School\, Wise Road 5815\, Lansing\, Michigan\, 48911\, United States
CATEGORIES:Student Session
GEO:42.6728453;-84.5900215
X-APPLE-STRUCTURED-LOCATION;VALUE=URI;X-ADDRESS=Lansing Technical High School Wise Road 5815 Lansing Michigan 48911 United States;X-APPLE-RADIUS=500;X-TITLE=Wise Road 5815:geo:-84.5900215,42.6728453
END:VEVENT
BEGIN:VEVENT
DTSTART;TZID=America/Detroit:20230521T160000
DTEND;TZID=America/Detroit:20230521T183000
DTSTAMP:20260422T182331
CREATED:20221119T183654Z
LAST-MODIFIED:20221119T183654Z
UID:10000744-1684684800-1684693800@theturningpointoflansing.org
SUMMARY:Student Session
DESCRIPTION:
URL:https://theturningpointoflansing.org/upcoming/student-session-11-3/
LOCATION:Lansing Technical High School\, Wise Road 5815\, Lansing\, Michigan\, 48911\, United States
CATEGORIES:Student Session
GEO:42.6728453;-84.5900215
X-APPLE-STRUCTURED-LOCATION;VALUE=URI;X-ADDRESS=Lansing Technical High School Wise Road 5815 Lansing Michigan 48911 United States;X-APPLE-RADIUS=500;X-TITLE=Wise Road 5815:geo:-84.5900215,42.6728453
END:VEVENT
END:VCALENDAR