BEGIN:VCALENDAR
VERSION:2.0
PRODID:-//The Turning Point of Lansing - ECPv6.15.20//NONSGML v1.0//EN
CALSCALE:GREGORIAN
METHOD:PUBLISH
X-ORIGINAL-URL:https://theturningpointoflansing.org
X-WR-CALDESC:Events for The Turning Point of Lansing
REFRESH-INTERVAL;VALUE=DURATION:PT1H
X-Robots-Tag:noindex
X-PUBLISHED-TTL:PT1H
BEGIN:VTIMEZONE
TZID:America/Detroit
BEGIN:DAYLIGHT
TZOFFSETFROM:-0500
TZOFFSETTO:-0400
TZNAME:EDT
DTSTART:20220313T070000
END:DAYLIGHT
BEGIN:STANDARD
TZOFFSETFROM:-0400
TZOFFSETTO:-0500
TZNAME:EST
DTSTART:20221106T060000
END:STANDARD
BEGIN:DAYLIGHT
TZOFFSETFROM:-0500
TZOFFSETTO:-0400
TZNAME:EDT
DTSTART:20230312T070000
END:DAYLIGHT
BEGIN:STANDARD
TZOFFSETFROM:-0400
TZOFFSETTO:-0500
TZNAME:EST
DTSTART:20231105T060000
END:STANDARD
BEGIN:DAYLIGHT
TZOFFSETFROM:-0500
TZOFFSETTO:-0400
TZNAME:EDT
DTSTART:20240310T070000
END:DAYLIGHT
BEGIN:STANDARD
TZOFFSETFROM:-0400
TZOFFSETTO:-0500
TZNAME:EST
DTSTART:20241103T060000
END:STANDARD
END:VTIMEZONE
BEGIN:VEVENT
DTSTART;TZID=America/Detroit:20230524T190000
DTEND;TZID=America/Detroit:20230524T203000
DTSTAMP:20260422T182942
CREATED:20221119T183934Z
LAST-MODIFIED:20221119T183934Z
UID:10000351-1684954800-1684960200@theturningpointoflansing.org
SUMMARY:Rites of Passage Senior Celebration
DESCRIPTION:
URL:https://theturningpointoflansing.org/upcoming/rites-of-passage-senior-celebration/
LOCATION:Lansing Technical High School\, Wise Road 5815\, Lansing\, Michigan\, 48911\, United States
CATEGORIES:Rites of Passage Ceremony
GEO:42.6728453;-84.5900215
X-APPLE-STRUCTURED-LOCATION;VALUE=URI;X-ADDRESS=Lansing Technical High School Wise Road 5815 Lansing Michigan 48911 United States;X-APPLE-RADIUS=500;X-TITLE=Wise Road 5815:geo:-84.5900215,42.6728453
END:VEVENT
BEGIN:VEVENT
DTSTART;TZID=America/Detroit:20230524T190000
DTEND;TZID=America/Detroit:20230524T203000
DTSTAMP:20260422T182942
CREATED:20221119T183934Z
LAST-MODIFIED:20221119T183934Z
UID:10000543-1684954800-1684960200@theturningpointoflansing.org
SUMMARY:Rites of Passage Senior Celebration
DESCRIPTION:
URL:https://theturningpointoflansing.org/upcoming/rites-of-passage-senior-celebration-2/
LOCATION:Lansing Technical High School\, Wise Road 5815\, Lansing\, Michigan\, 48911\, United States
CATEGORIES:Rites of Passage Ceremony
GEO:42.6728453;-84.5900215
X-APPLE-STRUCTURED-LOCATION;VALUE=URI;X-ADDRESS=Lansing Technical High School Wise Road 5815 Lansing Michigan 48911 United States;X-APPLE-RADIUS=500;X-TITLE=Wise Road 5815:geo:-84.5900215,42.6728453
END:VEVENT
BEGIN:VEVENT
DTSTART;TZID=America/Detroit:20230524T190000
DTEND;TZID=America/Detroit:20230524T203000
DTSTAMP:20260422T182942
CREATED:20221119T183934Z
LAST-MODIFIED:20221119T183934Z
UID:10000746-1684954800-1684960200@theturningpointoflansing.org
SUMMARY:Rites of Passage Senior Celebration
DESCRIPTION:
URL:https://theturningpointoflansing.org/upcoming/rites-of-passage-senior-celebration-3/
LOCATION:Lansing Technical High School\, Wise Road 5815\, Lansing\, Michigan\, 48911\, United States
CATEGORIES:Rites of Passage Ceremony
GEO:42.6728453;-84.5900215
X-APPLE-STRUCTURED-LOCATION;VALUE=URI;X-ADDRESS=Lansing Technical High School Wise Road 5815 Lansing Michigan 48911 United States;X-APPLE-RADIUS=500;X-TITLE=Wise Road 5815:geo:-84.5900215,42.6728453
END:VEVENT
END:VCALENDAR