BEGIN:VCALENDAR
VERSION:2.0
PRODID:-//The Turning Point of Lansing - ECPv6.15.20//NONSGML v1.0//EN
CALSCALE:GREGORIAN
METHOD:PUBLISH
X-ORIGINAL-URL:https://theturningpointoflansing.org
X-WR-CALDESC:Events for The Turning Point of Lansing
REFRESH-INTERVAL;VALUE=DURATION:PT1H
X-Robots-Tag:noindex
X-PUBLISHED-TTL:PT1H
BEGIN:VTIMEZONE
TZID:America/Detroit
BEGIN:DAYLIGHT
TZOFFSETFROM:-0500
TZOFFSETTO:-0400
TZNAME:EDT
DTSTART:20190310T070000
END:DAYLIGHT
BEGIN:STANDARD
TZOFFSETFROM:-0400
TZOFFSETTO:-0500
TZNAME:EST
DTSTART:20191103T060000
END:STANDARD
BEGIN:DAYLIGHT
TZOFFSETFROM:-0500
TZOFFSETTO:-0400
TZNAME:EDT
DTSTART:20200308T070000
END:DAYLIGHT
BEGIN:STANDARD
TZOFFSETFROM:-0400
TZOFFSETTO:-0500
TZNAME:EST
DTSTART:20201101T060000
END:STANDARD
BEGIN:DAYLIGHT
TZOFFSETFROM:-0500
TZOFFSETTO:-0400
TZNAME:EDT
DTSTART:20210314T070000
END:DAYLIGHT
BEGIN:STANDARD
TZOFFSETFROM:-0400
TZOFFSETTO:-0500
TZNAME:EST
DTSTART:20211107T060000
END:STANDARD
BEGIN:DAYLIGHT
TZOFFSETFROM:-0500
TZOFFSETTO:-0400
TZNAME:EDT
DTSTART:20220313T070000
END:DAYLIGHT
BEGIN:STANDARD
TZOFFSETFROM:-0400
TZOFFSETTO:-0500
TZNAME:EST
DTSTART:20221106T060000
END:STANDARD
BEGIN:DAYLIGHT
TZOFFSETFROM:-0500
TZOFFSETTO:-0400
TZNAME:EDT
DTSTART:20230312T070000
END:DAYLIGHT
BEGIN:STANDARD
TZOFFSETFROM:-0400
TZOFFSETTO:-0500
TZNAME:EST
DTSTART:20231105T060000
END:STANDARD
END:VTIMEZONE
BEGIN:VEVENT
DTSTART;TZID=America/Detroit:20200620T060000
DTEND;TZID=America/Detroit:20200620T150000
DTSTAMP:20260422T060548
CREATED:20191125T001330Z
LAST-MODIFIED:20191125T001333Z
UID:10000288-1592632800-1592665200@theturningpointoflansing.org
SUMMARY:2020 Juneteenth Freedom Festival
DESCRIPTION:Location to be announced
URL:https://theturningpointoflansing.org/upcoming/2020-juneteenth-freedom-festival/
LOCATION:MI
CATEGORIES:Juneteenth
END:VEVENT
BEGIN:VEVENT
DTSTART;TZID=America/Detroit:20200620T060000
DTEND;TZID=America/Detroit:20200620T150000
DTSTAMP:20260422T060548
CREATED:20191125T001330Z
LAST-MODIFIED:20191125T001330Z
UID:10000485-1592632800-1592665200@theturningpointoflansing.org
SUMMARY:2020 Juneteenth Freedom Festival
DESCRIPTION:Location to be announced
URL:https://theturningpointoflansing.org/upcoming/2020-juneteenth-freedom-festival-3/
LOCATION:MI
CATEGORIES:Juneteenth
END:VEVENT
BEGIN:VEVENT
DTSTART;TZID=America/Detroit:20200620T060000
DTEND;TZID=America/Detroit:20200620T150000
DTSTAMP:20260422T060548
CREATED:20191125T001330Z
LAST-MODIFIED:20191125T001330Z
UID:10000689-1592632800-1592665200@theturningpointoflansing.org
SUMMARY:2020 Juneteenth Freedom Festival
DESCRIPTION:Location to be announced
URL:https://theturningpointoflansing.org/upcoming/2020-juneteenth-freedom-festival-4/
LOCATION:MI
CATEGORIES:Juneteenth
END:VEVENT
BEGIN:VEVENT
DTSTART;TZID=America/Detroit:20220618T000000
DTEND;TZID=America/Detroit:20220618T235959
DTSTAMP:20260422T060548
CREATED:20220122T164603Z
LAST-MODIFIED:20220122T164604Z
UID:10000317-1655510400-1655596799@theturningpointoflansing.org
SUMMARY:2020 Juneteenth Freedom Festival
DESCRIPTION:
URL:https://theturningpointoflansing.org/upcoming/2020-juneteenth-freedom-festival-2/
LOCATION:MI
CATEGORIES:Juneteenth
END:VEVENT
BEGIN:VEVENT
DTSTART;TZID=America/Detroit:20220618T000000
DTEND;TZID=America/Detroit:20220618T235959
DTSTAMP:20260422T060548
CREATED:20220122T164603Z
LAST-MODIFIED:20220122T164603Z
UID:10000514-1655510400-1655596799@theturningpointoflansing.org
SUMMARY:2020 Juneteenth Freedom Festival
DESCRIPTION:
URL:https://theturningpointoflansing.org/upcoming/2020-juneteenth-freedom-festival-2-2/
LOCATION:MI
CATEGORIES:Juneteenth
END:VEVENT
BEGIN:VEVENT
DTSTART;TZID=America/Detroit:20220618T000000
DTEND;TZID=America/Detroit:20220618T235959
DTSTAMP:20260422T060548
CREATED:20220122T164603Z
LAST-MODIFIED:20220122T164603Z
UID:10000718-1655510400-1655596799@theturningpointoflansing.org
SUMMARY:2020 Juneteenth Freedom Festival
DESCRIPTION:
URL:https://theturningpointoflansing.org/upcoming/2020-juneteenth-freedom-festival-2-3/
LOCATION:MI
CATEGORIES:Juneteenth
END:VEVENT
END:VCALENDAR