BEGIN:VCALENDAR
VERSION:2.0
PRODID:-//The Turning Point of Lansing - ECPv6.15.20//NONSGML v1.0//EN
CALSCALE:GREGORIAN
METHOD:PUBLISH
X-ORIGINAL-URL:https://theturningpointoflansing.org
X-WR-CALDESC:Events for The Turning Point of Lansing
REFRESH-INTERVAL;VALUE=DURATION:PT1H
X-Robots-Tag:noindex
X-PUBLISHED-TTL:PT1H
BEGIN:VTIMEZONE
TZID:America/Detroit
BEGIN:DAYLIGHT
TZOFFSETFROM:-0500
TZOFFSETTO:-0400
TZNAME:EDT
DTSTART:20250309T070000
END:DAYLIGHT
BEGIN:STANDARD
TZOFFSETFROM:-0400
TZOFFSETTO:-0500
TZNAME:EST
DTSTART:20251102T060000
END:STANDARD
BEGIN:DAYLIGHT
TZOFFSETFROM:-0500
TZOFFSETTO:-0400
TZNAME:EDT
DTSTART:20260308T070000
END:DAYLIGHT
BEGIN:STANDARD
TZOFFSETFROM:-0400
TZOFFSETTO:-0500
TZNAME:EST
DTSTART:20261101T060000
END:STANDARD
BEGIN:DAYLIGHT
TZOFFSETFROM:-0500
TZOFFSETTO:-0400
TZNAME:EDT
DTSTART:20270314T070000
END:DAYLIGHT
BEGIN:STANDARD
TZOFFSETFROM:-0400
TZOFFSETTO:-0500
TZNAME:EST
DTSTART:20271107T060000
END:STANDARD
END:VTIMEZONE
BEGIN:VEVENT
DTSTART;VALUE=DATE:20260330
DTEND;VALUE=DATE:20260406
DTSTAMP:20260422T044044
CREATED:20251217T202915Z
LAST-MODIFIED:20251219T205636Z
UID:10000867-1774828800-1775433599@theturningpointoflansing.org
SUMMARY:School Spring Break Activities
DESCRIPTION:
URL:https://theturningpointoflansing.org/upcoming/school-spring-break-activities-6/
LOCATION:MI
CATEGORIES:School Spring Break
ATTACH;FMTTYPE=image/jpeg:https://theturningpointoflansing.org/wp-content/uploads/2025/12/qtq80-XqKY0O.jpeg
END:VEVENT
BEGIN:VEVENT
DTSTART;TZID=America/Detroit:20260402T100000
DTEND;TZID=America/Detroit:20260402T113000
DTSTAMP:20260422T044044
CREATED:20251219T210629Z
LAST-MODIFIED:20251219T211307Z
UID:10000874-1775124000-1775129400@theturningpointoflansing.org
SUMMARY:Facility for Rare Isotope Beams (FRIB)Tour
DESCRIPTION:At the Facility for Rare Isotope Beams (FRIB) at Michigan State University.
URL:https://theturningpointoflansing.org/upcoming/facility-for-rare-isotope-beams-fribtour/
LOCATION:Facility for Rare Isotope Beams\, 640 South Shaw Lane \, East Lansing\, MI\, 48824\, United States
ATTACH;FMTTYPE=image/jpeg:https://theturningpointoflansing.org/wp-content/uploads/2023/09/upcomingevent.jpg
GEO:42.7249316;-84.4744801
X-APPLE-STRUCTURED-LOCATION;VALUE=URI;X-ADDRESS=Facility for Rare Isotope Beams 640 South Shaw Lane  East Lansing MI 48824 United States;X-APPLE-RADIUS=500;X-TITLE=640 South Shaw Lane :geo:-84.4744801,42.7249316
END:VEVENT
END:VCALENDAR